Workbook
Name more: BleacherGM!#REF!

Sheet 2012 PRELIMINARY RANKINGS
B2: 2012 PLAYER RANKINGS
B4: ESPN | C4: RC | D4: RS | E4: BGM | F4: AVG | G4: RANK | H4: Player | I4: O Status | J4: Position | K4: Team | L4: Age | M4: 2011 Player Rater | N4: Auction$ | O4: 2011 Stats | P4: OBFBL Team | Q4: O Team Throwback
B5: =IFERROR(VLOOKUP($H5,ESPN!$B$2:$G$251,2,FALSE),"") -> 1 | C5: =IFERROR(VLOOKUP($H5,RotoChamp!$B$3:$F$302,2,FALSE),"") -> 5 | D5: =IFERROR(VLOOKUP($H5,RotoSummit!$B$4:$G$253,2,FALSE),"") -> 1 | E5: =IFERROR(VLOOKUP($H5,BleacherGM!$B$2:$E$276,2,FALSE),"") -> 2 | F5: =AVERAGE(B5:E5) -> 2.25 | G5: =ROW()-4 -> 1 | H5: Ryan Braun | I5: K | J5: OF | K5: MIL | L5: =IFERROR(VLOOKUP($H5,ESPN!$B$2:$G$251,5,FALSE),"ERROR") -> 28 | M5: =IFERROR(VLOOKUP($H5,ESPN!$B$2:$G$251,6,FALSE),"") -> 3 | N5: 43.59 | O5: =IFERROR(VLOOKUP($H5,BleacherGM!$B$2:$E$276,4,FALSE),"") -> .332-33-111 33SB 109R | P5: WPD
B6: =IFERROR(VLOOKUP($H6,ESPN!$B$2:$G$251,2,FALSE),"") -> 2 | C6: =IFERROR(VLOOKUP($H6,RotoChamp!$B$3:$F$302,2,FALSE),"") -> 3 | D6: =IFERROR(VLOOKUP($H6,RotoSummit!$B$4:$G$253,2,FALSE),"") -> 3 | E6: =IFERROR(VLOOKUP($H6,BleacherGM!$B$2:$E$276,2,FALSE),"") -> 3 | F6: =AVERAGE(B6:E6) -> 2.75 | G6: =ROW()-4 -> 2 | H6: Albert Pujols | I6: K | J6: 1B | K6: LAA | L6: =IFERROR(VLOOKUP($H6,ESPN!$B$2:$G$251,5,FALSE),"ERROR") -> 32 | M6: =IFERROR(VLOOKUP($H6,ESPN!$B$2:$G$251,6,FALSE),"") -> 14 | N6: 45.12 | O6: =IFERROR(VLOOKUP($H6,BleacherGM!$B$2:$E$276,4,FALSE),"") -> .299-37-99 9SB 105R | P6: PD
B7: =IFERROR(VLOOKUP($H7,ESPN!$B$2:$G$251,2,FALSE),"") -> 3 | C7: =IFERROR(VLOOKUP($H7,RotoChamp!$B$3:$F$302,2,FALSE),"") -> 1 | D7: =IFERROR(VLOOKUP($H7,RotoSummit!$B$4:$G$253,2,FALSE),"") -> 4 | E7: =IFERROR(VLOOKUP($H7,BleacherGM!$B$2:$E$276,2,FALSE),"") -> 4 | F7: =AVERAGE(B7:E7) -> 3 | G7: =ROW()-4 -> 3 | H7: Miguel Cabrera | I7: K | J7: 1B | K7: DET | L7: =IFERROR(VLOOKUP($H7,ESPN!$B$2:$G$251,5,FALSE),"ERROR") -> 28 | M7: =IFERROR(VLOOKUP($H7,ESPN!$B$2:$G$251,6,FALSE),"") -> 7 | N7: 48.62 | O7: =IFERROR(VLOOKUP($H7,BleacherGM!$B$2:$E$276,4,FALSE),"") -> .346-30-105 2SB 111R | P7: PD
B8: =IFERROR(VLOOKUP($H8,ESPN!$B$2:$G$251,2,FALSE),"") -> 6 | C8: =IFERROR(VLOOKUP($H8,RotoChamp!$B$3:$F$302,2,FALSE),"") -> 7 | D8: =IFERROR(VLOOKUP($H8,RotoSummit!$B$4:$G$253,2,FALSE),"") -> 2 | E8: =IFERROR(VLOOKUP($H8,BleacherGM!$B$2:$E$276,2,FALSE),"") -> 1 | F8: =AVERAGE(B8:E8) -> 4 | G8: =ROW()-4 -> 4 | H8: Matt Kemp | I8: K | J8: OF | K8: LAD | L8: =IFERROR(VLOOKUP($H8,ESPN!$B$2:$G$251,5,FALSE),"ERROR") -> 27 | M8: =IFERROR(VLOOKUP($H8,ESPN!$B$2:$G$251,6,FALSE),"") -> 1 | N8: 42.52 | O8: =IFERROR(VLOOKUP($H8,BleacherGM!$B$2:$E$276,4,FALSE),"") -> .321-39-125 39SB 115R | P8: BL
B9: =IFERROR(VLOOKUP($H9,ESPN!$B$2:$G$251,2,FALSE),"") -> 5 | C9: =IFERROR(VLOOKUP($H9,RotoChamp!$B$3:$F$302,2,FALSE),"") -> 8 | D9: =IFERROR(VLOOKUP($H9,RotoSummit!$B$4:$G$253,2,FALSE),"") -> 9 | E9: =IFERROR(VLOOKUP($H9,BleacherGM!$B$2:$E$276,2,FALSE),"") -> 6 | F9: =AVERAGE(B9:E9) -> 7 | G9: =ROW()-4 -> 5 | H9: Troy Tulowitzki | I9: K | J9: SS | K9: COL | L9: =IFERROR(VLOOKUP($H9,ESPN!$B$2:$G$251,5,FALSE),"ERROR") -> 27 | M9: =IFERROR(VLOOKUP($H9,ESPN!$B$2:$G$251,6,FALSE),"") -> 30 | N9: 40.05 | O9: =IFERROR(VLOOKUP($H9,BleacherGM!$B$2:$E$276,4,FALSE),"") -> .302-30-105 9SB 81R | P9: DDD
B10: =IFERROR(VLOOKUP($H10,ESPN!$B$2:$G$251,2,FALSE),"") -> 13 | C10: =IFERROR(VLOOKUP($H10,RotoChamp!$B$3:$F$302,2,FALSE),"") -> 4 | D10: =IFERROR(VLOOKUP($H10,RotoSummit!$B$4:$G$253,2,FALSE),"") -> 6 | E10: =IFERROR(VLOOKUP($H10,BleacherGM!$B$2:$E$276,2,FALSE),"") -> 7 | F10: =AVERAGE(B10:E10) -> 7.5 | G10: =ROW()-4 -> 6 | H10: Jacoby Ellsbury | I10: K | J10: OF | K10: BOS | L10: =IFERROR(VLOOKUP($H10,ESPN!$B$2:$G$251,5,FALSE),"ERROR") -> 28 | M10: =IFERROR(VLOOKUP($H10,ESPN!$B$2:$G$251,6,FALSE),"") -> 2 | N10: 44.34 | O10: =IFERROR(VLOOKUP($H10,BleacherGM!$B$2:$E$276,4,FALSE),"") -> .321-32-105 39SB 119R | P10: BL
B11: =IFERROR(VLOOKUP($H11,ESPN!$B$2:$G$251,2,FALSE),"") -> 9 | C11: =IFERROR(VLOOKUP($H11,RotoChamp!$B$3:$F$302,2,FALSE),"") -> 12 | D11: =IFERROR(VLOOKUP($H11,RotoSummit!$B$4:$G$253,2,FALSE),"") -> 5 | E11: =IFERROR(VLOOKUP($H11,BleacherGM!$B$2:$E$276,2,FALSE),"") -> 5 | F11: =AVERAGE(B11:E11) -> 7.75 | G11: =ROW()-4 -> 7 | H11: Jose Bautista | I11: K | J11: 3B,OF | K11: TOR | L11: =IFERROR(VLOOKUP($H11,ESPN!$B$2:$G$251,5,FALSE),"ERROR") -> 31 | M11: =IFERROR(VLOOKUP($H11,ESPN!$B$2:$G$251,6,FALSE),"") -> 9 | N11: 37.5 | O11: =IFERROR(VLOOKUP($H11,BleacherGM!$B$2:$E$276,4,FALSE),"") -> .302-43-103 9SB 105R | P11: AAH
B12: =IFERROR(VLOOKUP($H12,ESPN!$B$2:$G$251,2,FALSE),"") -> 12 | C12: =IFERROR(VLOOKUP($H12,RotoChamp!$B$3:$F$302,2,FALSE),"") -> 2 | D12: =IFERROR(VLOOKUP($H12,RotoSummit!$B$4:$G$253,2,FALSE),"") -> 8 | E12: =IFERROR(VLOOKUP($H12,BleacherGM!$B$2:$E$276,2,FALSE),"") -> 12 | F12: =AVERAGE(B12:E12) -> 8.5 | G12: =ROW()-4 -> 8 | H12: Joey Votto | I12: K | J12: 1B | K12: CIN | L12: =IFERROR(VLOOKUP($H12,ESPN!$B$2:$G$251,5,FALSE),"ERROR") -> 28 | M12: =IFERROR(VLOOKUP($H12,ESPN!$B$2:$G$251,6,FALSE),"") -> 18 | N12: 45.2 | O12: =IFERROR(VLOOKUP($H12,BleacherGM!$B$2:$E$276,4,FALSE),"") -> .309-29-103 8SB 101R | P12: ASS
B13: =IFERROR(VLOOKUP($H13,ESPN!$B$2:$G$251,2,FALSE),"") -> 4 | C13: =IFERROR(VLOOKUP($H13,RotoChamp!$B$3:$F$302,2,FALSE),"") -> 11 | D13: =IFERROR(VLOOKUP($H13,RotoSummit!$B$4:$G$253,2,FALSE),"") -> 14 | E13: =IFERROR(VLOOKUP($H13,BleacherGM!$B$2:$E$276,2,FALSE),"") -> 8 | F13: =AVERAGE(B13:E13) -> 9.25 | G13: =ROW()-4 -> 9 | H13: Adrian Gonzalez | I13: K | J13: 1B | K13: BOS | L13: =IFERROR(VLOOKUP($H13,ESPN!$B$2:$G$251,5,FALSE),"ERROR") -> 29 | M13: =IFERROR(VLOOKUP($H13,ESPN!$B$2:$G$251,6,FALSE),"") -> 8 | N13: 38.45 | O13: =IFERROR(VLOOKUP($H13,BleacherGM!$B$2:$E$276,4,FALSE),"") -> .338-27-117 1SB 108R | P13: ASS
B14: =IFERROR(VLOOKUP($H14,ESPN!$B$2:$G$251,2,FALSE),"") -> 10 | C14: =IFERROR(VLOOKUP($H14,RotoChamp!$B$3:$F$302,2,FALSE),"") -> 14 | D14: =IFERROR(VLOOKUP($H14,RotoSummit!$B$4:$G$253,2,FALSE),"") -> 7 | E14: =IFERROR(VLOOKUP($H14,BleacherGM!$B$2:$E$276,2,FALSE),"") -> 9 | F14: =AVERAGE(B14:E14) -> 10 | G14: =ROW()-4 -> 10 | H14: Robinson Cano | I14: K | J14: 2B | K14: NYY | L14: =IFERROR(VLOOKUP($H14,ESPN!$B$2:$G$251,5,FALSE),"ERROR") -> 29 | M14: =IFERROR(VLOOKUP($H14,ESPN!$B$2:$G$251,6,FALSE),"") -> 16 | N14: 36.55 | O14: =IFERROR(VLOOKUP($H14,BleacherGM!$B$2:$E$276,4,FALSE),"") -> .302-28-118 8SB 104R | P14: EC
B15: =IFERROR(VLOOKUP($H15,ESPN!$B$2:$G$251,2,FALSE),"") -> 7 | C15: =IFERROR(VLOOKUP($H15,RotoChamp!$B$3:$F$302,2,FALSE),"") -> 18 | D15: =IFERROR(VLOOKUP($H15,RotoSummit!$B$4:$G$253,2,FALSE),"") -> 11 | E15: =IFERROR(VLOOKUP($H15,BleacherGM!$B$2:$E$276,2,FALSE),"") -> 11 | F15: =AVERAGE(B15:E15) -> 11.75 | G15: =ROW()-4 -> 11 | H15: Justin Upton | I15: K | J15: OF | K15: ARI | L15: =IFERROR(VLOOKUP($H15,ESPN!$B$2:$G$251,5,FALSE),"ERROR") -> 24 | M15: =IFERROR(VLOOKUP($H15,ESPN!$B$2:$G$251,6,FALSE),"") -> 15 | N15: 30.87 | O15: =IFERROR(VLOOKUP($H15,BleacherGM!$B$2:$E$276,4,FALSE),"") -> .289-31-88 21SB 105R | P15: FF
B16: =IFERROR(VLOOKUP($H16,ESPN!$B$2:$G$251,2,FALSE),"") -> 11 | C16: =IFERROR(VLOOKUP($H16,RotoChamp!$B$3:$F$302,2,FALSE),"") -> 13 | D16: =IFERROR(VLOOKUP($H16,RotoSummit!$B$4:$G$253,2,FALSE),"") -> 10 | E16: =IFERROR(VLOOKUP($H16,BleacherGM!$B$2:$E$276,2,FALSE),"") -> 17 | F16: =AVERAGE(B16:E16) -> 12.75 | G16: =ROW()-4 -> 12 | H16: Roy Halladay | I16: K | J16: SP | K16: PHI | L16: =IFERROR(VLOOKUP($H16,ESPN!$B$2:$G$251,5,FALSE),"ERROR") -> 34 | M16: =IFERROR(VLOOKUP($H16,ESPN!$B$2:$G$251,6,FALSE),"") -> 10 | N16: 36.67 | O16: =IFERROR(VLOOKUP($H16,BleacherGM!$B$2:$E$276,4,FALSE),"") -> 19-6 0Sv 2.35ERA 220K | P16: BL
... B47: =IFERROR(VLOOKUP($H47,ESPN!$B$2:$G$251,2,FALSE),"") -> 36 | C47: =IFERROR(VLOOKUP($H47,RotoChamp!$B$3:$F$302,2,FALSE),"") -> 54 | D47: =IFERROR(VLOOKUP($H47,RotoSummit!$B$4:$G$253,2,FALSE),"") -> 50 | E47: =IFERROR(VLOOKUP($H47,BleacherGM!$B$2:$E$276,2,FALSE),"") -> 51 | F47: =AVERAGE(B47:E47) -> 47.75 | G47: =ROW()-4 -> 43 | H47: David Price | I47: K | J47: SP | K47: TB | L47: =IFERROR(VLOOKUP($H47,ESPN!$B$2:$G$251,5,FALSE),"ERROR") -> 26 | M47: =IFERROR(VLOOKUP($H47,ESPN!$B$2:$G$251,6,FALSE),"") -> 66 | N47: 18.84 | O47: =IFERROR(VLOOKUP($H47,BleacherGM!$B$2:$E$276,4,FALSE),"") -> 12-13 0Sv 3.49ERA 218K | P47: EC
B48: =IFERROR(VLOOKUP($H48,ESPN!$B$2:$G$251,2,FALSE),"") -> 62 | C48: =IFERROR(VLOOKUP($H48,RotoChamp!$B$3:$F$302,2,FALSE),"") -> 40 | D48: =IFERROR(VLOOKUP($H48,RotoSummit!$B$4:$G$253,2,FALSE),"") -> 46 | E48: =IFERROR(VLOOKUP($H48,BleacherGM!$B$2:$E$276,2,FALSE),"") -> 43 | F48: =AVERAGE(B48:E48) -> 47.75 | G48: =ROW()-4 -> 44 | H48: Michael Young | J48: 3B,1B | K48: TEX | L48: =IFERROR(VLOOKUP($H48,ESPN!$B$2:$G$251,5,FALSE),"ERROR") -> 35 | M48: =IFERROR(VLOOKUP($H48,ESPN!$B$2:$G$251,6,FALSE),"") -> 28 | N48: 21.47 | O48: =IFERROR(VLOOKUP($H48,BleacherGM!$B$2:$E$276,4,FALSE),"") -> .338-11-105 6SB 88R | Q48: DDD
B49: =IFERROR(VLOOKUP($H49,ESPN!$B$2:$G$251,2,FALSE),"") -> 47 | C49: =IFERROR(VLOOKUP($H49,RotoChamp!$B$3:$F$302,2,FALSE),"") -> 29 | D49: =IFERROR(VLOOKUP($H49,RotoSummit!$B$4:$G$253,2,FALSE),"") -> 57 | E49: =IFERROR(VLOOKUP($H49,BleacherGM!$B$2:$E$276,2,FALSE),"") -> 59 | F49: =AVERAGE(B49:E49) -> 48 | G49: =ROW()-4 -> 45 | H49: Dan Uggla | I49: K | J49: 2B | K49: ATL | L49: =IFERROR(VLOOKUP($H49,ESPN!$B$2:$G$251,5,FALSE),"ERROR") -> 32 | M49: =IFERROR(VLOOKUP($H49,ESPN!$B$2:$G$251,6,FALSE),"") -> 138 | N49: 24.32 | O49: =IFERROR(VLOOKUP($H49,BleacherGM!$B$2:$E$276,4,FALSE),"") -> .233-36-82 1SB 88R | P49: PD
B50: =IFERROR(VLOOKUP($H50,ESPN!$B$2:$G$251,2,FALSE),"") -> 57 | C50: =IFERROR(VLOOKUP($H50,RotoChamp!$B$3:$F$302,2,FALSE),"") -> 42 | D50: =IFERROR(VLOOKUP($H50,RotoSummit!$B$4:$G$253,2,FALSE),"") -> 37 | E50: =IFERROR(VLOOKUP($H50,BleacherGM!$B$2:$E$276,2,FALSE),"") -> 57 | F50: =AVERAGE(B50:E50) -> 48.25 | G50: =ROW()-4 -> 46 | H50: Eric Hosmer | I50: RK | J50: 1B | K50: KAN | L50: =IFERROR(VLOOKUP($H50,ESPN!$B$2:$G$251,5,FALSE),"ERROR") -> 22 | M50: =IFERROR(VLOOKUP($H50,ESPN!$B$2:$G$251,6,FALSE),"") -> 81 | N50: 21.35 | O50: =IFERROR(VLOOKUP($H50,BleacherGM!$B$2:$E$276,4,FALSE),"") -> .293-19-78 11SB 66R | P50: BBB
B51: =IFERROR(VLOOKUP($H51,ESPN!$B$2:$G$251,2,FALSE),"") -> 30 | C51: =IFERROR(VLOOKUP($H51,RotoChamp!$B$3:$F$302,2,FALSE),"") -> 58 | D51: =IFERROR(VLOOKUP($H51,RotoSummit!$B$4:$G$253,2,FALSE),"") -> 43 | E51: =IFERROR(VLOOKUP($H51,BleacherGM!$B$2:$E$276,2,FALSE),"") -> 70 | F51: =AVERAGE(B51:E51) -> 50.25 | G51: =ROW()-4 -> 47 | H51: Elvis Andrus | I51: K | J51: SS | K51: TEX | L51: =IFERROR(VLOOKUP($H51,ESPN!$B$2:$G$251,5,FALSE),"ERROR") -> 23 | M51: =IFERROR(VLOOKUP($H51,ESPN!$B$2:$G$251,6,FALSE),"") -> 50 | N51: 18.1 | O51: =IFERROR(VLOOKUP($H51,BleacherGM!$B$2:$E$276,4,FALSE),"") -> .279-5-60 37SB 96R | P51: ASS
B52: =IFERROR(VLOOKUP($H52,ESPN!$B$2:$G$251,2,FALSE),"") -> 63 | C52: =IFERROR(VLOOKUP($H52,RotoChamp!$B$3:$F$302,2,FALSE),"") -> 22 | D52: =IFERROR(VLOOKUP($H52,RotoSummit!$B$4:$G$253,2,FALSE),"") -> 58 | E52: =IFERROR(VLOOKUP($H52,BleacherGM!$B$2:$E$276,2,FALSE),"") -> 63 | F52: =AVERAGE(B52:E52) -> 51.5 | G52: =ROW()-4 -> 48 | H52: Mike Napoli | J52: C,1B | K52: TEX | L52: =IFERROR(VLOOKUP($H52,ESPN!$B$2:$G$251,5,FALSE),"ERROR") -> 30 | M52: =IFERROR(VLOOKUP($H52,ESPN!$B$2:$G$251,6,FALSE),"") -> 68 | N52: 27.08 | O52: =IFERROR(VLOOKUP($H52,BleacherGM!$B$2:$E$276,4,FALSE),"") -> .320-30-75 4SB 72R | Q52: DDD
B53: =IFERROR(VLOOKUP($H53,ESPN!$B$2:$G$251,2,FALSE),"") -> 52 | D53: =IFERROR(VLOOKUP($H53,RotoSummit!$B$4:$G$253,2,FALSE),"") -> 70 | E53: =IFERROR(VLOOKUP($H53,BleacherGM!$B$2:$E$276,2,FALSE),"") -> 36 | F53: =AVERAGE(B53:E53) -> 52.666667 | G53: =ROW()-4 -> 49 | H53: Alex Rodriguez | I53: K | J53: 3B | K53: NYY | L53: =IFERROR(VLOOKUP($H53,ESPN!$B$2:$G$251,5,FALSE),"ERROR") -> 36 | M53: =IFERROR(VLOOKUP($H53,ESPN!$B$2:$G$251,6,FALSE),"") -> 189 | N53: 1.62 | O53: =IFERROR(VLOOKUP($H53,BleacherGM!$B$2:$E$276,4,FALSE),"") -> .276-16-62 4SB 67R | P53: DDD
B54: =IFERROR(VLOOKUP($H54,ESPN!$B$2:$G$251,2,FALSE),"") -> 50 | C54: =IFERROR(VLOOKUP($H54,RotoChamp!$B$3:$F$302,2,FALSE),"") -> 34 | D54: =IFERROR(VLOOKUP($H54,RotoSummit!$B$4:$G$253,2,FALSE),"") -> 59 | E54: =IFERROR(VLOOKUP($H54,BleacherGM!$B$2:$E$276,2,FALSE),"") -> 69 | F54: =AVERAGE(B54:E54) -> 53 | G54: =ROW()-4 -> 50 | H54: Matt Cain | I54: K | J54: SP | K54: SF | L54: =IFERROR(VLOOKUP($H54,ESPN!$B$2:$G$251,5,FALSE),"ERROR") -> 27 | M54: =IFERROR(VLOOKUP($H54,ESPN!$B$2:$G$251,6,FALSE),"") -> 51 | N54: 22.51 | O54: =IFERROR(VLOOKUP($H54,BleacherGM!$B$2:$E$276,4,FALSE),"") -> 12-11 0Sv 2.88ERA 179K | P54: WPD
B55: =IFERROR(VLOOKUP($H55,ESPN!$B$2:$G$251,2,FALSE),"") -> 53 | C55: =IFERROR(VLOOKUP($H55,RotoChamp!$B$3:$F$302,2,FALSE),"") -> 53 | D55: =IFERROR(VLOOKUP($H55,RotoSummit!$B$4:$G$253,2,FALSE),"") -> 61 | E55: =IFERROR(VLOOKUP($H55,BleacherGM!$B$2:$E$276,2,FALSE),"") -> 49 | F55: =AVERAGE(B55:E55) -> 54 | G55: =ROW()-4 -> 51 | H55: Zack Greinke | I55: K | J55: SP | K55: MIL | L55: =IFERROR(VLOOKUP($H55,ESPN!$B$2:$G$251,5,FALSE),"ERROR") -> 28 | M55: =IFERROR(VLOOKUP($H55,ESPN!$B$2:$G$251,6,FALSE),"") -> 115 | N55: 19.04 | O55: =IFERROR(VLOOKUP($H55,BleacherGM!$B$2:$E$276,4,FALSE),"") -> 16-6 0Sv 3.82ERA 201K | P55: BBB
B56: =IFERROR(VLOOKUP($H56,ESPN!$B$2:$G$251,2,FALSE),"") -> 78 | C56: =IFERROR(VLOOKUP($H56,RotoChamp!$B$3:$F$302,2,FALSE),"") -> 47 | D56: =IFERROR(VLOOKUP($H56,RotoSummit!$B$4:$G$253,2,FALSE),"") -> 65 | E56: =IFERROR(VLOOKUP($H56,BleacherGM!$B$2:$E$276,2,FALSE),"") -> 31 | F56: =AVERAGE(B56:E56) -> 55.25 | G56: =ROW()-4 -> 52 | H56: Asdrubal Cabrera | I56: K | J56: SS | K56: CLE | L56: =IFERROR(VLOOKUP($H56,ESPN!$B$2:$G$251,5,FALSE),"ERROR") -> 26 | M56: =IFERROR(VLOOKUP($H56,ESPN!$B$2:$G$251,6,FALSE),"") -> 40 | N56: 19.95 | O56: =IFERROR(VLOOKUP($H56,BleacherGM!$B$2:$E$276,4,FALSE),"") -> .273-25-92 17SB 87R | P56: LT
B57: =IFERROR(VLOOKUP($H57,ESPN!$B$2:$G$251,2,FALSE),"") -> 46 | C57: =IFERROR(VLOOKUP($H57,RotoChamp!$B$3:$F$302,2,FALSE),"") -> 56 | D57: =IFERROR(VLOOKUP($H57,RotoSummit!$B$4:$G$253,2,FALSE),"") -> 60 | E57: =IFERROR(VLOOKUP($H57,BleacherGM!$B$2:$E$276,2,FALSE),"") -> 73 | F57: =AVERAGE(B57:E57) -> 58.75 | G57: =ROW()-4 -> 53 | H57: Craig Kimbrel | I57: RK | J57: RP | K57: ATL | L57: =IFERROR(VLOOKUP($H57,ESPN!$B$2:$G$251,5,FALSE),"ERROR") -> 23 | M57: =IFERROR(VLOOKUP($H57,ESPN!$B$2:$G$251,6,FALSE),"") -> 27 | N57: 18.71 | O57: =IFERROR(VLOOKUP($H57,BleacherGM!$B$2:$E$276,4,FALSE),"") -> 4-3 46Sv 2.1ERA 127K | P57: WPD
B58: =IFERROR(VLOOKUP($H58,ESPN!$B$2:$G$251,2,FALSE),"") -> 58 | C58: =IFERROR(VLOOKUP($H58,RotoChamp!$B$3:$F$302,2,FALSE),"") -> 52 | D58: =IFERROR(VLOOKUP($H58,RotoSummit!$B$4:$G$253,2,FALSE),"") -> 53 | E58: =IFERROR(VLOOKUP($H58,BleacherGM!$B$2:$E$276,2,FALSE),"") -> 72 | F58: =AVERAGE(B58:E58) -> 58.75 | G58: =ROW()-4 -> 54 | H58: Rickie Weeks | J58: 2B | K58: MIL | L58: =IFERROR(VLOOKUP($H58,ESPN!$B$2:$G$251,5,FALSE),"ERROR") -> 29 | M58: =IFERROR(VLOOKUP($H58,ESPN!$B$2:$G$251,6,FALSE),"") -> 146 | N58: 19.04 | O58: =IFERROR(VLOOKUP($H58,BleacherGM!$B$2:$E$276,4,FALSE),"") -> .269-20-49 9SB 77R | Q58: ASS
B59: =IFERROR(VLOOKUP($H59,ESPN!$B$2:$G$251,2,FALSE),"") -> 72 | C59: =IFERROR(VLOOKUP($H59,RotoChamp!$B$3:$F$302,2,FALSE),"") -> 60 | D59: =IFERROR(VLOOKUP($H59,RotoSummit!$B$4:$G$253,2,FALSE),"") -> 45 | E59: =IFERROR(VLOOKUP($H59,BleacherGM!$B$2:$E$276,2,FALSE),"") -> 58 | F59: =AVERAGE(B59:E59) -> 58.75 | G59: =ROW()-4 -> 55 | H59: Brian McCann | I59: K | J59: C | K59: ATL | L59: =IFERROR(VLOOKUP($H59,ESPN!$B$2:$G$251,5,FALSE),"ERROR") -> 28 | M59: =IFERROR(VLOOKUP($H59,ESPN!$B$2:$G$251,6,FALSE),"") -> 163 | N59: 17.19 | O59: =IFERROR(VLOOKUP($H59,BleacherGM!$B$2:$E$276,4,FALSE),"") -> .270-24-71 3SB 51R | P59: TMB
B60: =IFERROR(VLOOKUP($H60,ESPN!$B$2:$G$251,2,FALSE),"") -> 55 | C60: =IFERROR(VLOOKUP($H60,RotoChamp!$B$3:$F$302,2,FALSE),"") -> 73 | D60: =IFERROR(VLOOKUP($H60,RotoSummit!$B$4:$G$253,2,FALSE),"") -> 51 | E60: =IFERROR(VLOOKUP($H60,BleacherGM!$B$2:$E$276,2,FALSE),"") -> 60 | F60: =AVERAGE(B60:E60) -> 59.75 | G60: =ROW()-4 -> 56 | H60: Michael Bourn | I60: K | J60: OF | K60: ATL | L60: =IFERROR(VLOOKUP($H60,ESPN!$B$2:$G$251,5,FALSE),"ERROR") -> 29 | M60: =IFERROR(VLOOKUP($H60,ESPN!$B$2:$G$251,6,FALSE),"") -> 19 | N60: 15.71 | O60: =IFERROR(VLOOKUP($H60,BleacherGM!$B$2:$E$276,4,FALSE),"") -> .294-2-50 61SB 94R | P60: DDD
B61: =IFERROR(VLOOKUP($H61,ESPN!$B$2:$G$251,2,FALSE),"") -> 59 | C61: =IFERROR(VLOOKUP($H61,RotoChamp!$B$3:$F$302,2,FALSE),"") -> 70 | D61: =IFERROR(VLOOKUP($H61,RotoSummit!$B$4:$G$253,2,FALSE),"") -> 66 | E61: =IFERROR(VLOOKUP($H61,BleacherGM!$B$2:$E$276,2,FALSE),"") -> 46 | F61: =AVERAGE(B61:E61) -> 60.25 | G61: =ROW()-4 -> 57 | H61: Ian Kennedy | J61: SP | K61: ARI | L61: =IFERROR(VLOOKUP($H61,ESPN!$B$2:$G$251,5,FALSE),"ERROR") -> 27 | M61: =IFERROR(VLOOKUP($H61,ESPN!$B$2:$G$251,6,FALSE),"") -> 25 | N61: 15.86 | O61: =IFERROR(VLOOKUP($H61,BleacherGM!$B$2:$E$276,4,FALSE),"") -> 21-4 0Sv 2.87ERA 198K | Q61: DDD
B62: =IFERROR(VLOOKUP($H62,ESPN!$B$2:$G$251,2,FALSE),"") -> 39 | C62: =IFERROR(VLOOKUP($H62,RotoChamp!$B$3:$F$302,2,FALSE),"") -> 76 | D62: =IFERROR(VLOOKUP($H62,RotoSummit!$B$4:$G$253,2,FALSE),"") -> 49 | E62: =IFERROR(VLOOKUP($H62,BleacherGM!$B$2:$E$276,2,FALSE),"") -> 79 | F62: =AVERAGE(B62:E62) -> 60.75 | G62: =ROW()-4 -> 58 | H62: Ryan Zimmerman | I62: K | J62: 3B | K62: WAS | L62: =IFERROR(VLOOKUP($H62,ESPN!$B$2:$G$251,5,FALSE),"ERROR") -> 27 | M62: =IFERROR(VLOOKUP($H62,ESPN!$B$2:$G$251,6,FALSE),"") -> 248 | N62: 15.38 | O62: =IFERROR(VLOOKUP($H62,BleacherGM!$B$2:$E$276,4,FALSE),"") -> .289-12-49 3SB 52R | P62: TMB
B63: =IFERROR(VLOOKUP($H63,ESPN!$B$2:$G$251,2,FALSE),"") -> 48 | C63: =IFERROR(VLOOKUP($H63,RotoChamp!$B$3:$F$302,2,FALSE),"") -> 71 | D63: =IFERROR(VLOOKUP($H63,RotoSummit!$B$4:$G$253,2,FALSE),"") -> 75 | E63: =IFERROR(VLOOKUP($H63,BleacherGM!$B$2:$E$276,2,FALSE),"") -> 50 | F63: =AVERAGE(B63:E63) -> 61 | G63: =ROW()-4 -> 59 | H63: Alex Gordon | I63: K | J63: OF | K63: KAN | L63: =IFERROR(VLOOKUP($H63,ESPN!$B$2:$G$251,5,FALSE),"ERROR") -> 28 | M63: =IFERROR(VLOOKUP($H63,ESPN!$B$2:$G$251,6,FALSE),"") -> 24 | N63: 15.75 | O63: =IFERROR(VLOOKUP($H63,BleacherGM!$B$2:$E$276,4,FALSE),"") -> .303-23-87 17SB 101R | P63: BGG
B64: =IFERROR(VLOOKUP($H64,ESPN!$B$2:$G$251,2,FALSE),"") -> 45 | C64: =IFERROR(VLOOKUP($H64,RotoChamp!$B$3:$F$302,2,FALSE),"") -> 127 | D64: =IFERROR(VLOOKUP($H64,RotoSummit!$B$4:$G$253,2,FALSE),"") -> 39 | E64: =IFERROR(VLOOKUP($H64,BleacherGM!$B$2:$E$276,2,FALSE),"") -> 34 | F64: =AVERAGE(B64:E64) -> 61.25 | G64: =ROW()-4 -> 60 | H64: Carl Crawford | I64: K | J64: OF | K64: BOS | L64: =IFERROR(VLOOKUP($H64,ESPN!$B$2:$G$251,5,FALSE),"ERROR") -> 30 | M64: =IFERROR(VLOOKUP($H64,ESPN!$B$2:$G$251,6,FALSE),"") -> 190 | N64: 9.07 | O64: =IFERROR(VLOOKUP($H64,BleacherGM!$B$2:$E$276,4,FALSE),"") -> .255-11-56 18SB 65R | P64: BGG
B65: =IFERROR(VLOOKUP($H65,ESPN!$B$2:$G$251,2,FALSE),"") -> 69 | C65: =IFERROR(VLOOKUP($H65,RotoChamp!$B$3:$F$302,2,FALSE),"") -> 74 | D65: =IFERROR(VLOOKUP($H65,RotoSummit!$B$4:$G$253,2,FALSE),"") -> 71 | E65: =IFERROR(VLOOKUP($H65,BleacherGM!$B$2:$E$276,2,FALSE),"") -> 40 | F65: =AVERAGE(B65:E65) -> 63.5 | G65: =ROW()-4 -> 61 | H65: Brandon Phillips | I65: K | J65: 2B | K65: CIN | L65: =IFERROR(VLOOKUP($H65,ESPN!$B$2:$G$251,5,FALSE),"ERROR") -> 30 | M65: =IFERROR(VLOOKUP($H65,ESPN!$B$2:$G$251,6,FALSE),"") -> 33 | N65: 15.67 | O65: =IFERROR(VLOOKUP($H65,BleacherGM!$B$2:$E$276,4,FALSE),"") -> .300-18-82 14SB 94R | P65: FF
B66: =IFERROR(VLOOKUP($H66,ESPN!$B$2:$G$251,2,FALSE),"") -> 56 | C66: =IFERROR(VLOOKUP($H66,RotoChamp!$B$3:$F$302,2,FALSE),"") -> 109 | D66: =IFERROR(VLOOKUP($H66,RotoSummit!$B$4:$G$253,2,FALSE),"") -> 40 | E66: =IFERROR(VLOOKUP($H66,BleacherGM!$B$2:$E$276,2,FALSE),"") -> 52 | F66: =AVERAGE(B66:E66) -> 64.25 | G66: =ROW()-4 -> 62 | H66: Nelson Cruz | I66: K | J66: OF | K66: TEX | L66: =IFERROR(VLOOKUP($H66,ESPN!$B$2:$G$251,5,FALSE),"ERROR") -> 31 | M66: =IFERROR(VLOOKUP($H66,ESPN!$B$2:$G$251,6,FALSE),"") -> 90 | N66: 10.39 | O66: =IFERROR(VLOOKUP($H66,BleacherGM!$B$2:$E$276,4,FALSE),"") -> .263-29-87 9SB 64R | P66: BL
B67: =IFERROR(VLOOKUP($H67,ESPN!$B$2:$G$251,2,FALSE),"") -> 40 | C67: =IFERROR(VLOOKUP($H67,RotoChamp!$B$3:$F$302,2,FALSE),"") -> 101 | D67: =IFERROR(VLOOKUP($H67,RotoSummit!$B$4:$G$253,2,FALSE),"") -> 69 | E67: =IFERROR(VLOOKUP($H67,BleacherGM!$B$2:$E$276,2,FALSE),"") -> 55 | F67: =AVERAGE(B67:E67) -> 66.25 | G67: =ROW()-4 -> 63 | H67: Jon Lester | I67: K | J67: SP | K67: BOS | L67: =IFERROR(VLOOKUP($H67,ESPN!$B$2:$G$251,5,FALSE),"ERROR") -> 28 | M67: =IFERROR(VLOOKUP($H67,ESPN!$B$2:$G$251,6,FALSE),"") -> 119 | N67: 11.78 | O67: =IFERROR(VLOOKUP($H67,BleacherGM!$B$2:$E$276,4,FALSE),"") -> 15-9 0Sv 3.47ERA 182K | P67: FF
B68: =IFERROR(VLOOKUP($H68,ESPN!$B$2:$G$251,2,FALSE),"") -> 90 | C68: =IFERROR(VLOOKUP($H68,RotoChamp!$B$3:$F$302,2,FALSE),"") -> 37 | D68: =IFERROR(VLOOKUP($H68,RotoSummit!$B$4:$G$253,2,FALSE),"") -> 55 | E68: =IFERROR(VLOOKUP($H68,BleacherGM!$B$2:$E$276,2,FALSE),"") -> 83 | F68: =AVERAGE(B68:E68) -> 66.25 | G68: =ROW()-4 -> 64 | H68: Pablo Sandoval | I68: K | J68: 3B | K68: SF | L68: =IFERROR(VLOOKUP($H68,ESPN!$B$2:$G$251,5,FALSE),"ERROR") -> 25 | M68: =IFERROR(VLOOKUP($H68,ESPN!$B$2:$G$251,6,FALSE),"") -> 98 | N68: 21.68 | O68: =IFERROR(VLOOKUP($H68,BleacherGM!$B$2:$E$276,4,FALSE),"") -> .315-23-70 2SB 55R | P68: ASS
B69: =IFERROR(VLOOKUP($H69,ESPN!$B$2:$G$251,2,FALSE),"") -> 66 | D69: =IFERROR(VLOOKUP($H69,RotoSummit!$B$4:$G$253,2,FALSE),"") -> 76 | E69: =IFERROR(VLOOKUP($H69,BleacherGM!$B$2:$E$276,2,FALSE),"") -> 61 | F69: =AVERAGE(B69:E69) -> 67.666667 | G69: =ROW()-4 -> 65 | H69: Kevin Youkilis | J69: 3B | K69: BOS | L69: =IFERROR(VLOOKUP($H69,ESPN!$B$2:$G$251,5,FALSE),"ERROR") -> 33 | M69: =IFERROR(VLOOKUP($H69,ESPN!$B$2:$G$251,6,FALSE),"") -> 193 | N69: 5.28 | O69: =IFERROR(VLOOKUP($H69,BleacherGM!$B$2:$E$276,4,FALSE),"") -> .258-17-80 3SB 68R | Q69: ASS
B70: =IFERROR(VLOOKUP($H70,ESPN!$B$2:$G$251,2,FALSE),"") -> 71 | C70: =IFERROR(VLOOKUP($H70,RotoChamp!$B$3:$F$302,2,FALSE),"") -> 103 | D70: =IFERROR(VLOOKUP($H70,RotoSummit!$B$4:$G$253,2,FALSE),"") -> 56 | E70: =IFERROR(VLOOKUP($H70,BleacherGM!$B$2:$E$276,2,FALSE),"") -> 42 | F70: =AVERAGE(B70:E70) -> 68 | G70: =ROW()-4 -> 66 | H70: James Shields | I70: K | J70: SP | K70: TB | L70: =IFERROR(VLOOKUP($H70,ESPN!$B$2:$G$251,5,FALSE),"ERROR") -> 30 | M70: =IFERROR(VLOOKUP($H70,ESPN!$B$2:$G$251,6,FALSE),"") -> 22 | N70: 11.33 | O70: =IFERROR(VLOOKUP($H70,BleacherGM!$B$2:$E$276,4,FALSE),"") -> 16-12 0Sv 2.81ERA 225K | P70: BL
B71: =IFERROR(VLOOKUP($H71,ESPN!$B$2:$G$251,2,FALSE),"") -> 115 | C71: =IFERROR(VLOOKUP($H71,RotoChamp!$B$3:$F$302,2,FALSE),"") -> 15 | D71: =IFERROR(VLOOKUP($H71,RotoSummit!$B$4:$G$253,2,FALSE),"") -> 79 | E71: =IFERROR(VLOOKUP($H71,BleacherGM!$B$2:$E$276,2,FALSE),"") -> 74 | F71: =AVERAGE(B71:E71) -> 70.75 | G71: =ROW()-4 -> 67 | H71: Stephen Strasburg | I71: RK | J71: SP | K71: WAS | L71: =IFERROR(VLOOKUP($H71,ESPN!$B$2:$G$251,5,FALSE),"ERROR") -> 23 | M71: =IFERROR(VLOOKUP($H71,ESPN!$B$2:$G$251,6,FALSE),"") -> 548 | N71: 34.55 | O71: =IFERROR(VLOOKUP($H71,BleacherGM!$B$2:$E$276,4,FALSE),"") -> 1-1 0Sv 1.5ERA 24K | P71: BBB
B72: =IFERROR(VLOOKUP($H72,ESPN!$B$2:$G$251,2,FALSE),"") -> 64 | D72: =IFERROR(VLOOKUP($H72,RotoSummit!$B$4:$G$253,2,FALSE),"") -> 74 | E72: =IFERROR(VLOOKUP($H72,BleacherGM!$B$2:$E$276,2,FALSE),"") -> 77 | F72: =AVERAGE(B72:E72) -> 71.666667 | G72: =ROW()-4 -> 68 | H72: Chase Utley | I72: K | J72: 2B | K72: PHI | L72: =IFERROR(VLOOKUP($H72,ESPN!$B$2:$G$251,5,FALSE),"ERROR") -> 33 | M72: =IFERROR(VLOOKUP($H72,ESPN!$B$2:$G$251,6,FALSE),"") -> 261 | N72: 7.3 | O72: =IFERROR(VLOOKUP($H72,BleacherGM!$B$2:$E$276,4,FALSE),"") -> .259-11-44 14SB 54R | P72: AAH
...

Sheet RotoChamp
B2: Player | C2: Rank | D2: Position | E2: Team | F2: Auction$
B3: Miguel Cabrera | C3: 1 | D3: 1B | E3: DET | F3: 48.62
B4: Joey Votto | C4: 2 | D4: 1B | E4: CIN | F4: 45.2
B5: Albert Pujols | C5: 3 | D5: 1B | E5: FA | F5: 45.12
B6: Jacoby Ellsbury | C6: 4 | D6: OF | E6: BOS | F6: 44.34
B7: Ryan Braun | C7: 5 | D7: OF | E7: MIL | F7: 43.59
B8: Prince Fielder | C8: 6 | D8: 1B | E8: FA | F8: 43.43
B9: Matt Kemp | C9: 7 | D9: OF | E9: LAD | F9: 42.52
B10: Troy Tulowitzki | C10: 8 | D10: SS | E10: COL | F10: 40.05
B11: Dustin Pedroia | C11: 9 | D11: 2B | E11: BOS | F11: 39.68
B12: Clayton Kershaw | C12: 10 | D12: SP | E12: LAD | F12: 38.51
B13: Adrian Gonzalez | C13: 11 | D13: 1B | E13: BOS | F13: 38.45
B14: Jose Bautista | C14: 12 | D14: 3B,OF | E14: TOR | F14: 37.5
... B302: Josh Tomlin | C302: 300 | D302: SP | E302: CLE | F302: -2.84

Sheet BleacherGM
B2: Matt Kemp | C2: 1 | D2: OF | E2: .321-39-125 39SB 115R
B3: Ryan Braun | C3: 2 | D3: OF | E3: .332-33-111 33SB 109R
B4: Albert Pujols | C4: 3 | D4: 1B | E4: .299-37-99 9SB 105R
B5: Miguel Cabrera | C5: 4 | D5: 1B | E5: .346-30-105 2SB 111R
B6: Jose Bautista | C6: 5 | D6: OF | E6: .302-43-103 9SB 105R
B7: Troy Tulowitzki | C7: 6 | D7: SS | E7: .302-30-105 9SB 81R
B8: Jacoby Ellsbury | C8: 7 | D8: OF | E8: .321-32-105 39SB 119R
B9: Adrian Gonzalez | C9: 8 | D9: 1B | E9: .338-27-117 1SB 108R
B10: Robinson Cano | C10: 9 | D10: 2B | E10: .302-28-118 8SB 104R
B11: Evan Longoria | C11: 10 | D11: 3B | E11: .244-31-99 3SB 78R
B12: Justin Upton | C12: 11 | D12: OF | E12: .289-31-88 21SB 105R
B13: Joey Votto | C13: 12 | D13: 1B | E13: .309-29-103 8SB 101R
... B155: Derek Holland | C155: 154 | D155: SP | E155: 16-5 0Sv 3.95ERA 162K
B156: Alex Rios | C156: 155 | D156: OF
B157: Jhonny Peralta | C157: 156 | D157: SS | E157: .299-21-86 0SB 68R
B158: Adam Wainwright | C158: 157 | D158: SP | E158: 0-0 0Sv 9999ERA 0K
B159: Ryan Roberts | C159: 158 | D159: 3B | E159: .249-19-65 18SB 86R
B160: Matt Joyce | C160: 159 | D160: OF | E160: .277-19-75 13SB 69R
B161: Justin Masterson | C161: 160 | D161: SP | E161: 12-10 0Sv 3.2ERA 158K
B162: Josh Willingham | C162: 161 | D162: OF | E162: .246-29-98 4SB 69R
B163: Torii Hunter | C163: 162 | D163: OF | E163: .262-23-82 5SB 80R
B164: Jordan Walden | C164: 163 | D164: RP
B165: Martin Prado | C165: 164 | D165: OF | E165: .260-13-57 4SB 66R
B166: Danny Espinosa | C166: 165 | D166: 2B | E166: .236-21-66 17SB 72R
B167: David Freese | C167: 166 | D167: 3B | E167: .297-10-55 1SB 41R
B168: Jeff Francoeur | C168: 167 | D168: OF | E168: .285-20-87 22SB 77R
B169: Joel Hanrahan | C169: 168 | D169: RP | E169: 1-4 40Sv 1.83ERA 61K
B170: Paul Goldschmidt | C170: 169 | D170: 1B
B171: Vernon Wells | C171: 170 | D171: OF
B172: Erick Aybar | C172: 171 | D172: SS | E172: .279-10-59 30SB 71R
B173: Francisco Rodriguez | C173: 172 | D173: RP
B174: Jason Kipnis | C174: 173 | D174: 2B
B175: Sergio Santos | C175: 174 | D175: RP
B176: Johnny Damon | C176: 175 | D176: DH | E176: .261-16-73 19SB 79R
B177: Stephen Drew | C177: 176 | D177: SS | E177: .252-5-45 4SB 44R
B178: Colby Rasmus | C178: 177 | D178: OF
B179: Max Scherzer | C179: 178 | D179: SP | E179: 15-9 0Sv 4.43ERA 174K
B180: Matt Moore | C180: 179 | D180: SP | E180: 0-0 0Sv 9999ERA 0K
B181: Kenley Jansen | C181: 180 | D181: RP
B182: Chris Perez | C182: 181 | D182: RP
...

Sheet RotoSummit
C2: Ranking
B3: Player Name | D3: Team | E3: Position
B4: Ryan Braun | C4: 1 | D4: Mil | E4: OF
B5: Matt Kemp | C5: 2 | D5: LAD | E5: OF
B6: Albert Pujols | C6: 3 | D6: StL | E6: 1B
B7: Miguel Cabrera | C7: 4 | D7: Det | E7: 1B
B8: Jose Bautista | C8: 5 | D8: Tor | E8: 3B/OF
B9: Jacoby Ellsbury | C9: 6 | D9: Bos | E9: OF
B10: Robinson Cano | C10: 7 | D10: NYY | E10: 2B
B11: Joey Votto | C11: 8 | D11: Cin | E11: 1B
B12: Troy Tulowitzki | C12: 9 | D12: Col | E12: SS
B13: Roy Halladay | C13: 10 | D13: Ari | E13: OF
B14: Justin Upton | C14: 11 | D14: Phi | E14: SP
B15: Carlos Gonzalez | C15: 12 | D15: Col | E15: OF
... B253: Marco Scutaro | C253: 250 | D253: Bos | E253: SS

Sheet ESPN
B1: Player | C1: Ovr Rank | D1: Team | E1: Elig. Pos | F1: Age | G1: 2011 Player Rater
B2: Ryan Braun | C2: 1 | D2: Mil | E2: OF | F2: 28 | G2: 3
B3: Albert Pujols | C3: 2 | D3: FA | E3: 1B | F3: 32 | G3: 14
B4: Miguel Cabrera | C4: 3 | D4: Det | E4: 1B | F4: 28 | G4: 7
B5: Adrian Gonzalez | C5: 4 | D5: Bos | E5: 1B | F5: 29 | G5: 8
B6: Troy Tulowitzki | C6: 5 | D6: Col | E6: SS | F6: 27 | G6: 30
B7: Matt Kemp | C7: 6 | D7: LAD | E7: OF | F7: 27 | G7: 1
B8: Justin Upton | C8: 7 | D8: Ari | E8: OF | F8: 24 | G8: 15
B9: Justin Verlander | C9: 8 | D9: Det | E9: SP | F9: 29 | G9: 4
B10: Jose Bautista | C10: 9 | D10: Tor | E10: 3B/OF | F10: 31 | G10: 9
B11: Robinson Cano | C11: 10 | D11: NYY | E11: 2B | F11: 29 | G11: 16
B12: Roy Halladay | C12: 11 | D12: Phi | E12: SP | F12: 34 | G12: 10
B13: Joey Votto | C13: 12 | D13: Cin | E13: 1B | F13: 28 | G13: 18
... B149: Jordan Walden | C149: 148 | D149: LAA | E149: RP | F149: 24 | G149: 123
B150: Adam Wainwright | C150: 149 | D150: StL | E150: SP | F150: 30 | G150: _x0014_
B151: Coco Crisp | C151: 150 | D151: FA | E151: OF | F151: 32 | G151: 55
B152: Brett Lawrie | C152: 151 | D152: Tor | E152: 3B | F152: 22 | G152: 419
B153: John Danks | C153: 152 | D153: CWS | E153: SP | F153: 26 | G153: 364
B154: Carlos Beltran | C154: 153 | D154: FA | E154: OF | F154: 34 | G154: 69
B155: Alex Avila | C155: 154 | D155: Det | E155: C | F155: 25 | G155: 109
B156: Logan Morrison | C156: 155 | D156: Mia | E156: OF | F156: 24 | G156: 228
B157: Ubaldo Jimenez | C157: 156 | D157: Cle | E157: SP | F157: 28 | G157: 374
B158: Carlos Lee | C158: 157 | D158: Hou | E158: 1B/OF | F158: 35 | G158: 112
B159: Carlos Marmol | C159: 158 | D159: ChC | E159: RP | F159: 29 | G159: 173
B160: Joakim Soria | C160: 159 | D160: KC | E160: RP | F160: 27 | G160: 199
B161: Angel Pagan | C161: 160 | D161: NYM | E161: OF | F161: 30 | G161: 114
B162: Jason Kipnis | C162: 161 | D162: Cle | E162: 2B | F162: 24 | G162: 565
... B251: David Freese | C251: 250 | D251: StL | E251: 3B | F251: 28 | G251: 293
