Workbook
Name more: BleacherGM!#REF!

Sheet 2012 PRELIMINARY RANKINGS
B2: 2012 PLAYER RANKINGS
B4: ESPN | C4: RC | D4: RS | E4: BGM | F4: AVG | G4: RANK | H4: Player | I4: O Status | J4: Position | K4: Team | L4: Age | M4: 2011 Player Rater | N4: Auction$ | O4: 2011 Stats | P4: OBFBL Team | Q4: O Team Throwback
B5: =IFERROR(VLOOKUP($H5,ESPN!$B$2:$G$251,2,FALSE),"") -> 1 | C5: =IFERROR(VLOOKUP($H5,RotoChamp!$B$3:$F$302,2,FALSE),"") -> 5 | D5: =IFERROR(VLOOKUP($H5,RotoSummit!$B$4:$G$253,2,FALSE),"") -> 1 | E5: =IFERROR(VLOOKUP($H5,BleacherGM!$B$2:$E$276,2,FALSE),"") -> 2 | F5: =AVERAGE(B5:E5) -> 2.25 | G5: =ROW()-4 -> 1 | H5: Ryan Braun | I5: K | J5: OF | K5: MIL | L5: =IFERROR(VLOOKUP($H5,ESPN!$B$2:$G$251,5,FALSE),"ERROR") -> 28 | M5: =IFERROR(VLOOKUP($H5,ESPN!$B$2:$G$251,6,FALSE),"") -> 3 | N5: 43.59 | O5: =IFERROR(VLOOKUP($H5,BleacherGM!$B$2:$E$276,4,FALSE),"") -> .332-33-111 33SB 109R | P5: WPD
B6: =IFERROR(VLOOKUP($H6,ESPN!$B$2:$G$251,2,FALSE),"") -> 2 | C6: =IFERROR(VLOOKUP($H6,RotoChamp!$B$3:$F$302,2,FALSE),"") -> 3 | D6: =IFERROR(VLOOKUP($H6,RotoSummit!$B$4:$G$253,2,FALSE),"") -> 3 | E6: =IFERROR(VLOOKUP($H6,BleacherGM!$B$2:$E$276,2,FALSE),"") -> 3 | F6: =AVERAGE(B6:E6) -> 2.75 | G6: =ROW()-4 -> 2 | H6: Albert Pujols | I6: K | J6: 1B | K6: LAA | L6: =IFERROR(VLOOKUP($H6,ESPN!$B$2:$G$251,5,FALSE),"ERROR") -> 32 | M6: =IFERROR(VLOOKUP($H6,ESPN!$B$2:$G$251,6,FALSE),"") -> 14 | N6: 45.12 | O6: =IFERROR(VLOOKUP($H6,BleacherGM!$B$2:$E$276,4,FALSE),"") -> .299-37-99 9SB 105R | P6: PD
B7: =IFERROR(VLOOKUP($H7,ESPN!$B$2:$G$251,2,FALSE),"") -> 3 | C7: =IFERROR(VLOOKUP($H7,RotoChamp!$B$3:$F$302,2,FALSE),"") -> 1 | D7: =IFERROR(VLOOKUP($H7,RotoSummit!$B$4:$G$253,2,FALSE),"") -> 4 | E7: =IFERROR(VLOOKUP($H7,BleacherGM!$B$2:$E$276,2,FALSE),"") -> 4 | F7: =AVERAGE(B7:E7) -> 3 | G7: =ROW()-4 -> 3 | H7: Miguel Cabrera | I7: K | J7: 1B | K7: DET | L7: =IFERROR(VLOOKUP($H7,ESPN!$B$2:$G$251,5,FALSE),"ERROR") -> 28 | M7: =IFERROR(VLOOKUP($H7,ESPN!$B$2:$G$251,6,FALSE),"") -> 7 | N7: 48.62 | O7: =IFERROR(VLOOKUP($H7,BleacherGM!$B$2:$E$276,4,FALSE),"") -> .346-30-105 2SB 111R | P7: PD
B8: =IFERROR(VLOOKUP($H8,ESPN!$B$2:$G$251,2,FALSE),"") -> 6 | C8: =IFERROR(VLOOKUP($H8,RotoChamp!$B$3:$F$302,2,FALSE),"") -> 7 | D8: =IFERROR(VLOOKUP($H8,RotoSummit!$B$4:$G$253,2,FALSE),"") -> 2 | E8: =IFERROR(VLOOKUP($H8,BleacherGM!$B$2:$E$276,2,FALSE),"") -> 1 | F8: =AVERAGE(B8:E8) -> 4 | G8: =ROW()-4 -> 4 | H8: Matt Kemp | I8: K | J8: OF | K8: LAD | L8: =IFERROR(VLOOKUP($H8,ESPN!$B$2:$G$251,5,FALSE),"ERROR") -> 27 | M8: =IFERROR(VLOOKUP($H8,ESPN!$B$2:$G$251,6,FALSE),"") -> 1 | N8: 42.52 | O8: =IFERROR(VLOOKUP($H8,BleacherGM!$B$2:$E$276,4,FALSE),"") -> .321-39-125 39SB 115R | P8: BL
B9: =IFERROR(VLOOKUP($H9,ESPN!$B$2:$G$251,2,FALSE),"") -> 5 | C9: =IFERROR(VLOOKUP($H9,RotoChamp!$B$3:$F$302,2,FALSE),"") -> 8 | D9: =IFERROR(VLOOKUP($H9,RotoSummit!$B$4:$G$253,2,FALSE),"") -> 9 | E9: =IFERROR(VLOOKUP($H9,BleacherGM!$B$2:$E$276,2,FALSE),"") -> 6 | F9: =AVERAGE(B9:E9) -> 7 | G9: =ROW()-4 -> 5 | H9: Troy Tulowitzki | I9: K | J9: SS | K9: COL | L9: =IFERROR(VLOOKUP($H9,ESPN!$B$2:$G$251,5,FALSE),"ERROR") -> 27 | M9: =IFERROR(VLOOKUP($H9,ESPN!$B$2:$G$251,6,FALSE),"") -> 30 | N9: 40.05 | O9: =IFERROR(VLOOKUP($H9,BleacherGM!$B$2:$E$276,4,FALSE),"") -> .302-30-105 9SB 81R | P9: DDD
B10: =IFERROR(VLOOKUP($H10,ESPN!$B$2:$G$251,2,FALSE),"") -> 13 | C10: =IFERROR(VLOOKUP($H10,RotoChamp!$B$3:$F$302,2,FALSE),"") -> 4 | D10: =IFERROR(VLOOKUP($H10,RotoSummit!$B$4:$G$253,2,FALSE),"") -> 6 | E10: =IFERROR(VLOOKUP($H10,BleacherGM!$B$2:$E$276,2,FALSE),"") -> 7 | F10: =AVERAGE(B10:E10) -> 7.5 | G10: =ROW()-4 -> 6 | H10: Jacoby Ellsbury | I10: K | J10: OF | K10: BOS | L10: =IFERROR(VLOOKUP($H10,ESPN!$B$2:$G$251,5,FALSE),"ERROR") -> 28 | M10: =IFERROR(VLOOKUP($H10,ESPN!$B$2:$G$251,6,FALSE),"") -> 2 | N10: 44.34 | O10: =IFERROR(VLOOKUP($H10,BleacherGM!$B$2:$E$276,4,FALSE),"") -> .321-32-105 39SB 119R | P10: BL
B11: =IFERROR(VLOOKUP($H11,ESPN!$B$2:$G$251,2,FALSE),"") -> 9 | C11: =IFERROR(VLOOKUP($H11,RotoChamp!$B$3:$F$302,2,FALSE),"") -> 12 | D11: =IFERROR(VLOOKUP($H11,RotoSummit!$B$4:$G$253,2,FALSE),"") -> 5 | E11: =IFERROR(VLOOKUP($H11,BleacherGM!$B$2:$E$276,2,FALSE),"") -> 5 | F11: =AVERAGE(B11:E11) -> 7.75 | G11: =ROW()-4 -> 7 | H11: Jose Bautista | I11: K | J11: 3B,OF | K11: TOR | L11: =IFERROR(VLOOKUP($H11,ESPN!$B$2:$G$251,5,FALSE),"ERROR") -> 31 | M11: =IFERROR(VLOOKUP($H11,ESPN!$B$2:$G$251,6,FALSE),"") -> 9 | N11: 37.5 | O11: =IFERROR(VLOOKUP($H11,BleacherGM!$B$2:$E$276,4,FALSE),"") -> .302-43-103 9SB 105R | P11: AAH
B12: =IFERROR(VLOOKUP($H12,ESPN!$B$2:$G$251,2,FALSE),"") -> 12 | C12: =IFERROR(VLOOKUP($H12,RotoChamp!$B$3:$F$302,2,FALSE),"") -> 2 | D12: =IFERROR(VLOOKUP($H12,RotoSummit!$B$4:$G$253,2,FALSE),"") -> 8 | E12: =IFERROR(VLOOKUP($H12,BleacherGM!$B$2:$E$276,2,FALSE),"") -> 12 | F12: =AVERAGE(B12:E12) -> 8.5 | G12: =ROW()-4 -> 8 | H12: Joey Votto | I12: K | J12: 1B | K12: CIN | L12: =IFERROR(VLOOKUP($H12,ESPN!$B$2:$G$251,5,FALSE),"ERROR") -> 28 | M12: =IFERROR(VLOOKUP($H12,ESPN!$B$2:$G$251,6,FALSE),"") -> 18 | N12: 45.2 | O12: =IFERROR(VLOOKUP($H12,BleacherGM!$B$2:$E$276,4,FALSE),"") -> .309-29-103 8SB 101R | P12: ASS
B13: =IFERROR(VLOOKUP($H13,ESPN!$B$2:$G$251,2,FALSE),"") -> 4 | C13: =IFERROR(VLOOKUP($H13,RotoChamp!$B$3:$F$302,2,FALSE),"") -> 11 | D13: =IFERROR(VLOOKUP($H13,RotoSummit!$B$4:$G$253,2,FALSE),"") -> 14 | E13: =IFERROR(VLOOKUP($H13,BleacherGM!$B$2:$E$276,2,FALSE),"") -> 8 | F13: =AVERAGE(B13:E13) -> 9.25 | G13: =ROW()-4 -> 9 | H13: Adrian Gonzalez | I13: K | J13: 1B | K13: BOS | L13: =IFERROR(VLOOKUP($H13,ESPN!$B$2:$G$251,5,FALSE),"ERROR") -> 29 | M13: =IFERROR(VLOOKUP($H13,ESPN!$B$2:$G$251,6,FALSE),"") -> 8 | N13: 38.45 | O13: =IFERROR(VLOOKUP($H13,BleacherGM!$B$2:$E$276,4,FALSE),"") -> .338-27-117 1SB 108R | P13: ASS
B14: =IFERROR(VLOOKUP($H14,ESPN!$B$2:$G$251,2,FALSE),"") -> 10 | C14: =IFERROR(VLOOKUP($H14,RotoChamp!$B$3:$F$302,2,FALSE),"") -> 14 | D14: =IFERROR(VLOOKUP($H14,RotoSummit!$B$4:$G$253,2,FALSE),"") -> 7 | E14: =IFERROR(VLOOKUP($H14,BleacherGM!$B$2:$E$276,2,FALSE),"") -> 9 | F14: =AVERAGE(B14:E14) -> 10 | G14: =ROW()-4 -> 10 | H14: Robinson Cano | I14: K | J14: 2B | K14: NYY | L14: =IFERROR(VLOOKUP($H14,ESPN!$B$2:$G$251,5,FALSE),"ERROR") -> 29 | M14: =IFERROR(VLOOKUP($H14,ESPN!$B$2:$G$251,6,FALSE),"") -> 16 | N14: 36.55 | O14: =IFERROR(VLOOKUP($H14,BleacherGM!$B$2:$E$276,4,FALSE),"") -> .302-28-118 8SB 104R | P14: EC
B15: =IFERROR(VLOOKUP($H15,ESPN!$B$2:$G$251,2,FALSE),"") -> 7 | C15: =IFERROR(VLOOKUP($H15,RotoChamp!$B$3:$F$302,2,FALSE),"") -> 18 | D15: =IFERROR(VLOOKUP($H15,RotoSummit!$B$4:$G$253,2,FALSE),"") -> 11 | E15: =IFERROR(VLOOKUP($H15,BleacherGM!$B$2:$E$276,2,FALSE),"") -> 11 | F15: =AVERAGE(B15:E15) -> 11.75 | G15: =ROW()-4 -> 11 | H15: Justin Upton | I15: K | J15: OF | K15: ARI | L15: =IFERROR(VLOOKUP($H15,ESPN!$B$2:$G$251,5,FALSE),"ERROR") -> 24 | M15: =IFERROR(VLOOKUP($H15,ESPN!$B$2:$G$251,6,FALSE),"") -> 15 | N15: 30.87 | O15: =IFERROR(VLOOKUP($H15,BleacherGM!$B$2:$E$276,4,FALSE),"") -> .289-31-88 21SB 105R | P15: FF
B16: =IFERROR(VLOOKUP($H16,ESPN!$B$2:$G$251,2,FALSE),"") -> 11 | C16: =IFERROR(VLOOKUP($H16,RotoChamp!$B$3:$F$302,2,FALSE),"") -> 13 | D16: =IFERROR(VLOOKUP($H16,RotoSummit!$B$4:$G$253,2,FALSE),"") -> 10 | E16: =IFERROR(VLOOKUP($H16,BleacherGM!$B$2:$E$276,2,FALSE),"") -> 17 | F16: =AVERAGE(B16:E16) -> 12.75 | G16: =ROW()-4 -> 12 | H16: Roy Halladay | I16: K | J16: SP | K16: PHI | L16: =IFERROR(VLOOKUP($H16,ESPN!$B$2:$G$251,5,FALSE),"ERROR") -> 34 | M16: =IFERROR(VLOOKUP($H16,ESPN!$B$2:$G$251,6,FALSE),"") -> 10 | N16: 36.67 | O16: =IFERROR(VLOOKUP($H16,BleacherGM!$B$2:$E$276,4,FALSE),"") -> 19-6 0Sv 2.35ERA 220K | P16: BL
... B47: =IFERROR(VLOOKUP($H47,ESPN!$B$2:$G$251,2,FALSE),"") -> 36 | C47: =IFERROR(VLOOKUP($H47,RotoChamp!$B$3:$F$302,2,FALSE),"") -> 54 | D47: =IFERROR(VLOOKUP($H47,RotoSummit!$B$4:$G$253,2,FALSE),"") -> 50 | E47: =IFERROR(VLOOKUP($H47,BleacherGM!$B$2:$E$276,2,FALSE),"") -> 51 | F47: =AVERAGE(B47:E47) -> 47.75 | G47: =ROW()-4 -> 43 | H47: David Price | I47: K | J47: SP | K47: TB | L47: =IFERROR(VLOOKUP($H47,ESPN!$B$2:$G$251,5,FALSE),"ERROR") -> 26 | M47: =IFERROR(VLOOKUP($H47,ESPN!$B$2:$G$251,6,FALSE),"") -> 66 | N47: 18.84 | O47: =IFERROR(VLOOKUP($H47,BleacherGM!$B$2:$E$276,4,FALSE),"") -> 12-13 0Sv 3.49ERA 218K | P47: EC
B48: =IFERROR(VLOOKUP($H48,ESPN!$B$2:$G$251,2,FALSE),"") -> 62 | C48: =IFERROR(VLOOKUP($H48,RotoChamp!$B$3:$F$302,2,FALSE),"") -> 40 | D48: =IFERROR(VLOOKUP($H48,RotoSummit!$B$4:$G$253,2,FALSE),"") -> 46 | E48: =IFERROR(VLOOKUP($H48,BleacherGM!$B$2:$E$276,2,FALSE),"") -> 43 | F48: =AVERAGE(B48:E48) -> 47.75 | G48: =ROW()-4 -> 44 | H48: Michael Young | J48: 3B,1B | K48: TEX | L48: =IFERROR(VLOOKUP($H48,ESPN!$B$2:$G$251,5,FALSE),"ERROR") -> 35 | M48: =IFERROR(VLOOKUP($H48,ESPN!$B$2:$G$251,6,FALSE),"") -> 28 | N48: 21.47 | O48: =IFERROR(VLOOKUP($H48,BleacherGM!$B$2:$E$276,4,FALSE),"") -> .338-11-105 6SB 88R | Q48: DDD
B49: =IFERROR(VLOOKUP($H49,ESPN!$B$2:$G$251,2,FALSE),"") -> 47 | C49: =IFERROR(VLOOKUP($H49,RotoChamp!$B$3:$F$302,2,FALSE),"") -> 29 | D49: =IFERROR(VLOOKUP($H49,RotoSummit!$B$4:$G$253,2,FALSE),"") -> 57 | E49: =IFERROR(VLOOKUP($H49,BleacherGM!$B$2:$E$276,2,FALSE),"") -> 59 | F49: =AVERAGE(B49:E49) -> 48 | G49: =ROW()-4 -> 45 | H49: Dan Uggla | I49: K | J49: 2B | K49: ATL | L49: =IFERROR(VLOOKUP($H49,ESPN!$B$2:$G$251,5,FALSE),"ERROR") -> 32 | M49: =IFERROR(VLOOKUP($H49,ESPN!$B$2:$G$251,6,FALSE),"") -> 138 | N49: 24.32 | O49: =IFERROR(VLOOKUP($H49,BleacherGM!$B$2:$E$276,4,FALSE),"") -> .233-36-82 1SB 88R | P49: PD
B50: =IFERROR(VLOOKUP($H50,ESPN!$B$2:$G$251,2,FALSE),"") -> 57 | C50: =IFERROR(VLOOKUP($H50,RotoChamp!$B$3:$F$302,2,FALSE),"") -> 42 | D50: =IFERROR(VLOOKUP($H50,RotoSummit!$B$4:$G$253,2,FALSE),"") -> 37 | E50: =IFERROR(VLOOKUP($H50,BleacherGM!$B$2:$E$276,2,FALSE),"") -> 57 | F50: =AVERAGE(B50:E50) -> 48.25 | G50: =ROW()-4 -> 46 | H50: Eric Hosmer | I50: RK | J50: 1B | K50: KAN | L50: =IFERROR(VLOOKUP($H50,ESPN!$B$2:$G$251,5,FALSE),"ERROR") -> 22 | M50: =IFERROR(VLOOKUP($H50,ESPN!$B$2:$G$251,6,FALSE),"") -> 81 | N50: 21.35 | O50: =IFERROR(VLOOKUP($H50,BleacherGM!$B$2:$E$276,4,FALSE),"") -> .293-19-78 11SB 66R | P50: BBB
B51: =IFERROR(VLOOKUP($H51,ESPN!$B$2:$G$251,2,FALSE),"") -> 30 | C51: =IFERROR(VLOOKUP($H51,RotoChamp!$B$3:$F$302,2,FALSE),"") -> 58 | D51: =IFERROR(VLOOKUP($H51,RotoSummit!$B$4:$G$253,2,FALSE),"") -> 43 | E51: =IFERROR(VLOOKUP($H51,BleacherGM!$B$2:$E$276,2,FALSE),"") -> 70 | F51: =AVERAGE(B51:E51) -> 50.25 | G51: =ROW()-4 -> 47 | H51: Elvis Andrus | I51: K | J51: SS | K51: TEX | L51: =IFERROR(VLOOKUP($H51,ESPN!$B$2:$G$251,5,FALSE),"ERROR") -> 23 | M51: =IFERROR(VLOOKUP($H51,ESPN!$B$2:$G$251,6,FALSE),"") -> 50 | N51: 18.1 | O51: =IFERROR(VLOOKUP($H51,BleacherGM!$B$2:$E$276,4,FALSE),"") -> .279-5-60 37SB 96R | P51: ASS
B52: =IFERROR(VLOOKUP($H52,ESPN!$B$2:$G$251,2,FALSE),"") -> 63 | C52: =IFERROR(VLOOKUP($H52,RotoChamp!$B$3:$F$302,2,FALSE),"") -> 22 | D52: =IFERROR(VLOOKUP($H52,RotoSummit!$B$4:$G$253,2,FALSE),"") -> 58 | E52: =IFERROR(VLOOKUP($H52,BleacherGM!$B$2:$E$276,2,FALSE),"") -> 63 | F52: =AVERAGE(B52:E52) -> 51.5 | G52: =ROW()-4 -> 48 | H52: Mike Napoli | J52: C,1B | K52: TEX | L52: =IFERROR(VLOOKUP($H52,ESPN!$B$2:$G$251,5,FALSE),"ERROR") -> 30 | M52: =IFERROR(VLOOKUP($H52,ESPN!$B$2:$G$251,6,FALSE),"") -> 68 | N52: 27.08 | O52: =IFERROR(VLOOKUP($H52,BleacherGM!$B$2:$E$276,4,FALSE),"") -> .320-30-75 4SB 72R | Q52: DDD
B53: =IFERROR(VLOOKUP($H53,ESPN!$B$2:$G$251,2,FALSE),"") -> 52 | D53: =IFERROR(VLOOKUP($H53,RotoSummit!$B$4:$G$253,2,FALSE),"") -> 70 | E53: =IFERROR(VLOOKUP($H53,BleacherGM!$B$2:$E$276,2,FALSE),"") -> 36 | F53: =AVERAGE(B53:E53) -> 52.666667 | G53: =ROW()-4 -> 49 | H53: Alex Rodriguez | I53: K | J53: 3B | K53: NYY | L53: =IFERROR(VLOOKUP($H53,ESPN!$B$2:$G$251,5,FALSE),"ERROR") -> 36 | M53: =IFERROR(VLOOKUP($H53,ESPN!$B$2:$G$251,6,FALSE),"") -> 189 | N53: 1.62 | O53: =IFERROR(VLOOKUP($H53,BleacherGM!$B$2:$E$276,4,FALSE),"") -> .276-16-62 4SB 67R | P53: DDD
B54: =IFERROR(VLOOKUP($H54,ESPN!$B$2:$G$251,2,FALSE),"") -> 50 | C54: =IFERROR(VLOOKUP($H54,RotoChamp!$B$3:$F$302,2,FALSE),"") -> 34 | D54: =IFERROR(VLOOKUP($H54,RotoSummit!$B$4:$G$253,2,FALSE),"") -> 59 | E54: =IFERROR(VLOOKUP($H54,BleacherGM!$B$2:$E$276,2,FALSE),"") -> 69 | F54: =AVERAGE(B54:E54) -> 53 | G54: =ROW()-4 -> 50 | H54: Matt Cain | I54: K | J54: SP | K54: SF | L54: =IFERROR(VLOOKUP($H54,ESPN!$B$2:$G$251,5,FALSE),"ERROR") -> 27 | M54: =IFERROR(VLOOKUP($H54,ESPN!$B$2:$G$251,6,FALSE),"") -> 51 | N54: 22.51 | O54: =IFERROR(VLOOKUP($H54,BleacherGM!$B$2:$E$276,4,FALSE),"") -> 12-11 0Sv 2.88ERA 179K | P54: WPD
B55: =IFERROR(VLOOKUP($H55,ESPN!$B$2:$G$251,2,FALSE),"") -> 53 | C55: =IFERROR(VLOOKUP($H55,RotoChamp!$B$3:$F$302,2,FALSE),"") -> 53 | D55: =IFERROR(VLOOKUP($H55,RotoSummit!$B$4:$G$253,2,FALSE),"") -> 61 | E55: =IFERROR(VLOOKUP($H55,BleacherGM!$B$2:$E$276,2,FALSE),"") -> 49 | F55: =AVERAGE(B55:E55) -> 54 | G55: =ROW()-4 -> 51 | H55: Zack Greinke | I55: K | J55: SP | K55: MIL | L55: =IFERROR(VLOOKUP($H55,ESPN!$B$2:$G$251,5,FALSE),"ERROR") -> 28 | M55: =IFERROR(VLOOKUP($H55,ESPN!$B$2:$G$251,6,FALSE),"") -> 115 | N55: 19.04 | O55: =IFERROR(VLOOKUP($H55,BleacherGM!$B$2:$E$276,4,FALSE),"") -> 16-6 0Sv 3.82ERA 201K | P55: BBB
B56: =IFERROR(VLOOKUP($H56,ESPN!$B$2:$G$251,2,FALSE),"") -> 78 | C56: =IFERROR(VLOOKUP($H56,RotoChamp!$B$3:$F$302,2,FALSE),"") -> 47 | D56: =IFERROR(VLOOKUP($H56,RotoSummit!$B$4:$G$253,2,FALSE),"") -> 65 | E56: =IFERROR(VLOOKUP($H56,BleacherGM!$B$2:$E$276,2,FALSE),"") -> 31 | F56: =AVERAGE(B56:E56) -> 55.25 | G56: =ROW()-4 -> 52 | H56: Asdrubal Cabrera | I56: K | J56: SS | K56: CLE | L56: =IFERROR(VLOOKUP($H56,ESPN!$B$2:$G$251,5,FALSE),"ERROR") -> 26 | M56: =IFERROR(VLOOKUP($H56,ESPN!$B$2:$G$251,6,FALSE),"") -> 40 | N56: 19.95 | O56: =IFERROR(VLOOKUP($H56,BleacherGM!$B$2:$E$276,4,FALSE),"") -> .273-25-92 17SB 87R | P56: LT
B57: =IFERROR(VLOOKUP($H57,ESPN!$B$2:$G$251,2,FALSE),"") -> 46 | C57: =IFERROR(VLOOKUP($H57,RotoChamp!$B$3:$F$302,2,FALSE),"") -> 56 | D57: =IFERROR(VLOOKUP($H57,RotoSummit!$B$4:$G$253,2,FALSE),"") -> 60 | E57: =IFERROR(VLOOKUP($H57,BleacherGM!$B$2:$E$276,2,FALSE),"") -> 73 | F57: =AVERAGE(B57:E57) -> 58.75 | G57: =ROW()-4 -> 53 | H57: Craig Kimbrel | I57: RK | J57: RP | K57: ATL | L57: =IFERROR(VLOOKUP($H57,ESPN!$B$2:$G$251,5,FALSE),"ERROR") -> 23 | M57: =IFERROR(VLOOKUP($H57,ESPN!$B$2:$G$251,6,FALSE),"") -> 27 | N57: 18.71 | O57: =IFERROR(VLOOKUP($H57,BleacherGM!$B$2:$E$276,4,FALSE),"") -> 4-3 46Sv 2.1ERA 127K | P57: WPD
B58: =IFERROR(VLOOKUP($H58,ESPN!$B$2:$G$251,2,FALSE),"") -> 58 | C58: =IFERROR(VLOOKUP($H58,RotoChamp!$B$3:$F$302,2,FALSE),"") -> 52 | D58: =IFERROR(VLOOKUP($H58,RotoSummit!$B$4:$G$253,2,FALSE),"") -> 53 | E58: =IFERROR(VLOOKUP($H58,BleacherGM!$B$2:$E$276,2,FALSE),"") -> 72 | F58: =AVERAGE(B58:E58) -> 58.75 | G58: =ROW()-4 -> 54 | H58: Rickie Weeks | J58: 2B | K58: MIL | L58: =IFERROR(VLOOKUP($H58,ESPN!$B$2:$G$251,5,FALSE),"ERROR") -> 29 | M58: =IFERROR(VLOOKUP($H58,ESPN!$B$2:$G$251,6,FALSE),"") -> 146 | N58: 19.04 | O58: =IFERROR(VLOOKUP($H58,BleacherGM!$B$2:$E$276,4,FALSE),"") -> .269-20-49 9SB 77R | Q58: ASS
B59: =IFERROR(VLOOKUP($H59,ESPN!$B$2:$G$251,2,FALSE),"") -> 72 | C59: =IFERROR(VLOOKUP($H59,RotoChamp!$B$3:$F$302,2,FALSE),"") -> 60 | D59: =IFERROR(VLOOKUP($H59,RotoSummit!$B$4:$G$253,2,FALSE),"") -> 45 | E59: =IFERROR(VLOOKUP($H59,BleacherGM!$B$2:$E$276,2,FALSE),"") -> 58 | F59: =AVERAGE(B59:E59) -> 58.75 | G59: =ROW()-4 -> 55 | H59: Brian McCann | I59: K | J59: C | K59: ATL | L59: =IFERROR(VLOOKUP($H59,ESPN!$B$2:$G$251,5,FALSE),"ERROR") -> 28 | M59: =IFERROR(VLOOKUP($H59,ESPN!$B$2:$G$251,6,FALSE),"") -> 163 | N59: 17.19 | O59: =IFERROR(VLOOKUP($H59,BleacherGM!$B$2:$E$276,4,FALSE),"") -> .270-24-71 3SB 51R | P59: TMB
B60: =IFERROR(VLOOKUP($H60,ESPN!$B$2:$G$251,2,FALSE),"") -> 55 | C60: =IFERROR(VLOOKUP($H60,RotoChamp!$B$3:$F$302,2,FALSE),"") -> 73 | D60: =IFERROR(VLOOKUP($H60,RotoSummit!$B$4:$G$253,2,FALSE),"") -> 51 | E60: =IFERROR(VLOOKUP($H60,BleacherGM!$B$2:$E$276,2,FALSE),"") -> 60 | F60: =AVERAGE(B60:E60) -> 59.75 | G60: =ROW()-4 -> 56 | H60: Michael Bourn | I60: K | J60: OF | K60: ATL | L60: =IFERROR(VLOOKUP($H60,ESPN!$B$2:$G$251,5,FALSE),"ERROR") -> 29 | M60: =IFERROR(VLOOKUP($H60,ESPN!$B$2:$G$251,6,FALSE),"") -> 19 | N60: 15.71 | O60: =IFERROR(VLOOKUP($H60,BleacherGM!$B$2:$E$276,4,FALSE),"") -> .294-2-50 61SB 94R | P60: DDD
B61: =IFERROR(VLOOKUP($H61,ESPN!$B$2:$G$251,2,FALSE),"") -> 59 | C61: =IFERROR(VLOOKUP($H61,RotoChamp!$B$3:$F$302,2,FALSE),"") -> 70 | D61: =IFERROR(VLOOKUP($H61,RotoSummit!$B$4:$G$253,2,FALSE),"") -> 66 | E61: =IFERROR(VLOOKUP($H61,BleacherGM!$B$2:$E$276,2,FALSE),"") -> 46 | F61: =AVERAGE(B61:E61) -> 60.25 | G61: =ROW()-4 -> 57 | H61: Ian Kennedy | J61: SP | K61: ARI | L61: =IFERROR(VLOOKUP($H61,ESPN!$B$2:$G$251,5,FALSE),"ERROR") -> 27 | M61: =IFERROR(VLOOKUP($H61,ESPN!$B$2:$G$251,6,FALSE),"") -> 25 | N61: 15.86 | O61: =IFERROR(VLOOKUP($H61,BleacherGM!$B$2:$E$276,4,FALSE),"") -> 21-4 0Sv 2.87ERA 198K | Q61: DDD
B62: =IFERROR(VLOOKUP($H62,ESPN!$B$2:$G$251,2,FALSE),"") -> 39 | C62: =IFERROR(VLOOKUP($H62,RotoChamp!$B$3:$F$302,2,FALSE),"") -> 76 | D62: =IFERROR(VLOOKUP($H62,RotoSummit!$B$4:$G$253,2,FALSE),"") -> 49 | E62: =IFERROR(VLOOKUP($H62,BleacherGM!$B$2:$E$276,2,FALSE),"") -> 79 | F62: =AVERAGE(B62:E62) -> 60.75 | G62: =ROW()-4 -> 58 | H62: Ryan Zimmerman | I62: K | J62: 3B | K62: WAS | L62: =IFERROR(VLOOKUP($H62,ESPN!$B$2:$G$251,5,FALSE),"ERROR") -> 27 | M62: =IFERROR(VLOOKUP($H62,ESPN!$B$2:$G$251,6,FALSE),"") -> 248 | N62: 15.38 | O62: =IFERROR(VLOOKUP($H62,BleacherGM!$B$2:$E$276,4,FALSE),"") -> .289-12-49 3SB 52R | P62: TMB
B63: =IFERROR(VLOOKUP($H63,ESPN!$B$2:$G$251,2,FALSE),"") -> 48 | C63: =IFERROR(VLOOKUP($H63,RotoChamp!$B$3:$F$302,2,FALSE),"") -> 71 | D63: =IFERROR(VLOOKUP($H63,RotoSummit!$B$4:$G$253,2,FALSE),"") -> 75 | E63: =IFERROR(VLOOKUP($H63,BleacherGM!$B$2:$E$276,2,FALSE),"") -> 50 | F63: =AVERAGE(B63:E63) -> 61 | G63: =ROW()-4 -> 59 | H63: Alex Gordon | I63: K | J63: OF | K63: KAN | L63: =IFERROR(VLOOKUP($H63,ESPN!$B$2:$G$251,5,FALSE),"ERROR") -> 28 | M63: =IFERROR(VLOOKUP($H63,ESPN!$B$2:$G$251,6,FALSE),"") -> 24 | N63: 15.75 | O63: =IFERROR(VLOOKUP($H63,BleacherGM!$B$2:$E$276,4,FALSE),"") -> .303-23-87 17SB 101R | P63: BGG
B64: =IFERROR(VLOOKUP($H64,ESPN!$B$2:$G$251,2,FALSE),"") -> 45 | C64: =IFERROR(VLOOKUP($H64,RotoChamp!$B$3:$F$302,2,FALSE),"") -> 127 | D64: =IFERROR(VLOOKUP($H64,RotoSummit!$B$4:$G$253,2,FALSE),"") -> 39 | E64: =IFERROR(VLOOKUP($H64,BleacherGM!$B$2:$E$276,2,FALSE),"") -> 34 | F64: =AVERAGE(B64:E64) -> 61.25 | G64: =ROW()-4 -> 60 | H64: Carl Crawford | I64: K | J64: OF | K64: BOS | L64: =IFERROR(VLOOKUP($H64,ESPN!$B$2:$G$251,5,FALSE),"ERROR") -> 30 | M64: =IFERROR(VLOOKUP($H64,ESPN!$B$2:$G$251,6,FALSE),"") -> 190 | N64: 9.07 | O64: =IFERROR(VLOOKUP($H64,BleacherGM!$B$2:$E$276,4,FALSE),"") -> .255-11-56 18SB 65R | P64: BGG
B65: =IFERROR(VLOOKUP($H65,ESPN!$B$2:$G$251,2,FALSE),"") -> 69 | C65: =IFERROR(VLOOKUP($H65,RotoChamp!$B$3:$F$302,2,FALSE),"") -> 74 | D65: =IFERROR(VLOOKUP($H65,RotoSummit!$B$4:$G$253,2,FALSE),"") -> 71 | E65: =IFERROR(VLOOKUP($H65,BleacherGM!$B$2:$E$276,2,FALSE),"") -> 40 | F65: =AVERAGE(B65:E65) -> 63.5 | G65: =ROW()-4 -> 61 | H65: Brandon Phillips | I65: K | J65: 2B | K65: CIN | L65: =IFERROR(VLOOKUP($H65,ESPN!$B$2:$G$251,5,FALSE),"ERROR") -> 30 | M65: =IFERROR(VLOOKUP($H65,ESPN!$B$2:$G$251,6,FALSE),"") -> 33 | N65: 15.67 | O65: =IFERROR(VLOOKUP($H65,BleacherGM!$B$2:$E$276,4,FALSE),"") -> .300-18-82 14SB 94R | P65: FF
B66: =IFERROR(VLOOKUP($H66,ESPN!$B$2:$G$251,2,FALSE),"") -> 56 | C66: =IFERROR(VLOOKUP($H66,RotoChamp!$B$3:$F$302,2,FALSE),"") -> 109 | D66: =IFERROR(VLOOKUP($H66,RotoSummit!$B$4:$G$253,2,FALSE),"") -> 40 | E66: =IFERROR(VLOOKUP($H66,BleacherGM!$B$2:$E$276,2,FALSE),"") -> 52 | F66: =AVERAGE(B66:E66) -> 64.25 | G66: =ROW()-4 -> 62 | H66: Nelson Cruz | I66: K | J66: OF | K66: TEX | L66: =IFERROR(VLOOKUP($H66,ESPN!$B$2:$G$251,5,FALSE),"ERROR") -> 31 | M66: =IFERROR(VLOOKUP($H66,ESPN!$B$2:$G$251,6,FALSE),"") -> 90 | N66: 10.39 | O66: =IFERROR(VLOOKUP($H66,BleacherGM!$B$2:$E$276,4,FALSE),"") -> .263-29-87 9SB 64R | P66: BL
B67: =IFERROR(VLOOKUP($H67,ESPN!$B$2:$G$251,2,FALSE),"") -> 40 | C67: =IFERROR(VLOOKUP($H67,RotoChamp!$B$3:$F$302,2,FALSE),"") -> 101 | D67: =IFERROR(VLOOKUP($H67,RotoSummit!$B$4:$G$253,2,FALSE),"") -> 69 | E67: =IFERROR(VLOOKUP($H67,BleacherGM!$B$2:$E$276,2,FALSE),"") -> 55 | F67: =AVERAGE(B67:E67) -> 66.25 | G67: =ROW()-4 -> 63 | H67: Jon Lester | I67: K | J67: SP | K67: BOS | L67: =IFERROR(VLOOKUP($H67,ESPN!$B$2:$G$251,5,FALSE),"ERROR") -> 28 | M67: =IFERROR(VLOOKUP($H67,ESPN!$B$2:$G$251,6,FALSE),"") -> 119 | N67: 11.78 | O67: =IFERROR(VLOOKUP($H67,BleacherGM!$B$2:$E$276,4,FALSE),"") -> 15-9 0Sv 3.47ERA 182K | P67: FF
B68: =IFERROR(VLOOKUP($H68,ESPN!$B$2:$G$251,2,FALSE),"") -> 90 | C68: =IFERROR(VLOOKUP($H68,RotoChamp!$B$3:$F$302,2,FALSE),"") -> 37 | D68: =IFERROR(VLOOKUP($H68,RotoSummit!$B$4:$G$253,2,FALSE),"") -> 55 | E68: =IFERROR(VLOOKUP($H68,BleacherGM!$B$2:$E$276,2,FALSE),"") -> 83 | F68: =AVERAGE(B68:E68) -> 66.25 | G68: =ROW()-4 -> 64 | H68: Pablo Sandoval | I68: K | J68: 3B | K68: SF | L68: =IFERROR(VLOOKUP($H68,ESPN!$B$2:$G$251,5,FALSE),"ERROR") -> 25 | M68: =IFERROR(VLOOKUP($H68,ESPN!$B$2:$G$251,6,FALSE),"") -> 98 | N68: 21.68 | O68: =IFERROR(VLOOKUP($H68,BleacherGM!$B$2:$E$276,4,FALSE),"") -> .315-23-70 2SB 55R | P68: ASS
B69: =IFERROR(VLOOKUP($H69,ESPN!$B$2:$G$251,2,FALSE),"") -> 66 | D69: =IFERROR(VLOOKUP($H69,RotoSummit!$B$4:$G$253,2,FALSE),"") -> 76 | E69: =IFERROR(VLOOKUP($H69,BleacherGM!$B$2:$E$276,2,FALSE),"") -> 61 | F69: =AVERAGE(B69:E69) -> 67.666667 | G69: =ROW()-4 -> 65 | H69: Kevin Youkilis | J69: 3B | K69: BOS | L69: =IFERROR(VLOOKUP($H69,ESPN!$B$2:$G$251,5,FALSE),"ERROR") -> 33 | M69: =IFERROR(VLOOKUP($H69,ESPN!$B$2:$G$251,6,FALSE),"") -> 193 | N69: 5.28 | O69: =IFERROR(VLOOKUP($H69,BleacherGM!$B$2:$E$276,4,FALSE),"") -> .258-17-80 3SB 68R | Q69: ASS
B70: =IFERROR(VLOOKUP($H70,ESPN!$B$2:$G$251,2,FALSE),"") -> 71 | C70: =IFERROR(VLOOKUP($H70,RotoChamp!$B$3:$F$302,2,FALSE),"") -> 103 | D70: =IFERROR(VLOOKUP($H70,RotoSummit!$B$4:$G$253,2,FALSE),"") -> 56 | E70: =IFERROR(VLOOKUP($H70,BleacherGM!$B$2:$E$276,2,FALSE),"") -> 42 | F70: =AVERAGE(B70:E70) -> 68 | G70: =ROW()-4 -> 66 | H70: James Shields | I70: K | J70: SP | K70: TB | L70: =IFERROR(VLOOKUP($H70,ESPN!$B$2:$G$251,5,FALSE),"ERROR") -> 30 | M70: =IFERROR(VLOOKUP($H70,ESPN!$B$2:$G$251,6,FALSE),"") -> 22 | N70: 11.33 | O70: =IFERROR(VLOOKUP($H70,BleacherGM!$B$2:$E$276,4,FALSE),"") -> 16-12 0Sv 2.81ERA 225K | P70: BL
B71: =IFERROR(VLOOKUP($H71,ESPN!$B$2:$G$251,2,FALSE),"") -> 115 | C71: =IFERROR(VLOOKUP($H71,RotoChamp!$B$3:$F$302,2,FALSE),"") -> 15 | D71: =IFERROR(VLOOKUP($H71,RotoSummit!$B$4:$G$253,2,FALSE),"") -> 79 | E71: =IFERROR(VLOOKUP($H71,BleacherGM!$B$2:$E$276,2,FALSE),"") -> 74 | F71: =AVERAGE(B71:E71) -> 70.75 | G71: =ROW()-4 -> 67 | H71: Stephen Strasburg | I71: RK | J71: SP | K71: WAS | L71: =IFERROR(VLOOKUP($H71,ESPN!$B$2:$G$251,5,FALSE),"ERROR") -> 23 | M71: =IFERROR(VLOOKUP($H71,ESPN!$B$2:$G$251,6,FALSE),"") -> 548 | N71: 34.55 | O71: =IFERROR(VLOOKUP($H71,BleacherGM!$B$2:$E$276,4,FALSE),"") -> 1-1 0Sv 1.5ERA 24K | P71: BBB
B72: =IFERROR(VLOOKUP($H72,ESPN!$B$2:$G$251,2,FALSE),"") -> 64 | D72: =IFERROR(VLOOKUP($H72,RotoSummit!$B$4:$G$253,2,FALSE),"") -> 74 | E72: =IFERROR(VLOOKUP($H72,BleacherGM!$B$2:$E$276,2,FALSE),"") -> 77 | F72: =AVERAGE(B72:E72) -> 71.666667 | G72: =ROW()-4 -> 68 | H72: Chase Utley | I72: K | J72: 2B | K72: PHI | L72: =IFERROR(VLOOKUP($H72,ESPN!$B$2:$G$251,5,FALSE),"ERROR") -> 33 | M72: =IFERROR(VLOOKUP($H72,ESPN!$B$2:$G$251,6,FALSE),"") -> 261 | N72: 7.3 | O72: =IFERROR(VLOOKUP($H72,BleacherGM!$B$2:$E$276,4,FALSE),"") -> .259-11-44 14SB 54R | P72: AAH
B73: =IFERROR(VLOOKUP($H73,ESPN!$B$2:$G$251,2,FALSE),"") -> 104 | C73: =IFERROR(VLOOKUP($H73,RotoChamp!$B$3:$F$302,2,FALSE),"") -> 55 | D73: =IFERROR(VLOOKUP($H73,RotoSummit!$B$4:$G$253,2,FALSE),"") -> 52 | E73: =IFERROR(VLOOKUP($H73,BleacherGM!$B$2:$E$276,2,FALSE),"") -> 78 | F73: =AVERAGE(B73:E73) -> 72.25 | G73: =ROW()-4 -> 69 | H73: Ben Zobrist | I73: K | J73: 2B,OF | K73: TB | L73: =IFERROR(VLOOKUP($H73,ESPN!$B$2:$G$251,5,FALSE),"ERROR") -> 30 | M73: =IFERROR(VLOOKUP($H73,ESPN!$B$2:$G$251,6,FALSE),"") -> 46 | N73: 18.8 | O73: =IFERROR(VLOOKUP($H73,BleacherGM!$B$2:$E$276,4,FALSE),"") -> .269-20-91 19SB 99R | P73: ASS
B74: =IFERROR(VLOOKUP($H74,ESPN!$B$2:$G$251,2,FALSE),"") -> 67 | C74: =IFERROR(VLOOKUP($H74,RotoChamp!$B$3:$F$302,2,FALSE),"") -> 86 | D74: =IFERROR(VLOOKUP($H74,RotoSummit!$B$4:$G$253,2,FALSE),"") -> 73 | E74: =IFERROR(VLOOKUP($H74,BleacherGM!$B$2:$E$276,2,FALSE),"") -> 65 | F74: =AVERAGE(B74:E74) -> 72.75 | G74: =ROW()-4 -> 70 | H74: Aramis Ramirez | I74: K | J74: 3B | K74: FA | L74: =IFERROR(VLOOKUP($H74,ESPN!$B$2:$G$251,5,FALSE),"ERROR") -> 33 | M74: =IFERROR(VLOOKUP($H74,ESPN!$B$2:$G$251,6,FALSE),"") -> 47 | N74: 12.91 | O74: =IFERROR(VLOOKUP($H74,BleacherGM!$B$2:$E$276,4,FALSE),"") -> .306-26-93 1SB 80R | P74: EC
B75: =IFERROR(VLOOKUP($H75,ESPN!$B$2:$G$251,2,FALSE),"") -> 84 | C75: =IFERROR(VLOOKUP($H75,RotoChamp!$B$3:$F$302,2,FALSE),"") -> 92 | D75: =IFERROR(VLOOKUP($H75,RotoSummit!$B$4:$G$253,2,FALSE),"") -> 62 | E75: =IFERROR(VLOOKUP($H75,BleacherGM!$B$2:$E$276,2,FALSE),"") -> 53 | F75: =AVERAGE(B75:E75) -> 72.75 | G75: =ROW()-4 -> 71 | H75: Jimmy Rollins | I75: K | J75: SS | K75: FA | L75: =IFERROR(VLOOKUP($H75,ESPN!$B$2:$G$251,5,FALSE),"ERROR") -> 33 | M75: =IFERROR(VLOOKUP($H75,ESPN!$B$2:$G$251,6,FALSE),"") -> 58 | N75: 12.53 | O75: =IFERROR(VLOOKUP($H75,BleacherGM!$B$2:$E$276,4,FALSE),"") -> .268-16-63 30SB 87R | P75: EC
B76: =IFERROR(VLOOKUP($H76,ESPN!$B$2:$G$251,2,FALSE),"") -> 107 | C76: =IFERROR(VLOOKUP($H76,RotoChamp!$B$3:$F$302,2,FALSE),"") -> 48 | D76: =IFERROR(VLOOKUP($H76,RotoSummit!$B$4:$G$253,2,FALSE),"") -> 85 | E76: =IFERROR(VLOOKUP($H76,BleacherGM!$B$2:$E$276,2,FALSE),"") -> 56 | F76: =AVERAGE(B76:E76) -> 74 | G76: =ROW()-4 -> 72 | H76: Michael Morse | I76: K | J76: OF,1B | K76: WAS | L76: =IFERROR(VLOOKUP($H76,ESPN!$B$2:$G$251,5,FALSE),"ERROR") -> 30 | M76: =IFERROR(VLOOKUP($H76,ESPN!$B$2:$G$251,6,FALSE),"") -> 42 | N76: 19.87 | O76: =IFERROR(VLOOKUP($H76,BleacherGM!$B$2:$E$276,4,FALSE),"") -> .303-31-95 2SB 73R | P76: WPD
B77: =IFERROR(VLOOKUP($H77,ESPN!$B$2:$G$251,2,FALSE),"") -> 60 | C77: =IFERROR(VLOOKUP($H77,RotoChamp!$B$3:$F$302,2,FALSE),"") -> 133 | D77: =IFERROR(VLOOKUP($H77,RotoSummit!$B$4:$G$253,2,FALSE),"") -> 54 | E77: =IFERROR(VLOOKUP($H77,BleacherGM!$B$2:$E$276,2,FALSE),"") -> 54 | F77: =AVERAGE(B77:E77) -> 75.25 | G77: =ROW()-4 -> 73 | H77: Shane Victorino | J77: OF | K77: PHI | L77: =IFERROR(VLOOKUP($H77,ESPN!$B$2:$G$251,5,FALSE),"ERROR") -> 31 | M77: =IFERROR(VLOOKUP($H77,ESPN!$B$2:$G$251,6,FALSE),"") -> 71 | N77: 8.83 | O77: =IFERROR(VLOOKUP($H77,BleacherGM!$B$2:$E$276,4,FALSE),"") -> .279-17-61 19SB 95R | Q77: DDD
B78: =IFERROR(VLOOKUP($H78,ESPN!$B$2:$G$251,2,FALSE),"") -> 54 | C78: =IFERROR(VLOOKUP($H78,RotoChamp!$B$3:$F$302,2,FALSE),"") -> 90 | D78: =IFERROR(VLOOKUP($H78,RotoSummit!$B$4:$G$253,2,FALSE),"") -> 94 | E78: =IFERROR(VLOOKUP($H78,BleacherGM!$B$2:$E$276,2,FALSE),"") -> 68 | F78: =AVERAGE(B78:E78) -> 76.5 | G78: =ROW()-4 -> 74 | H78: Yovani Gallardo | I78: K | J78: SP | K78: MIL | L78: =IFERROR(VLOOKUP($H78,ESPN!$B$2:$G$251,5,FALSE),"ERROR") -> 26 | M78: =IFERROR(VLOOKUP($H78,ESPN!$B$2:$G$251,6,FALSE),"") -> 79 | N78: 12.67 | O78: =IFERROR(VLOOKUP($H78,BleacherGM!$B$2:$E$276,4,FALSE),"") -> 17-10 0Sv 3.51ERA 207K | P78: TMB
B79: =IFERROR(VLOOKUP($H79,ESPN!$B$2:$G$251,2,FALSE),"") -> 74 | C79: =IFERROR(VLOOKUP($H79,RotoChamp!$B$3:$F$302,2,FALSE),"") -> 68 | D79: =IFERROR(VLOOKUP($H79,RotoSummit!$B$4:$G$253,2,FALSE),"") -> 64 | E79: =IFERROR(VLOOKUP($H79,BleacherGM!$B$2:$E$276,2,FALSE),"") -> 101 | F79: =AVERAGE(B79:E79) -> 76.75 | G79: =ROW()-4 -> 75 | H79: Tommy Hanson | I79: K | J79: SP | K79: ATL | L79: =IFERROR(VLOOKUP($H79,ESPN!$B$2:$G$251,5,FALSE),"ERROR") -> 25 | M79: =IFERROR(VLOOKUP($H79,ESPN!$B$2:$G$251,6,FALSE),"") -> 166 | N79: 15.98 | O79: =IFERROR(VLOOKUP($H79,BleacherGM!$B$2:$E$276,4,FALSE),"") -> 11-7 0Sv 3.6ERA 142K | P79: BGG
B80: =IFERROR(VLOOKUP($H80,ESPN!$B$2:$G$251,2,FALSE),"") -> 70 | C80: =IFERROR(VLOOKUP($H80,RotoChamp!$B$3:$F$302,2,FALSE),"") -> 63 | D80: =IFERROR(VLOOKUP($H80,RotoSummit!$B$4:$G$253,2,FALSE),"") -> 95 | E80: =IFERROR(VLOOKUP($H80,BleacherGM!$B$2:$E$276,2,FALSE),"") -> 86 | F80: =AVERAGE(B80:E80) -> 78.5 | G80: =ROW()-4 -> 76 | H80: Adam Jones | I80: K | J80: OF | K80: BAL | L80: =IFERROR(VLOOKUP($H80,ESPN!$B$2:$G$251,5,FALSE),"ERROR") -> 26 | M80: =IFERROR(VLOOKUP($H80,ESPN!$B$2:$G$251,6,FALSE),"") -> 70 | N80: 16.61 | O80: =IFERROR(VLOOKUP($H80,BleacherGM!$B$2:$E$276,4,FALSE),"") -> .280-25-83 12SB 68R | P80: ASS
B81: =IFERROR(VLOOKUP($H81,ESPN!$B$2:$G$251,2,FALSE),"") -> 61 | C81: =IFERROR(VLOOKUP($H81,RotoChamp!$B$3:$F$302,2,FALSE),"") -> 57 | D81: =IFERROR(VLOOKUP($H81,RotoSummit!$B$4:$G$253,2,FALSE),"") -> 63 | E81: =IFERROR(VLOOKUP($H81,BleacherGM!$B$2:$E$276,2,FALSE),"") -> 134 | F81: =AVERAGE(B81:E81) -> 78.75 | G81: =ROW()-4 -> 77 | H81: Desmond Jennings | I81: RK | J81: OF | K81: TB | L81: =IFERROR(VLOOKUP($H81,ESPN!$B$2:$G$251,5,FALSE),"ERROR") -> 25 | M81: =IFERROR(VLOOKUP($H81,ESPN!$B$2:$G$251,6,FALSE),"") -> 270 | N81: 18.55 | O81: =IFERROR(VLOOKUP($H81,BleacherGM!$B$2:$E$276,4,FALSE),"") -> .259-10-25 20SB 44R | P81: BBB
B82: =IFERROR(VLOOKUP($H82,ESPN!$B$2:$G$251,2,FALSE),"") -> 81 | C82: =IFERROR(VLOOKUP($H82,RotoChamp!$B$3:$F$302,2,FALSE),"") -> 99 | D82: =IFERROR(VLOOKUP($H82,RotoSummit!$B$4:$G$253,2,FALSE),"") -> 68 | E82: =IFERROR(VLOOKUP($H82,BleacherGM!$B$2:$E$276,2,FALSE),"") -> 67 | F82: =AVERAGE(B82:E82) -> 78.75 | G82: =ROW()-4 -> 78 | H82: B.J. Upton | I82: K | J82: OF | K82: TB | L82: =IFERROR(VLOOKUP($H82,ESPN!$B$2:$G$251,5,FALSE),"ERROR") -> 27 | M82: =IFERROR(VLOOKUP($H82,ESPN!$B$2:$G$251,6,FALSE),"") -> 45 | N82: 12 | O82: =IFERROR(VLOOKUP($H82,BleacherGM!$B$2:$E$276,4,FALSE),"") -> .243-23-81 36SB 82R | P82: TMB
B83: =IFERROR(VLOOKUP($H83,ESPN!$B$2:$G$251,2,FALSE),"") -> 116 | C83: =IFERROR(VLOOKUP($H83,RotoChamp!$B$3:$F$302,2,FALSE),"") -> 59 | D83: =IFERROR(VLOOKUP($H83,RotoSummit!$B$4:$G$253,2,FALSE),"") -> 80 | E83: =IFERROR(VLOOKUP($H83,BleacherGM!$B$2:$E$276,2,FALSE),"") -> 66 | F83: =AVERAGE(B83:E83) -> 80.25 | G83: =ROW()-4 -> 79 | H83: Lance Berkman | J83: OF,1B | K83: STL | L83: =IFERROR(VLOOKUP($H83,ESPN!$B$2:$G$251,5,FALSE),"ERROR") -> 36 | M83: =IFERROR(VLOOKUP($H83,ESPN!$B$2:$G$251,6,FALSE),"") -> 36 | N83: 17.97 | O83: =IFERROR(VLOOKUP($H83,BleacherGM!$B$2:$E$276,4,FALSE),"") -> .301-31-94 2SB 90R | Q83: EC
B84: =IFERROR(VLOOKUP($H84,ESPN!$B$2:$G$251,2,FALSE),"") -> 79 | C84: =IFERROR(VLOOKUP($H84,RotoChamp!$B$3:$F$302,2,FALSE),"") -> 85 | D84: =IFERROR(VLOOKUP($H84,RotoSummit!$B$4:$G$253,2,FALSE),"") -> 78 | E84: =IFERROR(VLOOKUP($H84,BleacherGM!$B$2:$E$276,2,FALSE),"") -> 87 | F84: =AVERAGE(B84:E84) -> 82.25 | G84: =ROW()-4 -> 80 | H84: Mariano Rivera | J84: RP | K84: NYY | L84: =IFERROR(VLOOKUP($H84,ESPN!$B$2:$G$251,5,FALSE),"ERROR") -> 42 | M84: =IFERROR(VLOOKUP($H84,ESPN!$B$2:$G$251,6,FALSE),"") -> 59 | N84: 13 | O84: =IFERROR(VLOOKUP($H84,BleacherGM!$B$2:$E$276,4,FALSE),"") -> 1-2 44Sv 1.9ERA 60K | Q84: DDD
B85: =IFERROR(VLOOKUP($H85,ESPN!$B$2:$G$251,2,FALSE),"") -> 68 | C85: =IFERROR(VLOOKUP($H85,RotoChamp!$B$3:$F$302,2,FALSE),"") -> 77 | D85: =IFERROR(VLOOKUP($H85,RotoSummit!$B$4:$G$253,2,FALSE),"") -> 67 | E85: =IFERROR(VLOOKUP($H85,BleacherGM!$B$2:$E$276,2,FALSE),"") -> 121 | F85: =AVERAGE(B85:E85) -> 83.25 | G85: =ROW()-4 -> 81 | H85: Shin-Soo Choo | I85: K | J85: OF | K85: CLE | L85: =IFERROR(VLOOKUP($H85,ESPN!$B$2:$G$251,5,FALSE),"ERROR") -> 29 | M85: =IFERROR(VLOOKUP($H85,ESPN!$B$2:$G$251,6,FALSE),"") -> 355 | N85: 15.25 | O85: =IFERROR(VLOOKUP($H85,BleacherGM!$B$2:$E$276,4,FALSE),"") -> .259-8-36 12SB 37R | P85: BGG
B86: =IFERROR(VLOOKUP($H86,ESPN!$B$2:$G$251,2,FALSE),"") -> 112 | C86: =IFERROR(VLOOKUP($H86,RotoChamp!$B$3:$F$302,2,FALSE),"") -> 51 | D86: =IFERROR(VLOOKUP($H86,RotoSummit!$B$4:$G$253,2,FALSE),"") -> 97 | E86: =IFERROR(VLOOKUP($H86,BleacherGM!$B$2:$E$276,2,FALSE),"") -> 75 | F86: =AVERAGE(B86:E86) -> 83.75 | G86: =ROW()-4 -> 82 | H86: Buster Posey | I86: RK | J86: C | K86: SF | L86: =IFERROR(VLOOKUP($H86,ESPN!$B$2:$G$251,5,FALSE),"ERROR") -> 25 | M86: =IFERROR(VLOOKUP($H86,ESPN!$B$2:$G$251,6,FALSE),"") -> 629 | N86: 19.29 | O86: =IFERROR(VLOOKUP($H86,BleacherGM!$B$2:$E$276,4,FALSE),"") -> .284-4-21 3SB 17R | P86: TMB
B87: =IFERROR(VLOOKUP($H87,ESPN!$B$2:$G$251,2,FALSE),"") -> 76 | C87: =IFERROR(VLOOKUP($H87,RotoChamp!$B$3:$F$302,2,FALSE),"") -> 78 | D87: =IFERROR(VLOOKUP($H87,RotoSummit!$B$4:$G$253,2,FALSE),"") -> 72 | E87: =IFERROR(VLOOKUP($H87,BleacherGM!$B$2:$E$276,2,FALSE),"") -> 117 | F87: =AVERAGE(B87:E87) -> 85.75 | G87: =ROW()-4 -> 83 | H87: Corey Hart | J87: OF | K87: MIL | L87: =IFERROR(VLOOKUP($H87,ESPN!$B$2:$G$251,5,FALSE),"ERROR") -> 30 | M87: =IFERROR(VLOOKUP($H87,ESPN!$B$2:$G$251,6,FALSE),"") -> 95 | N87: 14.31 | O87: =IFERROR(VLOOKUP($H87,BleacherGM!$B$2:$E$276,4,FALSE),"") -> .285-26-63 7SB 80R | Q87: DDD
B88: =IFERROR(VLOOKUP($H88,ESPN!$B$2:$G$251,2,FALSE),"") -> 75 | C88: =IFERROR(VLOOKUP($H88,RotoChamp!$B$3:$F$302,2,FALSE),"") -> 75 | D88: =IFERROR(VLOOKUP($H88,RotoSummit!$B$4:$G$253,2,FALSE),"") -> 101 | E88: =IFERROR(VLOOKUP($H88,BleacherGM!$B$2:$E$276,2,FALSE),"") -> 100 | F88: =AVERAGE(B88:E88) -> 87.75 | G88: =ROW()-4 -> 84 | H88: Madison Bumgarner | I88: K | J88: SP | K88: SF | L88: =IFERROR(VLOOKUP($H88,ESPN!$B$2:$G$251,5,FALSE),"ERROR") -> 22 | M88: =IFERROR(VLOOKUP($H88,ESPN!$B$2:$G$251,6,FALSE),"") -> 91 | N88: 15.61 | O88: =IFERROR(VLOOKUP($H88,BleacherGM!$B$2:$E$276,4,FALSE),"") -> 13-13 0Sv 3.21ERA 191K | P88: TMB
B89: =IFERROR(VLOOKUP($H89,ESPN!$B$2:$G$251,2,FALSE),"") -> 108 | C89: =IFERROR(VLOOKUP($H89,RotoChamp!$B$3:$F$302,2,FALSE),"") -> 67 | D89: =IFERROR(VLOOKUP($H89,RotoSummit!$B$4:$G$253,2,FALSE),"") -> 87 | E89: =IFERROR(VLOOKUP($H89,BleacherGM!$B$2:$E$276,2,FALSE),"") -> 89 | F89: =AVERAGE(B89:E89) -> 87.75 | G89: =ROW()-4 -> 85 | H89: C.J. Wilson | J89: SP | K89: LAA | L89: =IFERROR(VLOOKUP($H89,ESPN!$B$2:$G$251,5,FALSE),"ERROR") -> 31 | M89: =IFERROR(VLOOKUP($H89,ESPN!$B$2:$G$251,6,FALSE),"") -> 49 | N89: 16.06 | O89: =IFERROR(VLOOKUP($H89,BleacherGM!$B$2:$E$276,4,FALSE),"") -> 16-7 0Sv 2.9ERA 206K | Q89: ???
B90: =IFERROR(VLOOKUP($H90,ESPN!$B$2:$G$251,2,FALSE),"") -> 87 | D90: =IFERROR(VLOOKUP($H90,RotoSummit!$B$4:$G$253,2,FALSE),"") -> 104 | E90: =IFERROR(VLOOKUP($H90,BleacherGM!$B$2:$E$276,2,FALSE),"") -> 76 | F90: =AVERAGE(B90:E90) -> 89 | G90: =ROW()-4 -> 86 | H90: David Ortiz | J90: DH | K90: FA | L90: =IFERROR(VLOOKUP($H90,ESPN!$B$2:$G$251,5,FALSE),"ERROR") -> 36 | M90: =IFERROR(VLOOKUP($H90,ESPN!$B$2:$G$251,6,FALSE),"") -> 37 | N90: 1 | O90: =IFERROR(VLOOKUP($H90,BleacherGM!$B$2:$E$276,4,FALSE),"") -> .309-29-96 1SB 84R | Q90: DDD
B91: =IFERROR(VLOOKUP($H91,ESPN!$B$2:$G$251,2,FALSE),"") -> 105 | C91: =IFERROR(VLOOKUP($H91,RotoChamp!$B$3:$F$302,2,FALSE),"") -> 83 | D91: =IFERROR(VLOOKUP($H91,RotoSummit!$B$4:$G$253,2,FALSE),"") -> 89 | E91: =IFERROR(VLOOKUP($H91,BleacherGM!$B$2:$E$276,2,FALSE),"") -> 81 | F91: =AVERAGE(B91:E91) -> 89.5 | G91: =ROW()-4 -> 87 | H91: Jonathan Papelbon | J91: RP | K91: PHI | L91: =IFERROR(VLOOKUP($H91,ESPN!$B$2:$G$251,5,FALSE),"ERROR") -> 31 | M91: =IFERROR(VLOOKUP($H91,ESPN!$B$2:$G$251,6,FALSE),"") -> 82 | N91: 13.24 | O91: =IFERROR(VLOOKUP($H91,BleacherGM!$B$2:$E$276,4,FALSE),"") -> 4-1 31Sv 2.93ERA 87K | Q91: EC
B92: =IFERROR(VLOOKUP($H92,ESPN!$B$2:$G$251,2,FALSE),"") -> 113 | C92: =IFERROR(VLOOKUP($H92,RotoChamp!$B$3:$F$302,2,FALSE),"") | D92: =IFERROR(VLOOKUP($H92,RotoSummit!$B$4:$G$253,2,FALSE),"") -> 93 | E92: =IFERROR(VLOOKUP($H92,BleacherGM!$B$2:$E$276,2,FALSE),"") -> 64 | F92: =AVERAGE(B92:E92) -> 90 | G92: =ROW()-4 -> 88 | H92: Ryan Howard | I92: K | J92: =IFERROR(VLOOKUP($H92,ESPN!$B$2:$G$251,4,FALSE),"") -> 1B | K92: =IFERROR(VLOOKUP($H92,ESPN!$B$2:$G$251,3,FALSE),"") -> Phi | L92: =IFERROR(VLOOKUP($H92,ESPN!$B$2:$G$251,5,FALSE),"") -> 32 | M92: =IFERROR(VLOOKUP($H92,ESPN!$B$2:$G$251,6,FALSE),"") -> 80 | O92: =IFERROR(VLOOKUP($H92,BleacherGM!$B$2:$E$276,4,FALSE),"") -> .253-33-116 1SB 81R | P92: DDD
B93: =IFERROR(VLOOKUP($H93,ESPN!$B$2:$G$251,2,FALSE),"") -> 73 | D93: =IFERROR(VLOOKUP($H93,RotoSummit!$B$4:$G$253,2,FALSE),"") -> 77 | E93: =IFERROR(VLOOKUP($H93,BleacherGM!$B$2:$E$276,2,FALSE),"") -> 126 | F93: =AVERAGE(B93:E93) -> 92 | G93: =ROW()-4 -> 89 | H93: Drew Stubbs | I93: K | J93: OF | K93: CIN | L93: =IFERROR(VLOOKUP($H93,ESPN!$B$2:$G$251,5,FALSE),"ERROR") -> 27 | M93: =IFERROR(VLOOKUP($H93,ESPN!$B$2:$G$251,6,FALSE),"") -> 76 | N93: 7.8 | O93: =IFERROR(VLOOKUP($H93,BleacherGM!$B$2:$E$276,4,FALSE),"") -> .243-15-44 40SB 92R | P93: WPD
B94: =IFERROR(VLOOKUP($H94,ESPN!$B$2:$G$251,2,FALSE),"") -> 106 | D94: =IFERROR(VLOOKUP($H94,RotoSummit!$B$4:$G$253,2,FALSE),"") -> 103 | E94: =IFERROR(VLOOKUP($H94,BleacherGM!$B$2:$E$276,2,FALSE),"") -> 71 | F94: =AVERAGE(B94:E94) -> 93.333333 | G94: =ROW()-4 -> 90 | H94: Jason Heyward | I94: K | J94: OF | K94: ATL | L94: =IFERROR(VLOOKUP($H94,ESPN!$B$2:$G$251,5,FALSE),"ERROR") -> 22 | M94: =IFERROR(VLOOKUP($H94,ESPN!$B$2:$G$251,6,FALSE),"") -> 386 | N94: 4.87 | O94: =IFERROR(VLOOKUP($H94,BleacherGM!$B$2:$E$276,4,FALSE),"") -> .227-14-42 9SB 50R | P94: PD
B95: =IFERROR(VLOOKUP($H95,ESPN!$B$2:$G$251,2,FALSE),"") -> 65 | C95: =IFERROR(VLOOKUP($H95,RotoChamp!$B$3:$F$302,2,FALSE),"") -> 140 | D95: =IFERROR(VLOOKUP($H95,RotoSummit!$B$4:$G$253,2,FALSE),"") -> 88 | E95: =IFERROR(VLOOKUP($H95,BleacherGM!$B$2:$E$276,2,FALSE),"") -> 84 | F95: =AVERAGE(B95:E95) -> 94.25 | G95: =ROW()-4 -> 91 | H95: Drew Storen | I95: K | J95: RP | K95: WAS | L95: =IFERROR(VLOOKUP($H95,ESPN!$B$2:$G$251,5,FALSE),"ERROR") -> 24 | M95: =IFERROR(VLOOKUP($H95,ESPN!$B$2:$G$251,6,FALSE),"") -> 53 | N95: 8.31 | O95: =IFERROR(VLOOKUP($H95,BleacherGM!$B$2:$E$276,4,FALSE),"") -> 6-3 43Sv 2.74ERA 74K | P95: EC
B96: =IFERROR(VLOOKUP($H96,ESPN!$B$2:$G$251,2,FALSE),"") -> 91 | C96: =IFERROR(VLOOKUP($H96,RotoChamp!$B$3:$F$302,2,FALSE),"") -> 126 | D96: =IFERROR(VLOOKUP($H96,RotoSummit!$B$4:$G$253,2,FALSE),"") -> 81 | E96: =IFERROR(VLOOKUP($H96,BleacherGM!$B$2:$E$276,2,FALSE),"") -> 82 | F96: =AVERAGE(B96:E96) -> 95 | G96: =ROW()-4 -> 92 | H96: John Axford | I96: K | J96: RP | K96: MIL | L96: =IFERROR(VLOOKUP($H96,ESPN!$B$2:$G$251,5,FALSE),"ERROR") -> 29 | M96: =IFERROR(VLOOKUP($H96,ESPN!$B$2:$G$251,6,FALSE),"") -> 54 | N96: 9.37 | O96: =IFERROR(VLOOKUP($H96,BleacherGM!$B$2:$E$276,4,FALSE),"") -> 2-2 46Sv 1.98ERA 83K | P96: FF
B97: =IFERROR(VLOOKUP($H97,ESPN!$B$2:$G$251,2,FALSE),"") -> 99 | C97: =IFERROR(VLOOKUP($H97,RotoChamp!$B$3:$F$302,2,FALSE),"") -> 44 | D97: =IFERROR(VLOOKUP($H97,RotoSummit!$B$4:$G$253,2,FALSE),"") -> 120 | E97: =IFERROR(VLOOKUP($H97,BleacherGM!$B$2:$E$276,2,FALSE),"") -> 118 | F97: =AVERAGE(B97:E97) -> 95.25 | G97: =ROW()-4 -> 93 | H97: Nick Markakis | I97: K | J97: OF | K97: BAL | L97: =IFERROR(VLOOKUP($H97,ESPN!$B$2:$G$251,5,FALSE),"ERROR") -> 28 | M97: =IFERROR(VLOOKUP($H97,ESPN!$B$2:$G$251,6,FALSE),"") -> 93 | N97: 20.86 | O97: =IFERROR(VLOOKUP($H97,BleacherGM!$B$2:$E$276,4,FALSE),"") -> .284-15-73 12SB 72R | P97: BBB
B98: =IFERROR(VLOOKUP($H98,ESPN!$B$2:$G$251,2,FALSE),"") -> 83 | D98: =IFERROR(VLOOKUP($H98,RotoSummit!$B$4:$G$253,2,FALSE),"") -> 102 | E98: =IFERROR(VLOOKUP($H98,BleacherGM!$B$2:$E$276,2,FALSE),"") -> 102 | F98: =AVERAGE(B98:E98) -> 95.666667 | G98: =ROW()-4 -> 94 | H98: Jayson Werth | J98: OF | K98: WAS | L98: =IFERROR(VLOOKUP($H98,ESPN!$B$2:$G$251,5,FALSE),"ERROR") -> 32 | M98: =IFERROR(VLOOKUP($H98,ESPN!$B$2:$G$251,6,FALSE),"") -> 175 | N98: 7.22 | O98: =IFERROR(VLOOKUP($H98,BleacherGM!$B$2:$E$276,4,FALSE),"") -> .232-20-58 19SB 69R | Q98: EC
B99: =IFERROR(VLOOKUP($H99,ESPN!$B$2:$G$251,2,FALSE),"") -> 96 | C99: =IFERROR(VLOOKUP($H99,RotoChamp!$B$3:$F$302,2,FALSE),"") -> 97 | D99: =IFERROR(VLOOKUP($H99,RotoSummit!$B$4:$G$253,2,FALSE),"") -> 91 | E99: =IFERROR(VLOOKUP($H99,BleacherGM!$B$2:$E$276,2,FALSE),"") -> 99 | F99: =AVERAGE(B99:E99) -> 95.75 | G99: =ROW()-4 -> 95 | H99: Howie Kendrick | J99: 2B,OF | K99: LAA | L99: =IFERROR(VLOOKUP($H99,ESPN!$B$2:$G$251,5,FALSE),"ERROR") -> 28 | M99: =IFERROR(VLOOKUP($H99,ESPN!$B$2:$G$251,6,FALSE),"") -> 83 | N99: 12.16 | O99: =IFERROR(VLOOKUP($H99,BleacherGM!$B$2:$E$276,4,FALSE),"") -> .285-18-63 14SB 86R | Q99: EC
B100: =IFERROR(VLOOKUP($H100,ESPN!$B$2:$G$251,2,FALSE),"") -> 151 | C100: =IFERROR(VLOOKUP($H100,RotoChamp!$B$3:$F$302,2,FALSE),"") -> 39 | D100: =IFERROR(VLOOKUP($H100,RotoSummit!$B$4:$G$253,2,FALSE),"") -> 86 | E100: =IFERROR(VLOOKUP($H100,BleacherGM!$B$2:$E$276,2,FALSE),"") -> 108 | F100: =AVERAGE(B100:E100) -> 96 | G100: =ROW()-4 -> 96 | H100: Brett Lawrie | I100: K | J100: 3B | K100: TOR | L100: =IFERROR(VLOOKUP($H100,ESPN!$B$2:$G$251,5,FALSE),"ERROR") -> 22 | M100: =IFERROR(VLOOKUP($H100,ESPN!$B$2:$G$251,6,FALSE),"") -> 419 | N100: 21.51 | O100: =IFERROR(VLOOKUP($H100,BleacherGM!$B$2:$E$276,4,FALSE),"") -> .293-9-25 7SB 26R | P100: BBB
B101: =IFERROR(VLOOKUP($H101,ESPN!$B$2:$G$251,2,FALSE),"") -> 82 | C101: =IFERROR(VLOOKUP($H101,RotoChamp!$B$3:$F$302,2,FALSE),"") -> 114 | D101: =IFERROR(VLOOKUP($H101,RotoSummit!$B$4:$G$253,2,FALSE),"") -> 109 | E101: =IFERROR(VLOOKUP($H101,BleacherGM!$B$2:$E$276,2,FALSE),"") -> 80 | F101: =AVERAGE(B101:E101) -> 96.25 | G101: =ROW()-4 -> 97 | H101: Daniel Hudson | J101: SP | K101: ARI | L101: =IFERROR(VLOOKUP($H101,ESPN!$B$2:$G$251,5,FALSE),"ERROR") -> 25 | M101: =IFERROR(VLOOKUP($H101,ESPN!$B$2:$G$251,6,FALSE),"") -> 92 | N101: 9.98 | O101: =IFERROR(VLOOKUP($H101,BleacherGM!$B$2:$E$276,4,FALSE),"") -> 16-12 0Sv 3.48ERA 169K | Q101: EC
B102: =IFERROR(VLOOKUP($H102,ESPN!$B$2:$G$251,2,FALSE),"") -> 95 | C102: =IFERROR(VLOOKUP($H102,RotoChamp!$B$3:$F$302,2,FALSE),"") -> 94 | D102: =IFERROR(VLOOKUP($H102,RotoSummit!$B$4:$G$253,2,FALSE),"") -> 92 | E102: =IFERROR(VLOOKUP($H102,BleacherGM!$B$2:$E$276,2,FALSE),"") -> 105 | F102: =AVERAGE(B102:E102) -> 96.5 | G102: =ROW()-4 -> 98 | H102: Michael Pineda | I102: RK | J102: SP | K102: SEA | L102: =IFERROR(VLOOKUP($H102,ESPN!$B$2:$G$251,5,FALSE),"ERROR") -> 23 | M102: =IFERROR(VLOOKUP($H102,ESPN!$B$2:$G$251,6,FALSE),"") -> 136 | N102: 12.39 | O102: =IFERROR(VLOOKUP($H102,BleacherGM!$B$2:$E$276,4,FALSE),"") -> 40796 0Sv 3.73ERA 173K | P102: LT
B103: =IFERROR(VLOOKUP($H103,ESPN!$B$2:$G$251,2,FALSE),"") -> 77 | C103: =IFERROR(VLOOKUP($H103,RotoChamp!$B$3:$F$302,2,FALSE),"") -> 137 | D103: =IFERROR(VLOOKUP($H103,RotoSummit!$B$4:$G$253,2,FALSE),"") -> 83 | E103: =IFERROR(VLOOKUP($H103,BleacherGM!$B$2:$E$276,2,FALSE),"") -> 90 | F103: =AVERAGE(B103:E103) -> 96.75 | G103: =ROW()-4 -> 99 | H103: Brett Gardner | I103: K | J103: OF | K103: NYY | L103: =IFERROR(VLOOKUP($H103,ESPN!$B$2:$G$251,5,FALSE),"ERROR") -> 28 | M103: =IFERROR(VLOOKUP($H103,ESPN!$B$2:$G$251,6,FALSE),"") -> 63 | N103: 8.37 | O103: =IFERROR(VLOOKUP($H103,BleacherGM!$B$2:$E$276,4,FALSE),"") -> .259-7-36 49SB 87R | P103: PD
B104: =IFERROR(VLOOKUP($H104,ESPN!$B$2:$G$251,2,FALSE),"") -> 88 | D104: =IFERROR(VLOOKUP($H104,RotoSummit!$B$4:$G$253,2,FALSE),"") -> 111 | E104: =IFERROR(VLOOKUP($H104,BleacherGM!$B$2:$E$276,2,FALSE),"") -> 97 | F104: =AVERAGE(B104:E104) -> 98.666667 | G104: =ROW()-4 -> 100 | H104: Billy Butler | I104: K | J104: DH | K104: KAN | L104: =IFERROR(VLOOKUP($H104,ESPN!$B$2:$G$251,5,FALSE),"ERROR") -> 25 | M104: =IFERROR(VLOOKUP($H104,ESPN!$B$2:$G$251,6,FALSE),"") -> 86 | N104: 2.44 | O104: =IFERROR(VLOOKUP($H104,BleacherGM!$B$2:$E$276,4,FALSE),"") -> .291-19-95 2SB 74R | P104: LT
B105: =IFERROR(VLOOKUP($H105,ESPN!$B$2:$G$251,2,FALSE),"") -> 101 | C105: =IFERROR(VLOOKUP($H105,RotoChamp!$B$3:$F$302,2,FALSE),"") -> 100 | D105: =IFERROR(VLOOKUP($H105,RotoSummit!$B$4:$G$253,2,FALSE),"") -> 84 | E105: =IFERROR(VLOOKUP($H105,BleacherGM!$B$2:$E$276,2,FALSE),"") -> 112 | F105: =AVERAGE(B105:E105) -> 99.25 | G105: =ROW()-4 -> 101 | H105: Joe Mauer | I105: K | J105: C | K105: MIN | L105: =IFERROR(VLOOKUP($H105,ESPN!$B$2:$G$251,5,FALSE),"ERROR") -> 28 | M105: =IFERROR(VLOOKUP($H105,ESPN!$B$2:$G$251,6,FALSE),"") -> 490 | N105: 11.79 | O105: =IFERROR(VLOOKUP($H105,BleacherGM!$B$2:$E$276,4,FALSE),"") -> .287-3-30 0SB 38R | P105: LT
B106: =IFERROR(VLOOKUP($H106,ESPN!$B$2:$G$251,2,FALSE),"") -> 93 | C106: =IFERROR(VLOOKUP($H106,RotoChamp!$B$3:$F$302,2,FALSE),"") -> 119 | D106: =IFERROR(VLOOKUP($H106,RotoSummit!$B$4:$G$253,2,FALSE),"") -> 98 | E106: =IFERROR(VLOOKUP($H106,BleacherGM!$B$2:$E$276,2,FALSE),"") -> 96 | F106: =AVERAGE(B106:E106) -> 101.5 | G106: =ROW()-4 -> 102 | H106: Ichiro Suzuki | I106: K | J106: OF | K106: SEA | L106: =IFERROR(VLOOKUP($H106,ESPN!$B$2:$G$251,5,FALSE),"ERROR") -> 38 | M106: =IFERROR(VLOOKUP($H106,ESPN!$B$2:$G$251,6,FALSE),"") -> 72 | N106: 9.61 | O106: =IFERROR(VLOOKUP($H106,BleacherGM!$B$2:$E$276,4,FALSE),"") -> .272-5-47 40SB 80R | P106: FF
B107: =IFERROR(VLOOKUP($H107,ESPN!$B$2:$G$251,2,FALSE),"") -> 103 | C107: =IFERROR(VLOOKUP($H107,RotoChamp!$B$3:$F$302,2,FALSE),"") -> 84 | D107: =IFERROR(VLOOKUP($H107,RotoSummit!$B$4:$G$253,2,FALSE),"") -> 90 | E107: =IFERROR(VLOOKUP($H107,BleacherGM!$B$2:$E$276,2,FALSE),"") -> 132 | F107: =AVERAGE(B107:E107) -> 102.25 | G107: =ROW()-4 -> 103 | H107: Mat Latos | J107: SP | K107: SD | L107: =IFERROR(VLOOKUP($H107,ESPN!$B$2:$G$251,5,FALSE),"ERROR") -> 24 | M107: =IFERROR(VLOOKUP($H107,ESPN!$B$2:$G$251,6,FALSE),"") -> 130 | N107: 13.16 | O107: =IFERROR(VLOOKUP($H107,BleacherGM!$B$2:$E$276,4,FALSE),"") -> 9-14 0Sv 3.47ERA 185K | Q107: PD
B108: =IFERROR(VLOOKUP($H108,ESPN!$B$2:$G$251,2,FALSE),"") -> 135 | C108: =IFERROR(VLOOKUP($H108,RotoChamp!$B$3:$F$302,2,FALSE),"") | D108: =IFERROR(VLOOKUP($H108,RotoSummit!$B$4:$G$253,2,FALSE),"") -> 82 | E108: =IFERROR(VLOOKUP($H108,BleacherGM!$B$2:$E$276,2,FALSE),"") -> 95 | F108: =AVERAGE(B108:E108) -> 104 | G108: =ROW()-4 -> 104 | H108: Chris Young | J108: OF | K108: ARI | L108: =IFERROR(VLOOKUP($H108,ESPN!$B$2:$G$251,5,FALSE),"ERROR") -> 28 | M108: =IFERROR(VLOOKUP($H108,ESPN!$B$2:$G$251,6,FALSE),"") -> 105 | N108: 12.12 | O108: =IFERROR(VLOOKUP($H108,BleacherGM!$B$2:$E$276,4,FALSE),"") -> .236-20-71 22SB 89R | Q108: FF
B109: =IFERROR(VLOOKUP($H109,ESPN!$B$2:$G$251,2,FALSE),"") -> 89 | C109: =IFERROR(VLOOKUP($H109,RotoChamp!$B$3:$F$302,2,FALSE),"") -> 144 | D109: =IFERROR(VLOOKUP($H109,RotoSummit!$B$4:$G$253,2,FALSE),"") -> 100 | E109: =IFERROR(VLOOKUP($H109,BleacherGM!$B$2:$E$276,2,FALSE),"") -> 85 | F109: =AVERAGE(B109:E109) -> 104.5 | G109: =ROW()-4 -> 105 | H109: Josh Beckett | J109: SP | K109: BOS | L109: =IFERROR(VLOOKUP($H109,ESPN!$B$2:$G$251,5,FALSE),"ERROR") -> 31 | M109: =IFERROR(VLOOKUP($H109,ESPN!$B$2:$G$251,6,FALSE),"") -> 44 | N109: 8.06 | O109: =IFERROR(VLOOKUP($H109,BleacherGM!$B$2:$E$276,4,FALSE),"") -> 13-7 0Sv 2.89ERA 175K | Q109: DDD
B110: =IFERROR(VLOOKUP($H110,ESPN!$B$2:$G$251,2,FALSE),"") -> 80 | C110: =IFERROR(VLOOKUP($H110,RotoChamp!$B$3:$F$302,2,FALSE),"") -> 131 | D110: =IFERROR(VLOOKUP($H110,RotoSummit!$B$4:$G$253,2,FALSE),"") -> 118 | E110: =IFERROR(VLOOKUP($H110,BleacherGM!$B$2:$E$276,2,FALSE),"") -> 91 | F110: =AVERAGE(B110:E110) -> 105 | G110: =ROW()-4 -> 106 | H110: Ricky Romero | I110: K | J110: SP | K110: TOR | L110: =IFERROR(VLOOKUP($H110,ESPN!$B$2:$G$251,5,FALSE),"ERROR") -> 27 | M110: =IFERROR(VLOOKUP($H110,ESPN!$B$2:$G$251,6,FALSE),"") -> 52 | N110: 8.96 | O110: =IFERROR(VLOOKUP($H110,BleacherGM!$B$2:$E$276,4,FALSE),"") -> 15-11 0Sv 2.92ERA 178K | P110: BL
B111: =IFERROR(VLOOKUP($H111,ESPN!$B$2:$G$251,2,FALSE),"") -> 97 | C111: =IFERROR(VLOOKUP($H111,RotoChamp!$B$3:$F$302,2,FALSE),"") -> 95 | D111: =IFERROR(VLOOKUP($H111,RotoSummit!$B$4:$G$253,2,FALSE),"") -> 126 | E111: =IFERROR(VLOOKUP($H111,BleacherGM!$B$2:$E$276,2,FALSE),"") -> 103 | F111: =AVERAGE(B111:E111) -> 105.25 | G111: =ROW()-4 -> 107 | H111: Freddie Freeman | I111: K | J111: 1B | K111: ATL | L111: =IFERROR(VLOOKUP($H111,ESPN!$B$2:$G$251,5,FALSE),"ERROR") -> 22 | M111: =IFERROR(VLOOKUP($H111,ESPN!$B$2:$G$251,6,FALSE),"") -> 111 | N111: 12.29 | O111: =IFERROR(VLOOKUP($H111,BleacherGM!$B$2:$E$276,4,FALSE),"") -> .282-21-76 4SB 67R | P111: LT
B112: =IFERROR(VLOOKUP($H112,ESPN!$B$2:$G$251,2,FALSE),"") -> 172 | C112: =IFERROR(VLOOKUP($H112,RotoChamp!$B$3:$F$302,2,FALSE),"") -> 62 | D112: =IFERROR(VLOOKUP($H112,RotoSummit!$B$4:$G$253,2,FALSE),"") -> 105 | E112: =IFERROR(VLOOKUP($H112,BleacherGM!$B$2:$E$276,2,FALSE),"") -> 98 | F112: =AVERAGE(B112:E112) -> 109.25 | G112: =ROW()-4 -> 108 | H112: Josh Johnson | I112: K | J112: SP | K112: FLA | L112: =IFERROR(VLOOKUP($H112,ESPN!$B$2:$G$251,5,FALSE),"ERROR") -> 28 | M112: =IFERROR(VLOOKUP($H112,ESPN!$B$2:$G$251,6,FALSE),"") -> 263 | N112: 16.75 | O112: =IFERROR(VLOOKUP($H112,BleacherGM!$B$2:$E$276,4,FALSE),"") -> 3-1 0Sv 1.64ERA 56K | P112: WPD
B113: =IFERROR(VLOOKUP($H113,ESPN!$B$2:$G$251,2,FALSE),"") -> 109 | C113: =IFERROR(VLOOKUP($H113,RotoChamp!$B$3:$F$302,2,FALSE),"") -> 111 | D113: =IFERROR(VLOOKUP($H113,RotoSummit!$B$4:$G$253,2,FALSE),"") -> 107 | E113: =IFERROR(VLOOKUP($H113,BleacherGM!$B$2:$E$276,2,FALSE),"") -> 115 | F113: =AVERAGE(B113:E113) -> 110.5 | G113: =ROW()-4 -> 109 | H113: Miguel Montero | J113: C | K113: ARI | L113: =IFERROR(VLOOKUP($H113,ESPN!$B$2:$G$251,5,FALSE),"ERROR") -> 28 | M113: =IFERROR(VLOOKUP($H113,ESPN!$B$2:$G$251,6,FALSE),"") -> 137 | N113: 10.31 | O113: =IFERROR(VLOOKUP($H113,BleacherGM!$B$2:$E$276,4,FALSE),"") -> .282-18-86 1SB 65R
B114: =IFERROR(VLOOKUP($H114,ESPN!$B$2:$G$251,2,FALSE),"") -> 153 | C114: =IFERROR(VLOOKUP($H114,RotoChamp!$B$3:$F$302,2,FALSE),"") -> 93 | D114: =IFERROR(VLOOKUP($H114,RotoSummit!$B$4:$G$253,2,FALSE),"") -> 99 | E114: =IFERROR(VLOOKUP($H114,BleacherGM!$B$2:$E$276,2,FALSE),"") -> 109 | F114: =AVERAGE(B114:E114) -> 113.5 | G114: =ROW()-4 -> 110 | H114: Carlos Beltran | J114: OF | K114: FA | L114: =IFERROR(VLOOKUP($H114,ESPN!$B$2:$G$251,5,FALSE),"ERROR") -> 34 | M114: =IFERROR(VLOOKUP($H114,ESPN!$B$2:$G$251,6,FALSE),"") -> 69 | N114: 12.49 | O114: =IFERROR(VLOOKUP($H114,BleacherGM!$B$2:$E$276,4,FALSE),"") -> .300-22-84 4SB 78R
B115: =IFERROR(VLOOKUP($H115,ESPN!$B$2:$G$251,2,FALSE),"") -> 145 | C115: =IFERROR(VLOOKUP($H115,RotoChamp!$B$3:$F$302,2,FALSE),"") -> 81 | D115: =IFERROR(VLOOKUP($H115,RotoSummit!$B$4:$G$253,2,FALSE),"") -> 122 | E115: =IFERROR(VLOOKUP($H115,BleacherGM!$B$2:$E$276,2,FALSE),"") -> 111 | F115: =AVERAGE(B115:E115) -> 114.75 | G115: =ROW()-4 -> 111 | H115: Alexei Ramirez | J115: SS | K115: CWS | L115: =IFERROR(VLOOKUP($H115,ESPN!$B$2:$G$251,5,FALSE),"ERROR") -> 30 | M115: =IFERROR(VLOOKUP($H115,ESPN!$B$2:$G$251,6,FALSE),"") -> 151 | N115: 13.65 | O115: =IFERROR(VLOOKUP($H115,BleacherGM!$B$2:$E$276,4,FALSE),"") -> .269-15-70 7SB 81R
B116: =IFERROR(VLOOKUP($H116,ESPN!$B$2:$G$251,2,FALSE),"") -> 144 | C116: =IFERROR(VLOOKUP($H116,RotoChamp!$B$3:$F$302,2,FALSE),"") -> 72 | D116: =IFERROR(VLOOKUP($H116,RotoSummit!$B$4:$G$253,2,FALSE),"") -> 110 | E116: =IFERROR(VLOOKUP($H116,BleacherGM!$B$2:$E$276,2,FALSE),"") -> 135 | F116: =AVERAGE(B116:E116) -> 115.25 | G116: =ROW()-4 -> 112 | H116: Chris Carpenter | J116: SP | K116: STL | L116: =IFERROR(VLOOKUP($H116,ESPN!$B$2:$G$251,5,FALSE),"ERROR") -> 36 | M116: =IFERROR(VLOOKUP($H116,ESPN!$B$2:$G$251,6,FALSE),"") -> 171 | N116: 15.73 | O116: =IFERROR(VLOOKUP($H116,BleacherGM!$B$2:$E$276,4,FALSE),"") -> 11-9 0Sv 3.45ERA 191K
B117: =IFERROR(VLOOKUP($H117,ESPN!$B$2:$G$251,2,FALSE),"") -> 128 | C117: =IFERROR(VLOOKUP($H117,RotoChamp!$B$3:$F$302,2,FALSE),"") -> 96 | D117: =IFERROR(VLOOKUP($H117,RotoSummit!$B$4:$G$253,2,FALSE),"") -> 145 | E117: =IFERROR(VLOOKUP($H117,BleacherGM!$B$2:$E$276,2,FALSE),"") -> 94 | F117: =AVERAGE(B117:E117) -> 115.75 | G117: =ROW()-4 -> 113 | H117: Mark Trumbo | J117: 1B | K117: LAA | L117: =IFERROR(VLOOKUP($H117,ESPN!$B$2:$G$251,5,FALSE),"ERROR") -> 26 | M117: =IFERROR(VLOOKUP($H117,ESPN!$B$2:$G$251,6,FALSE),"") -> 103 | N117: 12.25 | O117: =IFERROR(VLOOKUP($H117,BleacherGM!$B$2:$E$276,4,FALSE),"") -> .254-29-87 9SB 65R
B118: =IFERROR(VLOOKUP($H118,ESPN!$B$2:$G$251,2,FALSE),"") -> 129 | C118: =IFERROR(VLOOKUP($H118,RotoChamp!$B$3:$F$302,2,FALSE),"") -> 87 | D118: =IFERROR(VLOOKUP($H118,RotoSummit!$B$4:$G$253,2,FALSE),"") -> 128 | E118: =IFERROR(VLOOKUP($H118,BleacherGM!$B$2:$E$276,2,FALSE),"") -> 122 | F118: =AVERAGE(B118:E118) -> 116.5 | G118: =ROW()-4 -> 114 | H118: Tim Hudson | J118: SP | K118: ATL | L118: =IFERROR(VLOOKUP($H118,ESPN!$B$2:$G$251,5,FALSE),"ERROR") -> 36 | M118: =IFERROR(VLOOKUP($H118,ESPN!$B$2:$G$251,6,FALSE),"") -> 75 | N118: 12.8 | O118: =IFERROR(VLOOKUP($H118,BleacherGM!$B$2:$E$276,4,FALSE),"") -> 16-10 0Sv 3.22ERA 158K
B119: =IFERROR(VLOOKUP($H119,ESPN!$B$2:$G$251,2,FALSE),"") -> 110 | C119: =IFERROR(VLOOKUP($H119,RotoChamp!$B$3:$F$302,2,FALSE),"") -> 116 | D119: =IFERROR(VLOOKUP($H119,RotoSummit!$B$4:$G$253,2,FALSE),"") -> 121 | E119: =IFERROR(VLOOKUP($H119,BleacherGM!$B$2:$E$276,2,FALSE),"") -> 124 | F119: =AVERAGE(B119:E119) -> 117.75 | G119: =ROW()-4 -> 115 | H119: Adam Lind | I119: K | J119: 1B | K119: TOR | L119: =IFERROR(VLOOKUP($H119,ESPN!$B$2:$G$251,5,FALSE),"ERROR") -> 28 | M119: =IFERROR(VLOOKUP($H119,ESPN!$B$2:$G$251,6,FALSE),"") -> 172 | N119: 9.73 | O119: =IFERROR(VLOOKUP($H119,BleacherGM!$B$2:$E$276,4,FALSE),"") -> .251-26-87 1SB 56R | P119: BGG
B120: =IFERROR(VLOOKUP($H120,ESPN!$B$2:$G$251,2,FALSE),"") -> 119 | C120: =IFERROR(VLOOKUP($H120,RotoChamp!$B$3:$F$302,2,FALSE),"") -> 128 | D120: =IFERROR(VLOOKUP($H120,RotoSummit!$B$4:$G$253,2,FALSE),"") -> 117 | E120: =IFERROR(VLOOKUP($H120,BleacherGM!$B$2:$E$276,2,FALSE),"") -> 110 | F120: =AVERAGE(B120:E120) -> 118.5 | G120: =ROW()-4 -> 116 | H120: Matt Wieters | J120: C | K120: BAL | L120: =IFERROR(VLOOKUP($H120,ESPN!$B$2:$G$251,5,FALSE),"ERROR") -> 25 | M120: =IFERROR(VLOOKUP($H120,ESPN!$B$2:$G$251,6,FALSE),"") -> 169 | N120: 8.99 | O120: =IFERROR(VLOOKUP($H120,BleacherGM!$B$2:$E$276,4,FALSE),"") -> .262-22-68 1SB 72R
B121: =IFERROR(VLOOKUP($H121,ESPN!$B$2:$G$251,2,FALSE),"") -> 134 | C121: =IFERROR(VLOOKUP($H121,RotoChamp!$B$3:$F$302,2,FALSE),"") -> 82 | D121: =IFERROR(VLOOKUP($H121,RotoSummit!$B$4:$G$253,2,FALSE),"") -> 138 | E121: =IFERROR(VLOOKUP($H121,BleacherGM!$B$2:$E$276,2,FALSE),"") -> 120 | F121: =AVERAGE(B121:E121) -> 118.5 | G121: =ROW()-4 -> 117 | H121: Jesus Montero | I121: RK | J121: C | K121: NYY | L121: =IFERROR(VLOOKUP($H121,ESPN!$B$2:$G$251,5,FALSE),"ERROR") -> 22 | M121: =IFERROR(VLOOKUP($H121,ESPN!$B$2:$G$251,6,FALSE),"") -> 790 | N121: 13.36 | O121: =IFERROR(VLOOKUP($H121,BleacherGM!$B$2:$E$276,4,FALSE),"") -> .328-4-12 0SB 9R | P121: TMB
B122: =IFERROR(VLOOKUP($H122,ESPN!$B$2:$G$251,2,FALSE),"") -> 126 | C122: =IFERROR(VLOOKUP($H122,RotoChamp!$B$3:$F$302,2,FALSE),"") -> 146 | D122: =IFERROR(VLOOKUP($H122,RotoSummit!$B$4:$G$253,2,FALSE),"") -> 96 | E122: =IFERROR(VLOOKUP($H122,BleacherGM!$B$2:$E$276,2,FALSE),"") -> 107 | F122: =AVERAGE(B122:E122) -> 118.75 | G122: =ROW()-4 -> 118 | H122: Derek Jeter | J122: SS | K122: NYY | L122: =IFERROR(VLOOKUP($H122,ESPN!$B$2:$G$251,5,FALSE),"ERROR") -> 37 | M122: =IFERROR(VLOOKUP($H122,ESPN!$B$2:$G$251,6,FALSE),"") -> 96 | N122: 7.92 | O122: =IFERROR(VLOOKUP($H122,BleacherGM!$B$2:$E$276,4,FALSE),"") -> .297-6-61 16SB 84R
B123: =IFERROR(VLOOKUP($H123,ESPN!$B$2:$G$251,2,FALSE),"") -> 121 | C123: =IFERROR(VLOOKUP($H123,RotoChamp!$B$3:$F$302,2,FALSE),"") -> 134 | D123: =IFERROR(VLOOKUP($H123,RotoSummit!$B$4:$G$253,2,FALSE),"") -> 125 | E123: =IFERROR(VLOOKUP($H123,BleacherGM!$B$2:$E$276,2,FALSE),"") -> 104 | F123: =AVERAGE(B123:E123) -> 121 | G123: =ROW()-4 -> 119 | H123: Mark Reynolds | I123: K | J123: 3B,1B | K123: BAL | L123: =IFERROR(VLOOKUP($H123,ESPN!$B$2:$G$251,5,FALSE),"ERROR") -> 28 | M123: =IFERROR(VLOOKUP($H123,ESPN!$B$2:$G$251,6,FALSE),"") -> 122 | N123: 8.74 | O123: =IFERROR(VLOOKUP($H123,BleacherGM!$B$2:$E$276,4,FALSE),"") -> .221-37-86 6SB 84R | P123: WPD
B124: =IFERROR(VLOOKUP($H124,ESPN!$B$2:$G$251,2,FALSE),"") -> 94 | D124: =IFERROR(VLOOKUP($H124,RotoSummit!$B$4:$G$253,2,FALSE),"") -> 129 | E124: =IFERROR(VLOOKUP($H124,BleacherGM!$B$2:$E$276,2,FALSE),"") -> 141 | F124: =AVERAGE(B124:E124) -> 121.33333 | G124: =ROW()-4 -> 120 | H124: Nick Swisher | J124: OF | K124: NYY | L124: =IFERROR(VLOOKUP($H124,ESPN!$B$2:$G$251,5,FALSE),"ERROR") -> 31 | M124: =IFERROR(VLOOKUP($H124,ESPN!$B$2:$G$251,6,FALSE),"") -> 128 | N124: 6.23 | O124: =IFERROR(VLOOKUP($H124,BleacherGM!$B$2:$E$276,4,FALSE),"") -> .260-23-85 2SB 81R
B125: =IFERROR(VLOOKUP($H125,ESPN!$B$2:$G$251,2,FALSE),"") -> 98 | C125: =IFERROR(VLOOKUP($H125,RotoChamp!$B$3:$F$302,2,FALSE),"") -> 121 | D125: =IFERROR(VLOOKUP($H125,RotoSummit!$B$4:$G$253,2,FALSE),"") -> 116 | E125: =IFERROR(VLOOKUP($H125,BleacherGM!$B$2:$E$276,2,FALSE),"") -> 152 | F125: =AVERAGE(B125:E125) -> 121.75 | G125: =ROW()-4 -> 121 | H125: Dustin Ackley | I125: RK | J125: 2B | K125: SEA | L125: =IFERROR(VLOOKUP($H125,ESPN!$B$2:$G$251,5,FALSE),"ERROR") -> 24 | M125: =IFERROR(VLOOKUP($H125,ESPN!$B$2:$G$251,6,FALSE),"") -> 383 | N125: 9.53 | O125: =IFERROR(VLOOKUP($H125,BleacherGM!$B$2:$E$276,4,FALSE),"") -> .273-6-36 6SB 39R | P125: TMB
B126: =IFERROR(VLOOKUP($H126,ESPN!$B$2:$G$251,2,FALSE),"") -> 120 | C126: =IFERROR(VLOOKUP($H126,RotoChamp!$B$3:$F$302,2,FALSE),"") -> 80 | D126: =IFERROR(VLOOKUP($H126,RotoSummit!$B$4:$G$253,2,FALSE),"") -> 136 | E126: =IFERROR(VLOOKUP($H126,BleacherGM!$B$2:$E$276,2,FALSE),"") -> 153 | F126: =AVERAGE(B126:E126) -> 122.25 | G126: =ROW()-4 -> 122 | H126: Brandon Beachy | J126: SP | K126: ATL | L126: =IFERROR(VLOOKUP($H126,ESPN!$B$2:$G$251,5,FALSE),"ERROR") -> 25 | M126: =IFERROR(VLOOKUP($H126,ESPN!$B$2:$G$251,6,FALSE),"") -> 209 | N126: 13.86 | O126: =IFERROR(VLOOKUP($H126,BleacherGM!$B$2:$E$276,4,FALSE),"") -> 7-3 0Sv 3.68ERA 169K
B127: =IFERROR(VLOOKUP($H127,ESPN!$B$2:$G$251,2,FALSE),"") -> 141 | C127: =IFERROR(VLOOKUP($H127,RotoChamp!$B$3:$F$302,2,FALSE),"") -> 120 | D127: =IFERROR(VLOOKUP($H127,RotoSummit!$B$4:$G$253,2,FALSE),"") -> 115 | E127: =IFERROR(VLOOKUP($H127,BleacherGM!$B$2:$E$276,2,FALSE),"") -> 114 | F127: =AVERAGE(B127:E127) -> 122.5 | G127: =ROW()-4 -> 123 | H127: J.J. Putz | J127: RP | K127: ARI | L127: =IFERROR(VLOOKUP($H127,ESPN!$B$2:$G$251,5,FALSE),"ERROR") -> 35 | M127: =IFERROR(VLOOKUP($H127,ESPN!$B$2:$G$251,6,FALSE),"") -> 60 | N127: 9.57 | O127: =IFERROR(VLOOKUP($H127,BleacherGM!$B$2:$E$276,4,FALSE),"") -> 2-2 45Sv 2.17ERA 61K
B128: =IFERROR(VLOOKUP($H128,ESPN!$B$2:$G$251,2,FALSE),"") -> 122 | C128: =IFERROR(VLOOKUP($H128,RotoChamp!$B$3:$F$302,2,FALSE),"") -> 113 | D128: =IFERROR(VLOOKUP($H128,RotoSummit!$B$4:$G$253,2,FALSE),"") -> 172 | E128: =IFERROR(VLOOKUP($H128,BleacherGM!$B$2:$E$276,2,FALSE),"") -> 93 | F128: =AVERAGE(B128:E128) -> 125 | G128: =ROW()-4 -> 124 | H128: J.J. Hardy | J128: SS | K128: BAL | L128: =IFERROR(VLOOKUP($H128,ESPN!$B$2:$G$251,5,FALSE),"ERROR") -> 29 | M128: =IFERROR(VLOOKUP($H128,ESPN!$B$2:$G$251,6,FALSE),"") -> 113 | N128: 10.15 | O128: =IFERROR(VLOOKUP($H128,BleacherGM!$B$2:$E$276,4,FALSE),"") -> .269-30-80 0SB 76R
B129: =IFERROR(VLOOKUP($H129,ESPN!$B$2:$G$251,2,FALSE),"") -> 137 | C129: =IFERROR(VLOOKUP($H129,RotoChamp!$B$3:$F$302,2,FALSE),"") -> 105 | D129: =IFERROR(VLOOKUP($H129,RotoSummit!$B$4:$G$253,2,FALSE),"") -> 112 | E129: =IFERROR(VLOOKUP($H129,BleacherGM!$B$2:$E$276,2,FALSE),"") -> 149 | F129: =AVERAGE(B129:E129) -> 125.75 | G129: =ROW()-4 -> 125 | H129: Matt Garza | J129: SP | K129: CHC | L129: =IFERROR(VLOOKUP($H129,ESPN!$B$2:$G$251,5,FALSE),"ERROR") -> 28 | M129: =IFERROR(VLOOKUP($H129,ESPN!$B$2:$G$251,6,FALSE),"") -> 133 | N129: 11.24 | O129: =IFERROR(VLOOKUP($H129,BleacherGM!$B$2:$E$276,4,FALSE),"") -> 10-10 0Sv 3.31ERA 197K
B130: =IFERROR(VLOOKUP($H130,ESPN!$B$2:$G$251,2,FALSE),"") -> 114 | C130: =IFERROR(VLOOKUP($H130,RotoChamp!$B$3:$F$302,2,FALSE),"") -> 167 | D130: =IFERROR(VLOOKUP($H130,RotoSummit!$B$4:$G$253,2,FALSE),"") -> 108 | E130: =IFERROR(VLOOKUP($H130,BleacherGM!$B$2:$E$276,2,FALSE),"") -> 116 | F130: =AVERAGE(B130:E130) -> 126.25 | G130: =ROW()-4 -> 126 | H130: Heath Bell | J130: RP | K130: FLA | L130: =IFERROR(VLOOKUP($H130,ESPN!$B$2:$G$251,5,FALSE),"ERROR") -> 34 | M130: =IFERROR(VLOOKUP($H130,ESPN!$B$2:$G$251,6,FALSE),"") -> 85 | N130: 6.8 | O130: =IFERROR(VLOOKUP($H130,BleacherGM!$B$2:$E$276,4,FALSE),"") -> 3-4 43Sv 2.44ERA 51K
B131: =IFERROR(VLOOKUP($H131,ESPN!$B$2:$G$251,2,FALSE),"") -> 117 | C131: =IFERROR(VLOOKUP($H131,RotoChamp!$B$3:$F$302,2,FALSE),"") -> 141 | D131: =IFERROR(VLOOKUP($H131,RotoSummit!$B$4:$G$253,2,FALSE),"") -> 123 | E131: =IFERROR(VLOOKUP($H131,BleacherGM!$B$2:$E$276,2,FALSE),"") -> 125 | F131: =AVERAGE(B131:E131) -> 126.5 | G131: =ROW()-4 -> 127 | H131: Shaun Marcum | J131: SP | K131: MIL | L131: =IFERROR(VLOOKUP($H131,ESPN!$B$2:$G$251,5,FALSE),"ERROR") -> 30 | M131: =IFERROR(VLOOKUP($H131,ESPN!$B$2:$G$251,6,FALSE),"") -> 108 | N131: 8.22 | O131: =IFERROR(VLOOKUP($H131,BleacherGM!$B$2:$E$276,4,FALSE),"") -> 13-7 0Sv 3.54ERA 158K
B132: =IFERROR(VLOOKUP($H132,ESPN!$B$2:$G$251,2,FALSE),"") -> 100 | C132: =IFERROR(VLOOKUP($H132,RotoChamp!$B$3:$F$302,2,FALSE),"") -> 169 | D132: =IFERROR(VLOOKUP($H132,RotoSummit!$B$4:$G$253,2,FALSE),"") -> 119 | E132: =IFERROR(VLOOKUP($H132,BleacherGM!$B$2:$E$276,2,FALSE),"") -> 119 | F132: =AVERAGE(B132:E132) -> 126.75 | G132: =ROW()-4 -> 128 | H132: Jose Valverde | J132: RP | K132: DET | L132: =IFERROR(VLOOKUP($H132,ESPN!$B$2:$G$251,5,FALSE),"ERROR") -> 34 | M132: =IFERROR(VLOOKUP($H132,ESPN!$B$2:$G$251,6,FALSE),"") -> 62 | N132: 6.51 | O132: =IFERROR(VLOOKUP($H132,BleacherGM!$B$2:$E$276,4,FALSE),"") -> 2-4 49Sv 2.24ERA 69K
...

Sheet RotoChamp
B2: Player | C2: Rank | D2: Position | E2: Team | F2: Auction$
B3: Miguel Cabrera | C3: 1 | D3: 1B | E3: DET | F3: 48.62
B4: Joey Votto | C4: 2 | D4: 1B | E4: CIN | F4: 45.2
B5: Albert Pujols | C5: 3 | D5: 1B | E5: FA | F5: 45.12
B6: Jacoby Ellsbury | C6: 4 | D6: OF | E6: BOS | F6: 44.34
B7: Ryan Braun | C7: 5 | D7: OF | E7: MIL | F7: 43.59
B8: Prince Fielder | C8: 6 | D8: 1B | E8: FA | F8: 43.43
B9: Matt Kemp | C9: 7 | D9: OF | E9: LAD | F9: 42.52
B10: Troy Tulowitzki | C10: 8 | D10: SS | E10: COL | F10: 40.05
B11: Dustin Pedroia | C11: 9 | D11: 2B | E11: BOS | F11: 39.68
B12: Clayton Kershaw | C12: 10 | D12: SP | E12: LAD | F12: 38.51
B13: Adrian Gonzalez | C13: 11 | D13: 1B | E13: BOS | F13: 38.45
B14: Jose Bautista | C14: 12 | D14: 3B,OF | E14: TOR | F14: 37.5
... B302: Josh Tomlin | C302: 300 | D302: SP | E302: CLE | F302: -2.84

Sheet BleacherGM
B2: Matt Kemp | C2: 1 | D2: OF | E2: .321-39-125 39SB 115R
B3: Ryan Braun | C3: 2 | D3: OF | E3: .332-33-111 33SB 109R
B4: Albert Pujols | C4: 3 | D4: 1B | E4: .299-37-99 9SB 105R
B5: Miguel Cabrera | C5: 4 | D5: 1B | E5: .346-30-105 2SB 111R
B6: Jose Bautista | C6: 5 | D6: OF | E6: .302-43-103 9SB 105R
B7: Troy Tulowitzki | C7: 6 | D7: SS | E7: .302-30-105 9SB 81R
B8: Jacoby Ellsbury | C8: 7 | D8: OF | E8: .321-32-105 39SB 119R
B9: Adrian Gonzalez | C9: 8 | D9: 1B | E9: .338-27-117 1SB 108R
B10: Robinson Cano | C10: 9 | D10: 2B | E10: .302-28-118 8SB 104R
B11: Evan Longoria | C11: 10 | D11: 3B | E11: .244-31-99 3SB 78R
B12: Justin Upton | C12: 11 | D12: OF | E12: .289-31-88 21SB 105R
B13: Joey Votto | C13: 12 | D13: 1B | E13: .309-29-103 8SB 101R
... B155: Derek Holland | C155: 154 | D155: SP | E155: 16-5 0Sv 3.95ERA 162K
B156: Alex Rios | C156: 155 | D156: OF
B157: Jhonny Peralta | C157: 156 | D157: SS | E157: .299-21-86 0SB 68R
B158: Adam Wainwright | C158: 157 | D158: SP | E158: 0-0 0Sv 9999ERA 0K
B159: Ryan Roberts | C159: 158 | D159: 3B | E159: .249-19-65 18SB 86R
B160: Matt Joyce | C160: 159 | D160: OF | E160: .277-19-75 13SB 69R
B161: Justin Masterson | C161: 160 | D161: SP | E161: 12-10 0Sv 3.2ERA 158K
B162: Josh Willingham | C162: 161 | D162: OF | E162: .246-29-98 4SB 69R
B163: Torii Hunter | C163: 162 | D163: OF | E163: .262-23-82 5SB 80R
B164: Jordan Walden | C164: 163 | D164: RP
B165: Martin Prado | C165: 164 | D165: OF | E165: .260-13-57 4SB 66R
B166: Danny Espinosa | C166: 165 | D166: 2B | E166: .236-21-66 17SB 72R
B167: David Freese | C167: 166 | D167: 3B | E167: .297-10-55 1SB 41R
B168: Jeff Francoeur | C168: 167 | D168: OF | E168: .285-20-87 22SB 77R
B169: Joel Hanrahan | C169: 168 | D169: RP | E169: 1-4 40Sv 1.83ERA 61K
B170: Paul Goldschmidt | C170: 169 | D170: 1B
B171: Vernon Wells | C171: 170 | D171: OF
B172: Erick Aybar | C172: 171 | D172: SS | E172: .279-10-59 30SB 71R
B173: Francisco Rodriguez | C173: 172 | D173: RP
B174: Jason Kipnis | C174: 173 | D174: 2B
B175: Sergio Santos | C175: 174 | D175: RP
B176: Johnny Damon | C176: 175 | D176: DH | E176: .261-16-73 19SB 79R
B177: Stephen Drew | C177: 176 | D177: SS | E177: .252-5-45 4SB 44R
B178: Colby Rasmus | C178: 177 | D178: OF
B179: Max Scherzer | C179: 178 | D179: SP | E179: 15-9 0Sv 4.43ERA 174K
B180: Matt Moore | C180: 179 | D180: SP | E180: 0-0 0Sv 9999ERA 0K
B181: Kenley Jansen | C181: 180 | D181: RP
B182: Chris Perez | C182: 181 | D182: RP
B183: Yadier Molina | C183: 182 | D183: C | E183: .305-14-65 4SB 55R
B184: Bud Norris | C184: 183 | D184: SP
B185: Francisco Rodriguez | C185: 184 | D185: RP | E185: 6-2 23Sv 2.63ERA 79K
B186: Peter Bourjos | C186: 185 | D186: OF
B187: Hiroki Kuroda | C187: 186 | D187: SP
B188: Cameron Maybin | C188: 187 | D188: OF
B189: Johnny Venters | C189: 188 | D189: RP
B190: Casey McGehee | C190: 189 | D190: 3B | E190: .223-13-67 0SB 46R
B191: Chris Sale | C191: 190 | D191: RP
B192: Wilson Ramos | C192: 191 | D192: C | E192: .267-15-52 0SB 48R
B193: Kelly Johnson | C193: 192 | D193: 2B | E193: .222-21-58 16SB 75R
B194: Ted Lilly | C194: 193 | D194: SP
B195: J.P. Arencibia | C195: 194 | D195: C | E195: .219-23-78 1SB 47R
B196: Wandy Rodriguez | C196: 195 | D196: SP
B197: Aaron Hill | C197: 196 | D197: 2B | E197: .246-8-61 21SB 61R
B198: Chipper Jones | C198: 197 | D198: 3B | E198: .275-18-70 2SB 56R
B199: Adam Dunn | C199: 198 | D199: DH | E199: .159-11-42 0SB 36R
B200: Kyle Farnsworth | C200: 199 | D200: RP
B201: Javier Vazquez | C201: 200 | D201: SP | E201: 13-11 0Sv 3.69ERA 162K
B202: Anibal Sanchez | C202: 201 | D202: SP | E202: 8-9 0Sv 3.66ERA 202K
B203: Coco Crisp | C203: 202 | D203: OF | E203: .264-8-54 49SB 69R
B204: Todd Helton | C204: 203 | D204: 1B | E204: .302-14-69 0SB 59R
B205: Austin Jackson | C205: 204 | D205: OF | E205: .249-10-45 22SB 90R
B206: Russell Martin | C206: 205 | D206: C | E206: .237-18-65 8SB 57R
B207: Brandon Morrow | C207: 206 | D207: SP | E207: 11-11 0Sv 4.71ERA 203K
B208: Brennan Boesch | C208: 207 | D208: OF | E208: .283-16-54 5SB 75R
B209: Jason Motte | C209: 208 | D209: RP
B210: Michael Brantley | C210: 209 | D210: OF
B211: Jaime Garcia | C211: 210 | D211: SP | E211: 13-7 0Sv 3.56ERA 156K
B212: Alejandro De Aza | C212: 211 | D212: OF
B213: James Loney | C213: 212 | D213: 1B | E213: .289-12-65 4SB 56R
B214: Dexter Fowler | C214: 213 | D214: OF
B215: Jose Altuve | C215: 214 | D215: 2B
B216: Clay Buchholz | C216: 215 | D216: SP
B217: Ivan Nova | C217: 216 | D217: SP | E217: 16-4 0Sv 3.7ERA 98K
B218: Justin Morneau | C218: 217 | D218: 1B | E218: .227-4-30 0SB 19R
B219: Jordan Zimmermann | C219: 218 | D219: SP
B220: Chase Headley | C220: 219 | D220: 3B | E220: .291-4-44 13SB 43R
B221: Travis Snider | C221: 220 | D221: OF
B222: Houston Street | C222: 221 | D222: RP
B223: Grady Sizemore | C223: 222 | D223: OF
B224: Brandon League | C224: 223 | D224: RP
B225: Eric Thames | C225: 224 | D225: OF
B226: Aroldis Chapman | C226: 225 | D226: SP
B227: Trevor CaHill | C227: 226 | D227: SP
B228: Dee Gordon | C228: 227 | D228: SS
B229: Bobby Abreu | C229: 228 | D229: OF
B230: Tyler Clippard | C230: 229 | D230: RP
B231: Raul Ibanez | C231: 230 | D231: OF | E231: .245-20-84 2SB 65R
B232: Eric Young Jr. | C232: 231 | D232: 2B
B233: Domonic Brown | C233: 232 | D233: OF
B234: Andrew Bailey | C234: 233 | D234: RP
B235: Vance Worley | C235: 234 | D235: SP | E235: 11-3 0Sv 3.01ERA 119K
B236: Scott Baker | C236: 235 | D236: SP
B237: Mike Moustakas | C237: 236 | D237: 3B
B238: Derek Lee | C238: 237 | D238: 1B
B239: Cliff Pennington | C239: 238 | D239: SS
B240: Mike Minor | C240: 239 | D240: SP
B241: Brandon Belt | C241: 240 | D241: 1B
B242: Colby Lewis | C242: 241 | D242: SP | E242: 14-10 0Sv 4.4ERA 169K
...

Sheet RotoSummit
C2: Ranking
B3: Player Name | D3: Team | E3: Position
B4: Ryan Braun | C4: 1 | D4: Mil | E4: OF
B5: Matt Kemp | C5: 2 | D5: LAD | E5: OF
B6: Albert Pujols | C6: 3 | D6: StL | E6: 1B
B7: Miguel Cabrera | C7: 4 | D7: Det | E7: 1B
B8: Jose Bautista | C8: 5 | D8: Tor | E8: 3B/OF
B9: Jacoby Ellsbury | C9: 6 | D9: Bos | E9: OF
B10: Robinson Cano | C10: 7 | D10: NYY | E10: 2B
B11: Joey Votto | C11: 8 | D11: Cin | E11: 1B
B12: Troy Tulowitzki | C12: 9 | D12: Col | E12: SS
B13: Roy Halladay | C13: 10 | D13: Ari | E13: OF
B14: Justin Upton | C14: 11 | D14: Phi | E14: SP
B15: Carlos Gonzalez | C15: 12 | D15: Col | E15: OF
... B253: Marco Scutaro | C253: 250 | D253: Bos | E253: SS

Sheet ESPN
B1: Player | C1: Ovr Rank | D1: Team | E1: Elig. Pos | F1: Age | G1: 2011 Player Rater
B2: Ryan Braun | C2: 1 | D2: Mil | E2: OF | F2: 28 | G2: 3
B3: Albert Pujols | C3: 2 | D3: FA | E3: 1B | F3: 32 | G3: 14
B4: Miguel Cabrera | C4: 3 | D4: Det | E4: 1B | F4: 28 | G4: 7
B5: Adrian Gonzalez | C5: 4 | D5: Bos | E5: 1B | F5: 29 | G5: 8
B6: Troy Tulowitzki | C6: 5 | D6: Col | E6: SS | F6: 27 | G6: 30
B7: Matt Kemp | C7: 6 | D7: LAD | E7: OF | F7: 27 | G7: 1
B8: Justin Upton | C8: 7 | D8: Ari | E8: OF | F8: 24 | G8: 15
B9: Justin Verlander | C9: 8 | D9: Det | E9: SP | F9: 29 | G9: 4
B10: Jose Bautista | C10: 9 | D10: Tor | E10: 3B/OF | F10: 31 | G10: 9
B11: Robinson Cano | C11: 10 | D11: NYY | E11: 2B | F11: 29 | G11: 16
B12: Roy Halladay | C12: 11 | D12: Phi | E12: SP | F12: 34 | G12: 10
B13: Joey Votto | C13: 12 | D13: Cin | E13: 1B | F13: 28 | G13: 18
... B149: Jordan Walden | C149: 148 | D149: LAA | E149: RP | F149: 24 | G149: 123
B150: Adam Wainwright | C150: 149 | D150: StL | E150: SP | F150: 30 | G150: _x0014_
B151: Coco Crisp | C151: 150 | D151: FA | E151: OF | F151: 32 | G151: 55
B152: Brett Lawrie | C152: 151 | D152: Tor | E152: 3B | F152: 22 | G152: 419
B153: John Danks | C153: 152 | D153: CWS | E153: SP | F153: 26 | G153: 364
B154: Carlos Beltran | C154: 153 | D154: FA | E154: OF | F154: 34 | G154: 69
B155: Alex Avila | C155: 154 | D155: Det | E155: C | F155: 25 | G155: 109
B156: Logan Morrison | C156: 155 | D156: Mia | E156: OF | F156: 24 | G156: 228
B157: Ubaldo Jimenez | C157: 156 | D157: Cle | E157: SP | F157: 28 | G157: 374
B158: Carlos Lee | C158: 157 | D158: Hou | E158: 1B/OF | F158: 35 | G158: 112
B159: Carlos Marmol | C159: 158 | D159: ChC | E159: RP | F159: 29 | G159: 173
B160: Joakim Soria | C160: 159 | D160: KC | E160: RP | F160: 27 | G160: 199
B161: Angel Pagan | C161: 160 | D161: NYM | E161: OF | F161: 30 | G161: 114
B162: Jason Kipnis | C162: 161 | D162: Cle | E162: 2B | F162: 24 | G162: 565
... B251: David Freese | C251: 250 | D251: StL | E251: 3B | F251: 28 | G251: 293
