Workbook
Name Goalie: [1]trans!$M$1:$M$86
Name List: [1]trans!$K$2:$K$870
Name Projections: [2]Projections!$A$2:$AJ$857

Sheet OBFBL Draft 2013 - MOCK #3
B1: OBFBL DRAFT 2013 | M1: 96 Keepers | P1: 35 R. Keepers | S1: 229 Draft Picks
C3: CRACKHEADS | F3: FURY | I3: MOTOR BOATS | L3: BLUE BALLS | O3: SEX PANTHERS | R3: LEGACY | U3: DICK DOGS | X3: POO DOGS | AA3: TRIBE | AD3: SUPER SODS | AG3: DYNASTY | AJ3: ASSHATS
C4: # | D4: Player | E4: P | F4: # | G4: Player | H4: P | I4: # | J4: Player | K4: P | L4: # | M4: Player | N4: P | O4: # | P4: Player | Q4: P | R4: # | S4: Player | T4: P | U4: # | V4: Player | W4: P | X4: # | Y4: Player | Z4: P | AA4: # | AB4: Player | AC4: P | AD4: # | AE4: Player | AF4: P | AG4: # | AH4: Player | AI4: P | AJ4: # | AK4: Player | AL4: P
B5: Kp1 | C5: K1 | D5: A. Pujols | E5: 1B | F5: K1 | G5: P. Fielder | H5: 1B | I5: K1 | J5: A. McCutchen | K5: OF | L5: K1 | M5: T. Tulowitzki | N5: SS | O5: K1 | P5: R. Zimmerman | Q5: 3B | R5: K1 | S5: A. Gonzalez | T5: 1B/OF | U5: K1 | V5: J. Votto | W5: 1B | X5: K1 | Y5: R. Braun | Z5: OF | AA5: K1 | AB5: B. Butler | AC5: 1B | AD5: K1 | AE5: A. Jones | AF5: OF | AG5: K1 | AH5: M. Cabrera | AI5: 3B | AJ5: K1 | AK5: J. Bautista | AL5: OF
B6: Kp2 | C6: K2 | D6: R. Cano | E6: 2B | F6: K2 | G6: I. Kinsler | H6: 2B | I6: K2 | J6: J. Heyward | K6: OF | L6: K2 | M6: D. Pedroia | N6: 2B | O6: K2 | P6: A. Wainwright | Q6: SP | R6: K2 | S6: D. Freese | T6: 3B | U6: K2 | V6: M. Kemp | W6: OF | X6: K2 | Y6: A. Beltre | Z6: 3B | AA6: K2 | AB6: C. Headley | AC6: 3B | AD6: K2 | AE6: P. Sandoval | AF6: 3B | AG6: K2 | AH6: E. Longoria | AI6: 3B | AJ6: K2 | AK6: A. Hill | AL6: 2B
B7: Kp3 | C7: K3 | D7: A. Ramirez | E7: 3B | F7: K3 | G7: J. Reyes | H7: SS | I7: K3 | J7: B. Posey | K7: C/1B | L7: K3 | M7: B. Lawrie | N7: 3B | O7: K3 | P7: V. Martinez | Q7: C | R7: K3 | S7: C. Granderson | T7: OF | U7: K3 | V7: J. Ellsbury | W7: OF | X7: K3 | Y7: N. Cruz | Z7: OF | AA7: K3 | AB7: Y. Gallardo | AC7: SP | AD7: K3 | AE7: B. Zobrist | AF7: 2B/SS/OF | AG7: K3 | AH7: G. Stanton | AI7: OF | AJ7: K3 | AK7: S. Castro | AL7: SS
B8: Kp4 | C8: K4 | D8: C. Gonzalez | E8: OF | F8: K4 | G8: D. Wright | H8: 3B | I8: K4 | J8: A. Gordon | K8: OF | L8: K4 | M8: M. Trumbo | N8: 1B/3B/OF | R8: K4 | S8: C. Sale | T8: SP | U8: K4 | V8: I. Desmond | W8: SS | X8: K4 | Y8: C. Davis | Z8: 1B/OF | AA8: K4 | AB8: J. Shields | AC8: SP | AD8: K4 | AE8: A. Craig | AF8: 1B/OF | AG8: K4 | AH8: J. Upton | AI8: OF | AJ8: K4 | AK8: E. Encarnacion | AL8: 1B
B9: Kp5 | C9: K5 | D9: J. Hamilton | E9: OF | F9: K5 | G9: H. Ramirez | H9: 3B/SS | I9: K5 | J9: C. Rasmus | K9: OF | L9: K5 | M9: F. Freeman | N9: 1B | R9: K5 | S9: Me. Cabrera | T9: OF | U9: K5 | V9: C. Santana | W9: C/1B | X9: K5 | Y9: M. Morse | Z9: OF | AD9: K5 | AE9: J. Willingham | AF9: OF | AG9: K5 | AH9: J. Bruce | AI9: OF | AJ9: K5 | AK9: A. Jackson | AL9: OF
B10: Kp6 | C10: K6 | D10: D. Price | E10: SP | F10: K6 | G10: M. Holliday | H10: OF | I10: K6 | J10: E. Andrus | K10: SS | L10: K6 | M10: S. Strasburg | N10: SP | R10: K6 | S10: B. McCann | T10: C | U10: K6 | V10: C. Hamels | W10: SP | X10: K6 | Y10: M. Cain | Z10: SP | AD10: K6 | AE10: C. Kershaw | AF10: SP | AG10: K6 | AH10: P. Goldschmidt | AI10: 1B | AJ10: K6 | AK10: J. Verlander | AL10: SP
B11: Kp7 | C11: K7 | D11: Z. Greinke | E11: SP | F11: K7 | G11: C. Lee | H11: SP | I11: K7 | J11: J. Parker | K11: SP | L11: K7 | M11: T. Lincecum | N11: SP | R11: K7 | S11: C. Crawford | T11: OF | U11: K7 | V11: CC Sabathia | W11: SP | X11: K7 | Y11: J. Johnson | Z11: SP | AD11: K7 | AE11: J. Weaver | AF11: SP | AG11: K7 | AH11: F. Hernandez | AI11: SP | AJ11: K7 | AK11: G. Gonzalez | AL11: SP
B12: Kp8 | C12: K8 | D12: J. Rollins | E12: SS | F12: K8 | G12: R. Halladay | H12: SP | I12: K8 | J12: A. Rizzo | K12: 1B | L12: K8 | M12: K. Medlen | N12: SP | U12: K8 | V12: M. Bumgarner | W12: SP | X12: K8 | Y12: W. Middlebrooks | Z12: 3B | AD12: K8 | AE12: M. Scherzer | AF12: SP | AG12: K8 | AH12: D. Jennings | AI12: OF | AJ12: K8 | AK12: D. Ortiz | AL12: 1B
B13: Kp9 | C13: K9 | D13: B. Upton | E13: OF | F13: K9 | G13: M. Latos | H13: SP | U13: K9 | V13: B. Phillips | W13: 2B | AG13: K9 | AH13: M. Teixeira | AI13: 1B
B14: Kp10 | C14: K10 | D14: J. Zimmermann | E14: SP | F14: K10 | G14: M. Bourn | H14: OF
B15: Kp11 | C15: K11 | D15: J. Papelbon | E15: RP
B16: Kp12 | C16: K12 | D16: R.A. Dickey | E16: SP
B17: Kp13 | C17: K13 | D17: J. Mauer | E17: C/1B
B18: Kp11
B19: Kp12
B20: Kp13
B21: Kp14 | F21: K9 | G21: M. Moore (2 year RK) | H21: SP | I21: K9 | J21: E. Hosmer (final year RK) | K21: 1B | L21: K9 | M21: W. Myers (final year RK) | N21: OF | R21: K9 | S21: 2013 RK Draft #10 Pick | U21: K9 | V21: A. Rendon (2 year RK) | W21: 3B | X21: K9 | Y21: C. Kimbrel (final year RK) | Z21: RP | AD21: K9 | AE21: J. Teheran (final year RK) | AF21: SP | AG21: K9 | AH21: 2013 RK Draft #4 Pick | AJ21: K9 | AK21: B. Harper (final year RK) | AL21: OF
B22: Kp15 | F22: K10 | G22: 2013 RK Draft #1 Pick | I22: K10 | J22: M. Moustakas (final year RK) | K22: 3B | L22: K10 | M22: Y. Cespedes (2 year RK) | N22: OF | U22: K10 | V22: 2013 RK Draft #7 Pick | X22: K10 | Y22: M. Machado (final year RK) | Z22: 3B | AA22: K9 | AB22: J. Kipnis (2 year RK) | AC22: 2B | AD22: K10 | AE22: M. Trout (final year RK) | AF22: OF | AG22: K10 | AH22: 2013 RK Draft #9 Pick | AJ22: K10 | AK22: A. Chapman (final year RK) | AL22: RP
B23: Kp16 | I23: K11 | J23: J. Hellickson (final year RK) | K23: SP | L23: K11 | M23: A. Gose (2 year RK) | N23: OF | X23: K11 | Y23: G. Cole (2 year RK) | Z23: SP | AD23: K11 | AE23: N. Arenado (2 year RK) | AF23: 3B | AG23: K11 | AH23: 2013 RK Draft #12 Pick | AJ23: K11 | AK23: Y. Darvish (2 year RK) | AL23: SP
B24: Kp14 | C24: K14 | D24: K. Jansen | E24: RP
B25: Rk1 | C25: K15 | D25: J. Profar (2 year RK) | E25: Util only | F25: K11 | G25: M. Moore (2 year RK) | H25: SP | I25: K9 | J25: E. Hosmer (final year RK) | K25: 1B | L25: K9 | M25: Y. Cespedes (2 year RK) | N25: OF | O25: K4 | P25: D. Brown (final year RK) | Q25: OF | R25: K8 | S25: B. Hamilton (3 year RK) | T25: SS | X25: K9 | Y25: C. Kimbrel (final year RK) | Z25: RP | AA25: K5 | AB25: M. Pineda (final year RK) | AC25: SP | AD25: K9 | AE25: J. Teheran (final year RK) | AF25: SP | AG25: K10 | AH25: X. Bogaerts (3 year RK) | AI25: SS | AJ25: K9 | AK25: B. Harper (final year RK) | AL25: OF
B26: Rk2 | C26: K16 | D26: A. Reed (2 year RK) | E26: RP | I26: K10 | J26: M. Moustakas (final year RK) | K26: 3B | L26: K10 | M26: A. Gose (2 year RK) | N26: OF | O26: K5 | P26: O. Taveras (3 year RK) | Q26: OF | R26: K9 | S26: T. Bauer (3 year RK) | T26: SP | X26: K10 | Y26: M. Machado (final year RK) | Z26: 3B | AA26: K6 | AB26: J. Kipnis (2 year RK) | AC26: 2B | AD26: K10 | AE26: M. Trout (final year RK) | AF26: OF | AG26: K11 | AH26: B. Rondon (3 year RK) | AI26: RP | AJ26: K10 | AK26: A. Chapman (final year RK) | AL26: RP
B27: Rk3 | I27: K11 | J27: J. Hellickson (final year RK) | K27: SP | L27: K11 | M27: T. d'Arnaud (2 year RK) | N27: C | O27: K6 | P27: D. Bundy (3 year RK) | Q27: SP | X27: K11 | Y27: G. Cole (2 year RK) | Z27: SP | AA27: K7 | AB27: C. Yelich (3 year RK) | AC27: OF | AD27: K11 | AE27: N. Arenado (2 year RK) | AF27: 3B | AJ27: K11 | AK27: Y. Darvish (2 year RK) | AL27: SP
B28: Rk4 | I28: K12 | J28: M. Sano (2 year RK) | K28: 3B/SS | L28: K12 | M28: W. Myers (3 year RK) | N28: C/OF | O28: K7 | P28: M. Zunino (3 year RK) | Q28: C | X28: K12 | Y28: S. Miller (3 year RK) | Z28: SP | AA28: K8 | AB28: M. Olt (3 year RK) | AC28: 1B
B29: Rk5 | I29: K13 | J29: A. Rendon (2 year RK) | K29: 3B | AA29: K9 | AB29: J. Singleton (3 year RK) | AC29: OF
B30: Rk6
B31: Rk7
B32: Rk8
B33: Rk9
B35: 1st | C35: 1 - JC | D35: Shin-Soo Choo | E35: OF | F35: 2 | G35: Jason Motte | H35: RP | I35: 3 | J35: Jose Altuve | K35: 2B | L35: 4 | M35: Matt Wieters | N35: C | O35: 5 - LE | P35: Dan Haren | Q35: SP | R35: 6 | S35: Ryan Howard | T35: 1B | U35: 7 | V35: Rafael Soriano | W35: RP | X35: 8 | Y35: Asdrubal Cabrera | Z35: SS | AA35: 9 | AB35: Fernando Rodney | AC35: RP | AD35: 10 | AE35: Mariano Rivera | AF35: RP | AG35: 11 - SC | AH35: Alex Rios | AI35: OF | AJ35: 12 | AK35: Yadier Molina | AL35: C
B36: 2nd | C36: 24 - JC | D36: Jim Johnson | E36: RP | F36: 23 | G36: Shane Victorino | H36: OF | I36: 22 | J36: Joel Hanrahan | K36: RP | L36: 21 | M36: Carlos Beltran | N36: OF | O36: 20 - SC | P36: Johnny Cueto | Q36: SP | R36: 19 - MC | S36: Paul Konerko | T36: 1B | U36: 18 - RM | V36: Huston Street | W36: RP | X36: 17 | Y36: J.J. Putz | Z36: RP | AA36: 16 - SC | AB36: Sergio Romo | AC36: RP | AD36: 15 | AE36: Mike Napoli | AF36: C/1B | AG36: 14 | AH36: Martin Prado | AI36: 2B/SS /OF | AJ36: 13 | AK36: Joe Nathan | AL36: RP
B37: 3rd | C37: 25 | D37: Ike Davis | E37: 1B | F37: 26 | G37: John Axford | H37: RP | I37: 27 | J37: Brandon Morrow | K37: SP | L37: 28 - SD | M37: Hunter Pence | N37: OF | O37: 29 - LE | P37: Greg Holland | Q37: RP | R37: 30 - SC | S37: C.J. Wilson | T37: SP | U37: 31 - KF | V37: Carlos Gomez | W37: OF | X37: 32 | Y37: Rickie Weeks | Z37: 2B | AA37: 33 | AB37: Alejandro De Aza | AC37: OF | AD37: 34 | AE37: Chris Perez | AF37: RP | AG37: 35 | AH37: Wilin Rosario | AI37: C | AJ37: 36 | AK37: Doug Fister | AL37: SP
B38: 4th | C38: 48 - MM | D38: Derek Jeter | E38: SS | F38: 47 | G38: Hiroki Kuroda | H38: SP | I38: 46 | J38: Brett Anderson | K38: SP | L38: =L36+24 -> 45 | M38: Nick Swisher | N38: 1B/OF | O38: 44 - SC | P38: Matt Harvey | Q38: SP | R38: 43 | S38: Chase Utley | T38: 2B | U38: 42 | V38: Norichika Aoki | W38: OF | X38: 41 | Y38: Ian Kennedy | Z38: SP | AA38: 40 | AB38: Jon Lester | AC38: SP | AD38: 39 | AE38: Nick Markakis | AF38: OF | AG38: 38 | AH38: Glen Perkins | AI38: RP | AJ38: 37 | AK38: Jake Peavy | AL38: SP
B39: 5th | C39: 49 - CS | D39: Brandon League | E39: RP | F39: 50 | G39: Miguel Montero | H39: C | I39: 51 - SD | J39: Rafael Betancourt | K39: RP | L39: 52 | M39: Steve Cishek | N39: RP | O39: 53 - LE | P39: Josh Beckett | Q39: SP | R39: 54 - SC | S39: Angel Pagan | T39: OF | U39: 55 | V39: Anibal Sanchez | W39: SP | X39: =X37+24 -> 56 | Y39: Grant Balfour | Z39: RP | AA39: =AA37+24 -> 57 | AB39: Adam LaRoche | AC39: 1B | AD39: 58 | AE39: Howie Kendrick | AF39: 2B | AG39: 59 | AH39: Dan Uggla | AI39: 2B | AJ39: 60 | AK39: Adam Dunn | AL39: 1B/ OF
B40: 6th | C40: 72 - MM | F40: 71 | I40: 70 | L40: 69 | O40: 68 - SC | R40: 67 | U40: =U38+24 -> 66 | X40: 65 | AA40: =AA38+24 -> 64 | AD40: 63 | AG40: 62 - SC | AJ40: 61
B41: 7th | C41: 73 | F41: 74 - MM | I41: 75 | L41: 76 | O41: 77 | R41: 78 | U41: 79 | X41: 80 | AA41: =AA39+24 -> 81 | AD41: 82 | AG41: 83 | AJ41: 84
B42: 8th | C42: 96 | F42: 95 | I42: 94 | L42: 93 | O42: 92 | R42: 91 | U42: 90 | X42: 89 | AA42: 88 | AD42: 87 | AG42: 86 | AJ42: 85
...

Sheet OBFBL Draft 2013 - MOCK #2
B1: OBFBL DRAFT 2013 | M1: 96 Keepers | P1: 35 R. Keepers | S1: 229 Draft Picks
C3: CRACKHEADS | F3: FURY | I3: MOTOR BOATS | L3: BLUE BALLS | O3: SEX PANTHERS | R3: LEGACY | U3: DICK DOGS | X3: POO DOGS | AA3: TRIBE | AD3: SUPER SODS | AG3: DYNASTY | AJ3: ASSHATS
C4: # | D4: Player | E4: P | F4: # | G4: Player | H4: P | I4: # | J4: Player | K4: P | L4: # | M4: Player | N4: P | O4: # | P4: Player | Q4: P | R4: # | S4: Player | T4: P | U4: # | V4: Player | W4: P | X4: # | Y4: Player | Z4: P | AA4: # | AB4: Player | AC4: P | AD4: # | AE4: Player | AF4: P | AG4: # | AH4: Player | AI4: P | AJ4: # | AK4: Player | AL4: P
B5: Kp1 | C5: K1 | D5: A. Pujols | E5: 1B | F5: K1 | G5: P. Fielder | H5: 1B | I5: K1 | J5: A. McCutchen | K5: OF | L5: K1 | M5: T. Tulowitzki | N5: SS | O5: K1 | P5: R. Zimmerman | Q5: 3B | R5: K1 | S5: A. Gonzalez | T5: 1B/OF | U5: K1 | V5: J. Votto | W5: 1B | X5: K1 | Y5: R. Braun | Z5: OF | AA5: K1 | AB5: B. Butler | AC5: 1B | AD5: K1 | AE5: A. Jones | AF5: OF | AG5: K1 | AH5: M. Cabrera | AI5: 3B | AJ5: K1 | AK5: J. Bautista | AL5: OF
B6: Kp2 | C6: K2 | D6: R. Cano | E6: 2B | F6: K2 | G6: I. Kinsler | H6: 2B | I6: K2 | J6: J. Heyward | K6: OF | L6: K2 | M6: D. Pedroia | N6: 2B | O6: K2 | P6: A. Wainwright | Q6: SP | R6: K2 | S6: D. Freese | T6: 3B | U6: K2 | V6: M. Kemp | W6: OF | X6: K2 | Y6: A. Beltre | Z6: 3B | AA6: K2 | AB6: C. Headley | AC6: 3B | AD6: K2 | AE6: P. Sandoval | AF6: 3B | AG6: K2 | AH6: E. Longoria | AI6: 3B | AJ6: K2 | AK6: A. Hill | AL6: 2B
B7: Kp3 | C7: K3 | D7: A. Ramirez | E7: 3B | F7: K3 | G7: J. Reyes | H7: SS | I7: K3 | J7: B. Posey | K7: C/1B | L7: K3 | M7: B. Lawrie | N7: 3B | O7: K3 | P7: V. Martinez | Q7: C | R7: K3 | S7: C. Granderson | T7: OF | U7: K3 | V7: J. Ellsbury | W7: OF | X7: K3 | Y7: N. Cruz | Z7: OF | AA7: K3 | AB7: Y. Gallardo | AC7: SP | AD7: K3 | AE7: B. Zobrist | AF7: 2B/SS/OF | AG7: K3 | AH7: G. Stanton | AI7: OF | AJ7: K3 | AK7: S. Castro | AL7: SS
B8: Kp4 | C8: K4 | D8: C. Gonzalez | E8: OF | F8: K4 | G8: D. Wright | H8: 3B | I8: K4 | J8: A. Gordon | K8: OF | L8: K4 | M8: M. Trumbo | N8: 1B/3B/OF | R8: K4 | S8: C. Sale | T8: SP | U8: K4 | V8: I. Desmond | W8: SS | X8: K4 | Y8: C. Davis | Z8: 1B/OF | AA8: K4 | AB8: J. Shields | AC8: SP | AD8: K4 | AE8: A. Craig | AF8: 1B/OF | AG8: K4 | AH8: J. Upton | AI8: OF | AJ8: K4 | AK8: E. Encarnacion | AL8: 1B
B9: Kp5 | C9: K5 | D9: J. Hamilton | E9: OF | F9: K5 | G9: H. Ramirez | H9: 3B/SS | I9: K5 | J9: C. Rasmus | K9: OF | L9: K5 | M9: F. Freeman | N9: 1B | R9: K5 | S9: Me. Cabrera | T9: OF | U9: K5 | V9: C. Santana | W9: C/1B | X9: K5 | Y9: M. Morse | Z9: OF | AD9: K5 | AE9: J. Willingham | AF9: OF | AG9: K5 | AH9: J. Bruce | AI9: OF | AJ9: K5 | AK9: A. Jackson | AL9: OF
B10: Kp6 | C10: K6 | D10: D. Price | E10: SP | F10: K6 | G10: M. Holliday | H10: OF | I10: K6 | J10: E. Andrus | K10: SS | L10: K6 | M10: S. Strasburg | N10: SP | R10: K6 | S10: B. McCann | T10: C | U10: K6 | V10: C. Hamels | W10: SP | X10: K6 | Y10: M. Cain | Z10: SP | AD10: K6 | AE10: C. Kershaw | AF10: SP | AG10: K6 | AH10: P. Goldschmidt | AI10: 1B | AJ10: K6 | AK10: J. Verlander | AL10: SP
B11: Kp7 | C11: K7 | D11: Z. Greinke | E11: SP | F11: K7 | G11: C. Lee | H11: SP | I11: K7 | J11: J. Parker | K11: SP | L11: K7 | M11: T. Lincecum | N11: SP | R11: K7 | S11: C. Crawford | T11: OF | U11: K7 | V11: CC Sabathia | W11: SP | X11: K7 | Y11: J. Johnson | Z11: SP | AD11: K7 | AE11: J. Weaver | AF11: SP | AG11: K7 | AH11: F. Hernandez | AI11: SP | AJ11: K7 | AK11: G. Gonzalez | AL11: SP
B12: Kp8 | C12: K8 | D12: J. Rollins | E12: SS | F12: K8 | G12: R. Halladay | H12: SP | I12: K8 | J12: A. Rizzo | K12: 1B | L12: K8 | M12: K. Medlen | N12: SP | U12: K8 | V12: M. Bumgarner | W12: SP | X12: K8 | Y12: W. Middlebrooks | Z12: 3B | AD12: K8 | AE12: M. Scherzer | AF12: SP | AG12: K8 | AH12: D. Jennings | AI12: OF | AJ12: K8 | AK12: D. Ortiz | AL12: 1B
B13: Kp9 | C13: K9 | D13: B. Upton | E13: OF | F13: K9 | G13: M. Latos | H13: SP | U13: K9 | V13: B. Phillips | W13: 2B | AG13: K9 | AH13: M. Teixeira | AI13: 1B
B14: Kp10 | C14: K10 | D14: J. Zimmermann | E14: SP | F14: K10 | G14: M. Bourn | H14: OF
B15: Kp11 | C15: K11 | D15: J. Papelbon | E15: RP
B16: Kp12 | C16: K12 | D16: R.A. Dickey | E16: SP
B17: Kp13 | C17: K13 | D17: J. Mauer | E17: C/1B
B18: Kp11
B19: Kp12
B20: Kp13
B21: Kp14 | F21: K9 | G21: M. Moore (2 year RK) | H21: SP | I21: K9 | J21: E. Hosmer (final year RK) | K21: 1B | L21: K9 | M21: W. Myers (final year RK) | N21: OF | R21: K9 | S21: 2013 RK Draft #10 Pick | U21: K9 | V21: A. Rendon (2 year RK) | W21: 3B | X21: K9 | Y21: C. Kimbrel (final year RK) | Z21: RP | AD21: K9 | AE21: J. Teheran (final year RK) | AF21: SP | AG21: K9 | AH21: 2013 RK Draft #4 Pick | AJ21: K9 | AK21: B. Harper (final year RK) | AL21: OF
B22: Kp15 | F22: K10 | G22: 2013 RK Draft #1 Pick | I22: K10 | J22: M. Moustakas (final year RK) | K22: 3B | L22: K10 | M22: Y. Cespedes (2 year RK) | N22: OF | U22: K10 | V22: 2013 RK Draft #7 Pick | X22: K10 | Y22: M. Machado (final year RK) | Z22: 3B | AA22: K9 | AB22: J. Kipnis (2 year RK) | AC22: 2B | AD22: K10 | AE22: M. Trout (final year RK) | AF22: OF | AG22: K10 | AH22: 2013 RK Draft #9 Pick | AJ22: K10 | AK22: A. Chapman (final year RK) | AL22: RP
B23: Kp16 | I23: K11 | J23: J. Hellickson (final year RK) | K23: SP | L23: K11 | M23: A. Gose (2 year RK) | N23: OF | X23: K11 | Y23: G. Cole (2 year RK) | Z23: SP | AD23: K11 | AE23: N. Arenado (2 year RK) | AF23: 3B | AG23: K11 | AH23: 2013 RK Draft #12 Pick | AJ23: K11 | AK23: Y. Darvish (2 year RK) | AL23: SP
B24: Kp14 | C24: K14 | D24: K. Jansen | E24: RP
B25: Rk1 | C25: K15 | D25: J. Profar (2 year RK) | E25: Util only | F25: K11 | G25: M. Moore (2 year RK) | H25: SP | I25: K9 | J25: E. Hosmer (final year RK) | K25: 1B | L25: K9 | M25: Y. Cespedes (2 year RK) | N25: OF | O25: K4 | P25: D. Brown (final year RK) | Q25: OF | R25: K8 | S25: B. Hamilton (3 year RK) | T25: SS | X25: K9 | Y25: C. Kimbrel (final year RK) | Z25: RP | AA25: K5 | AB25: M. Pineda (final year RK) | AC25: SP | AD25: K9 | AE25: J. Teheran (final year RK) | AF25: SP | AG25: K10 | AH25: X. Bogaerts (3 year RK) | AI25: SS | AJ25: K9 | AK25: B. Harper (final year RK) | AL25: OF
B26: Rk2 | C26: K16 | D26: A. Reed (2 year RK) | E26: RP | I26: K10 | J26: M. Moustakas (final year RK) | K26: 3B | L26: K10 | M26: A. Gose (2 year RK) | N26: OF | O26: K5 | P26: O. Taveras (3 year RK) | Q26: OF | R26: K9 | S26: T. Bauer (3 year RK) | T26: SP | X26: K10 | Y26: M. Machado (final year RK) | Z26: 3B | AA26: K6 | AB26: J. Kipnis (2 year RK) | AC26: 2B | AD26: K10 | AE26: M. Trout (final year RK) | AF26: OF | AG26: K11 | AH26: B. Rondon (3 year RK) | AI26: RP | AJ26: K10 | AK26: A. Chapman (final year RK) | AL26: RP
B27: Rk3 | I27: K11 | J27: J. Hellickson (final year RK) | K27: SP | L27: K11 | M27: T. d'Arnaud (2 year RK) | N27: C | O27: K6 | P27: D. Bundy (3 year RK) | Q27: SP | X27: K11 | Y27: G. Cole (2 year RK) | Z27: SP | AA27: K7 | AB27: C. Yelich (3 year RK) | AC27: OF | AD27: K11 | AE27: N. Arenado (2 year RK) | AF27: 3B | AJ27: K11 | AK27: Y. Darvish (2 year RK) | AL27: SP
B28: Rk4 | I28: K12 | J28: M. Sano (2 year RK) | K28: 3B/SS | L28: K12 | M28: W. Myers (3 year RK) | N28: C/OF | O28: K7 | P28: M. Zunino (3 year RK) | Q28: C | X28: K12 | Y28: S. Miller (3 year RK) | Z28: SP | AA28: K8 | AB28: M. Olt (3 year RK) | AC28: 1B
B29: Rk5 | I29: K13 | J29: A. Rendon (2 year RK) | K29: 3B | AA29: K9 | AB29: J. Singleton (3 year RK) | AC29: OF
B30: Rk6
B31: Rk7
B32: Rk8
B33: Rk9
B35: 1st | C35: 1 - JC | D35: S. Choo | E35: OF | F35: 2 | G35: J. Motte | H35: RP | I35: 3 | J35: D. Haren | K35: SP | L35: 4 | M35: R. Soriano | N35: RP | O35: 5 - LE | P35: A. Rios | Q35: OF | R35: 6 | S35: R. Howard | T35: 1B | U35: 7 | V35: M. Rivera | W35: RP | X35: 8 | Y35: A. Cabrera | Z35: SS | AA35: 9 | AB35: F. Rodney | AC35: RP | AD35: 10 | AE35: M. Wieters | AF35: C | AG35: 11 - SC | AH35: M. Prado | AI35: 2B/3B/ SS/OF | AJ35: 12 | AK35: Y. Molina | AL35: C
B36: 2nd | C36: 24 - JC | D36: I. Davis | E36: 1B | F36: 23 | G36: M. Montero | H36: C | I36: 22 | J36: J. Hanrahan | K36: RP | L36: 21 | M36: J. Johnson | N36: RP | O36: 20 - SC | P36: H. Street | Q36: RP | R36: 19 - MC | S36: S. Victorino | T36: OF | U36: 18 - RM | V36: B. Morrow | W36: SP | X36: 17 | Y36: M. Napoli | Z36: C/1B | AA36: 16 - SC | AB36: P. Konerko | AC36: 1B | AD36: 15 | AE36: S. Romo | AF36: RP | AG36: 14 | AH36: J.J. Putz | AI36: RP | AJ36: 13 | AK36: J. Nathan | AL36: RP
B37: 3rd | C37: 25 | D37: I. Kennedy | E37: SP | F37: 26 | G37: J. Axford | H37: RP | I37: 27 | J37: J. Altuve | K37: 2B | L37: 28 - SD | M37: C. Beltran | N37: OF | O37: 29 - LE | P37: J. Cueto | Q37: SP | R37: 30 - SC | S37: G. Holland | T37: RP | U37: 31 - KF | V37: C. Gomez | W37: OF | X37: 32 | Y37: J. Lester | Z37: SP | AA37: 33 | AB37: J. Samardzija | AC37: SP | AD37: 34 | AE37: C. Utley | AF37: 2B | AG37: 35 | AH37: W. Rosario | AI37: C | AJ37: 36 | AK37: D. Fister | AL37: SP
B38: 4th | C38: 48 - MM | F38: 47 | I38: 46 | L38: =L36+24 -> 45 | O38: 44 - SC | R38: 43 | U38: 42 | X38: 41 | AA38: 40 | AD38: 39 | AG38: 38 | AJ38: 37
B39: 5th | C39: 49 - CS | F39: 50 | I39: 51 - SD | L39: 52 | O39: 53 - LE | R39: 54 - SC | U39: 55 | X39: =X37+24 -> 56 | AA39: =AA37+24 -> 57 | AD39: 58 | AG39: 59 | AJ39: 60
B40: 6th | C40: 72 - MM | F40: 71 | I40: 70 | L40: 69 | O40: 68 - SC | R40: 67 | U40: =U38+24 -> 66 | X40: 65 | AA40: =AA38+24 -> 64 | AD40: 63 | AG40: 62 - SC | AJ40: 61
B41: 7th | C41: 73 | F41: 74 - MM | I41: 75 | L41: 76 | O41: 77 | R41: 78 | U41: 79 | X41: 80 | AA41: =AA39+24 -> 81 | AD41: 82 | AG41: 83 | AJ41: 84
B42: 8th | C42: 96 | F42: 95 | I42: 94 | L42: 93 | O42: 92 | R42: 91 | U42: 90 | X42: 89 | AA42: 88 | AD42: 87 | AG42: 86 | AJ42: 85
...

Sheet OBFBL Draft 2013 - MOCK #1
B1: OBFBL MOCK DRAFT 2013 | M1: 96 Keepers | P1: 36 R. Keepers | S1: 228 Draft Picks
C3: CRACKHEADS | F3: FURY | I3: MOTOR BOATS | L3: BLUE BALLS | O3: SEX PANTHERS | R3: LEGACY | U3: DICK DOGS | X3: POO DOGS | AA3: TRIBE | AD3: SUPER SODS | AG3: DYNASTY | AJ3: ASSHATS
C4: # | D4: Player | E4: P | F4: # | G4: Player | H4: P | I4: # | J4: Player | K4: P | L4: # | M4: Player | N4: P | O4: # | P4: Player | Q4: P | R4: # | S4: Player | T4: P | U4: # | V4: Player | W4: P | X4: # | Y4: Player | Z4: P | AA4: # | AB4: Player | AC4: P | AD4: # | AE4: Player | AF4: P | AG4: # | AH4: Player | AI4: P | AJ4: # | AK4: Player | AL4: P
B5: Kp1 | C5: K1 | D5: A. Pujols | E5: 1B | F5: K1 | G5: P. Fielder | H5: 1B | I5: K1 | J5: A. McCutchen | K5: OF | L5: K1 | M5: T. Tulowitzki | N5: SS | O5: K1 | P5: R. Zimmerman | Q5: 3B | R5: K1 | S5: A. Gonzalez | T5: 1B | U5: K1 | V5: J. Votto | W5: 1B | X5: K1 | Y5: R. Braun | Z5: OF | AA5: K1 | AB5: B. Butler | AC5: 1B | AD5: K1 | AE5: A. Jones | AF5: OF | AG5: K1 | AH5: M. Cabrera | AI5: 3B | AJ5: K1 | AK5: J. Bautista | AL5: OF
B6: Kp2 | C6: K2 | D6: R. Cano | E6: 2B | F6: K2 | G6: I. Kinsler | H6: 2B | I6: K2 | J6: J. Heyward | K6: OF | L6: K2 | M6: D. Pedroia | N6: 2B | O6: K2 | P6: A. Wainwright | Q6: SP | R6: K2 | S6: D. Freese | T6: 3B | U6: K2 | V6: M. Kemp | W6: OF | X6: K2 | Y6: A. Beltre | Z6: 3B | AA6: K2 | AB6: B. Phillips | AC6: 2B | AD6: K2 | AE6: P. Sandoval | AF6: 3B | AG6: K2 | AH6: E. Longoria | AI6: 3B | AJ6: K2 | AK6: A. Hill | AL6: 2B
B7: Kp3 | C7: K3 | D7: A. Ramirez | E7: 3B | F7: K3 | G7: J. Reyes | H7: SS | I7: K3 | J7: B. Posey | K7: C/1B | L7: K3 | M7: B. Lawrie | N7: 3B | O7: K3 | P7: K. Jansen | Q7: RP | R7: K3 | S7: C. Granderson | T7: OF | U7: K3 | V7: J. Ellsbury | W7: OF | X7: K3 | Y7: N. Cruz | Z7: OF | AA7: K3 | AB7: C. Headley | AC7: 3B | AD7: K3 | AE7: B. Zobrist | AF7: 2B/SS/OF | AG7: K3 | AH7: G. Stanton | AI7: OF | AJ7: K3 | AK7: S. Castro | AL7: SS
B8: Kp4 | C8: K4 | D8: C. Gonzalez | E8: OF | F8: K4 | G8: D. Wright | H8: 3B | I8: K4 | J8: A. Gordon | K8: OF | L8: K4 | M8: M. Trumbo | N8: 1B/3B/OF | O8: K4 | P8: V. Martinez | Q8: C/1B | R8: K4 | S8: C. Sale | T8: SP | U8: K4 | V8: E. Andrus | W8: SS | X8: K4 | Y8: C. Davis | Z8: 1B/OF | AA8: K4 | AB8: Y. Gallardo | AC8: SP | AD8: K4 | AE8: A. Craig | AF8: 1B/OF | AG8: K4 | AH8: J. Upton | AI8: OF | AJ8: K4 | AK8: E. Encarnacion | AL8: 1B
B9: Kp5 | C9: K5 | D9: J. Hamilton | E9: OF | F9: K5 | G9: H. Ramirez | H9: 3B/SS | I9: K5 | J9: C. Rasmus | K9: OF | L9: K5 | M9: D. Jennings | N9: OF | R9: K5 | S9: Me. Cabrera | T9: OF | U9: K5 | V9: I. Desmond | W9: SS | X9: K5 | Y9: M. Morse | Z9: 1B/OF | AA9: K5 | AB9: J. Shields | AC9: SP | AD9: K5 | AE9: J. Willingham | AF9: 1B/OF | AG9: K5 | AH9: J. Bruce | AI9: OF | AJ9: K5 | AK9: A. Jackson | AL9: OF
B10: Kp6 | C10: K6 | D10: D. Price | E10: SP | F10: K6 | G10: M. Holliday | H10: OF | I10: K6 | J10: M. Bumgarner | K10: SP | L10: K6 | M10: F. Freeman | N10: 1B | R10: K6 | S10: B. McCann | T10: C | U10: K6 | V10: C. Santana | W10: C/1B | X10: K6 | Y10: M. Cain | Z10: SP | AD10: K6 | AE10: C. Kershaw | AF10: SP | AG10: K6 | AH10: P. Goldschmidt | AI10: 1B | AJ10: K6 | AK10: J. Verlander | AL10: SP
B11: Kp7 | C11: K7 | D11: Z. Greinke | E11: SP | F11: K7 | G11: C. Lee | H11: SP | I11: K7 | J11: J. Parker | K11: SP | L11: K7 | M11: S. Strasburg | N11: SP | R11: K7 | S11: C. Crawford | T11: OF | U11: K7 | V11: C. Hamels | W11: SP | X11: K7 | Y11: J. Johnson | Z11: SP | AD11: K7 | AE11: J. Weaver | AF11: SP | AG11: K7 | AH11: F. Hernandez | AI11: SP | AJ11: K7 | AK11: G. Gonzalez | AL11: SP
B12: Kp8 | C12: K8 | D12: J. Rollins | E12: SS | F12: K8 | G12: R. Halladay | H12: SP | I12: K8 | J12: A. Rizzo | K12: 1B | L12: K8 | M12: T. Lincecum | N12: SP | U12: K8 | V12: CC Sabathia | W12: SP | X12: K8 | Y12: W. Middlebrooks | Z12: 3B | AD12: K8 | AE12: M. Scherzer | AF12: SP | AG12: K8 | AH12: K. Medlen | AI12: SP | AJ12: K8 | AK12: D. Ortiz | AL12: Util
B13: Kp9 | C13: K9 | D13: B. Upton | E13: OF | F13: K9 | G13: M. Latos | H13: SP | AG13: K9 | AH13: M. Teixeira | AI13: 1B
B14: Kp10 | C14: K10 | D14: J. Zimmermann | E14: SP | F14: K10 | G14: M. Bourn | H14: OF
B15: Kp11 | C15: K11 | D15: J. Papelbon | E15: RP
B16: Kp12 | C16: K12 | D16: R.A. Dickey | E16: SP
B17: Kp13 | C17: K13 | D17: J. Mauer | E17: C/1B
B18: Kp11
B19: Kp12
B20: Kp13
B21: Kp14 | F21: K9 | G21: M. Moore (2 year RK) | H21: SP | I21: K9 | J21: E. Hosmer (final year RK) | K21: 1B | L21: K9 | M21: W. Myers (final year RK) | N21: OF | R21: K9 | S21: 2013 RK Draft #10 Pick | U21: K9 | V21: A. Rendon (2 year RK) | W21: 3B | X21: K9 | Y21: C. Kimbrel (final year RK) | Z21: RP | AD21: K9 | AE21: J. Teheran (final year RK) | AF21: SP | AG21: K9 | AH21: 2013 RK Draft #4 Pick | AJ21: K9 | AK21: B. Harper (final year RK) | AL21: OF
B22: Kp15 | F22: K10 | G22: 2013 RK Draft #1 Pick | I22: K10 | J22: M. Moustakas (final year RK) | K22: 3B | L22: K10 | M22: Y. Cespedes (2 year RK) | N22: OF | U22: K10 | V22: 2013 RK Draft #7 Pick | X22: K10 | Y22: M. Machado (final year RK) | Z22: 3B | AA22: K9 | AB22: J. Kipnis (2 year RK) | AC22: 2B | AD22: K10 | AE22: M. Trout (final year RK) | AF22: OF | AG22: K10 | AH22: 2013 RK Draft #9 Pick | AJ22: K10 | AK22: A. Chapman (final year RK) | AL22: RP
B23: Kp16 | I23: K11 | J23: J. Hellickson (final year RK) | K23: SP | L23: K11 | M23: A. Gose (2 year RK) | N23: OF | X23: K11 | Y23: G. Cole (2 year RK) | Z23: SP | AD23: K11 | AE23: N. Arenado (2 year RK) | AF23: 3B | AG23: K11 | AH23: 2013 RK Draft #12 Pick | AJ23: K11 | AK23: Y. Darvish (2 year RK) | AL23: SP
B24: Rk1 | C24: K14 | D24: J. Profar (2 year RK) | E24: SS | F24: K11 | G24: M. Moore (2 year RK) | H24: SP | I24: K9 | J24: E. Hosmer (final year RK) | K24: 1B | L24: K9 | M24: W. Myers (final year RK) | N24: OF | O24: K5 | P24: D. Brown (final year RK) | Q24: OF | R24: K8 | S24: 2013 RK Draft #2 Pick | U24: K9 | V24: A. Rendon (2 year RK) | W24: 3B | X24: K9 | Y24: C. Kimbrel (final year RK) | Z24: RP | AA24: K6 | AB24: M. Pineda (final year RK) | AC24: SP | AD24: K9 | AE24: J. Teheran (final year RK) | AF24: SP | AG24: K10 | AH24: 2013 RK Draft #12 Pick | AJ24: K9 | AK24: B. Harper (final year RK) | AL24: OF
B25: Rk2 | C25: K15 | D25: A. Reed (2 year RK) | E25: RP | I25: K10 | J25: M. Moustakas (final year RK) | K25: 3B | L25: K10 | M25: Y. Cespedes (2 year RK) | N25: OF | O25: K6 | P25: 2013 RK Draft #1 Pick | R25: K9 | S25: 2013 RK Draft #9 Pick | U25: K10 | V25: 2013 RK Draft #7 Pick | X25: K10 | Y25: M. Machado (final year RK) | Z25: 3B | AA25: K7 | AB25: J. Kipnis (2 year RK) | AC25: 2B | AD25: K10 | AE25: M. Trout (final year RK) | AF25: OF | AJ25: K10 | AK25: A. Chapman (final year RK) | AL25: RP
B26: Rk3 | C26: K16 | D26: 2013 RK Draft #3 Pick | I26: K11 | J26: J. Hellickson (final year RK) | K26: SP | L26: K11 | M26: A. Gose (2 year RK) | N26: OF | O26: K7 | P26: 2013 RK Draft #4 Pick | X26: K11 | Y26: G. Cole (2 year RK) | Z26: SP | AA26: K8 | AB26: 2013 RK Draft #6 Pick | AD26: K11 | AE26: N. Arenado (2 year RK) | AF26: 3B | AJ26: K11 | AK26: Y. Darvish (2 year RK) | AL26: SP
B27: Rk4 | I27: K12 | J27: M. Sano (2 year RK) | K27: 3B | L27: K12 | M27: T. d'Arnaud (2 year RK) | N27: C | O27: K8 | P27: 2013 RK Draft #5 Pick | X27: K12 | Y27: 2013 RK Draft #8 Pick | AA27: K9 | AB27: 2013 RK Draft #10 Pick
B28: Rk5 | L28: K13 | M28: 2013 RK Draft #11 Pick
B29: Rk6
B30: Rk7
B31: Rk8
B32: Rk9
B34: 1st | C34: 1 - JC | D34: J. Cueto | E34: SP | F34: 2 | G34: A. Rios | H34: OF | I34: 3 | J34: J. Altuve | K34: 2B | L34: 4 | M34: J. Motte | N34: RP | O34: 5 - LE | P34: M. Wieters | Q34: C | R34: 6 | S34: A. Cabrera | T34: SS | U34: 7 | V34: C. Beltran | W34: OF | X34: 8 | Y34: P. Konerko | Z34: 1B | AA34: 9 | AB34: Y. Molina | AC34: C | AD34: 10 | AE34: S. Choo | AF34: OF | AG34: 11 | AH34: I. Davis | AI34: 1B | AJ34: 12 | AK34: E. Frieri | AL34: RP
B35: 2nd | C35: 24 - JC | D35: A. LaRoche | E35: 1B | F35: 23 | G35: L. Lynn | H35: SP | I35: 22 | J35: D. Haren | K35: SP | L35: 21 | M35: B. Revere | N35: OF | O35: 20 - SC | P35: H. Pence | Q35: OF | R35: 19 - MC | S35: A. Ethier | T35: OF | U35: 18 - RM | V35: J. Nathan | W35: RP | X35: 17 | Y35: M. Prado | Z35: 3B/OF | AA35: 16 - SC | AB35: D. Fister | AC35: SP | AD35: 15 | AE35: H. Kuroda | AF35: SP | AG35: 14 | AH35: S. Victorino | AI35: OF | AJ35: 13 | AK35: C. Hart | AL35: 1B/OF
B36: 3rd | C36: 25 | D36: E. Aybar | E36: SS | F36: 26 | G36: J.J. Putz | H36: RP | I36: 27 | J36: B. Anderson | K36: SP | L36: 28 - SD | M36: N. Walker | N36: 2B | O36: 29 - LE | P36: F. Rodney | Q36: RP | R36: 30 - SC | S36: R. Howard | T36: 1B | U36: 31 | V36: R. Weeks | W36: 2B | X36: 32 | Y36: I. Kennedy | Z36: SP | AA36: 33 | AB36: A. De Aza | AC36: OF | AD36: 34 | AE36: J. Johnson | AF36: RP | AG36: 35 | AH36: D. Storen | AI36: RP | AJ36: 36 | AK36: W. Rosario | AL36: C
B37: 4th | C37: 48 - MM | D37: W. Miley | E37: SP | F37: 47 | G37: A. Escobar | H37: SS | I37: 46 | J37: J. Hanrahan | K37: RP | L37: =L35+24 -> 45 | M37: H. Street | N37: RP | O37: 44 - SC | P37: G. Holland | Q37: RP | R37: 43 | S37: B. Gardner | T37: OF | U37: 42 | V37: C. Crisp | W37: OF | X37: 41 | Y37: D. Jeter | Z37: SS | AA37: 40 | AB37: J. Peavy | AC37: SP | AD37: 39 | AE37: S. Romo | AF37: RP | AG37: 38 | AH37: I. Suzuki | AI37: OF | AJ37: 37 | AK37: J. Reddick | AL37: OF
B38: 5th | C38: 49 - CS | F38: 50 | I38: 51 | L38: 52 | O38: 53 - LE | R38: 54 - SC | U38: 55 | X38: =X36+24 -> 56 | AA38: =AA36+24 -> 57 | AD38: 58 | AG38: 59 | AJ38: 60
B39: 6th | C39: 72 - MM | F39: 71 | I39: 70 | L39: 69 | O39: 68 - SC | R39: 67 | U39: =U37+24 -> 66 | X39: 65 | AA39: =AA37+24 -> 64 | AD39: 63 | AG39: 62 | AJ39: 61
B40: 7th | C40: 73 - CS | F40: 74 - MM | I40: 75 | L40: 76 | O40: 77 | R40: 78 | U40: 79 | X40: 80 | AA40: =AA38+24 -> 81 | AD40: 82 | AG40: 83 | AJ40: 84
B41: 8th | C41: 96 | F41: 95 | I41: 94 | L41: 93 | O41: 92 | R41: 91 | U41: 90 | X41: 89 | AA41: 88 | AD41: 87 | AG41: =AG39+24 -> 86 | AJ41: 85
B42: 9th | C42: 97 - JC | F42: 98 | I42: 99 | L42: 100 | O42: =O40+24 -> 101 | R42: 102 | U42: 103 | X42: 104 | AA42: =AA40+24 -> 105 | AD42: 106 | AG42: 107 | AJ42: 108
...

Sheet OBFBL Draft 2013 by Position
B1: OBFBL Draft 2013
B3: CRACKHEADS | D3: FURY | F3: MOTOR BOATS | H3: BLUE BALLS | J3: SEX PANTHERS | L3: LEGACY | N3: DICK DOGS | P3: POO DOGS | R3: TRIBE | T3: SUPER SODS | V3: DYNASTY | X3: ASSHATS
B4: Pos | C4: Player | D4: Pos | E4: Player | F4: Pos | G4: Player | H4: Pos | I4: Player | J4: Pos | K4: Player | L4: Pos | M4: Player | N4: Pos | O4: Player | P4: Pos | Q4: Player | R4: Pos | S4: Player | T4: Pos | U4: Player | V4: Pos | W4: Player | X4: Pos | Y4: Player
B5: C-1 | D5: C-1 | F5: C-1 | H5: C-1 | J5: C-1 | L5: C-1 | N5: C-1 | P5: C-1 | R5: C-1 | T5: C-1 | V5: C-1 | X5: C-1
B6: C-2 (Opt) | D6: C-2 (Opt) | F6: C-2 (Opt) | H6: C-2 (Opt) | J6: C-2 (Opt) | L6: C-2 (Opt) | N6: C-2 (Opt) | P6: C-2 (Opt) | R6: C-2 (Opt) | T6: C-2 (Opt) | V6: C-2 (Opt) | X6: C-2 (Opt)
B7: 1B | D7: 1B | F7: 1B | H7: 1B | J7: 1B | L7: 1B | N7: 1B | P7: 1B | R7: 1B | T7: 1B | V7: 1B | X7: 1B
B8: 2B | D8: 2B | F8: 2B | H8: 2B | J8: 2B | L8: 2B | N8: 2B | P8: 2B | R8: 2B | T8: 2B | V8: 2B | X8: 2B
B9: 3B | D9: 3B | F9: 3B | H9: 3B | J9: 3B | L9: 3B | N9: 3B | P9: 3B | R9: 3B | T9: 3B | V9: 3B | X9: 3B
B10: SS | D10: SS | F10: SS | H10: SS | J10: SS | L10: SS | N10: SS | P10: SS | R10: SS | T10: SS | V10: SS | X10: SS
B11: Util-1 | D11: Util-1 | F11: Util-1 | H11: Util-1 | J11: Util-1 | L11: Util-1 | N11: Util-1 | P11: Util-1 | R11: Util-1 | T11: Util-1 | V11: Util-1 | X11: Util-1
B12: Util-2 | D12: Util-2 | F12: Util-2 | H12: Util-2 | J12: Util-2 | L12: Util-2 | N12: Util-2 | P12: Util-2 | R12: Util-2 | T12: Util-2 | V12: Util-2 | X12: Util-2
B13: OF-1 | D13: OF-1 | F13: OF-1 | H13: OF-1 | J13: OF-1 | L13: OF-1 | N13: OF-1 | P13: OF-1 | R13: OF-1 | T13: OF-1 | V13: OF-1 | X13: OF-1
B14: OF-2 | D14: OF-2 | F14: OF-2 | H14: OF-2 | J14: OF-2 | L14: OF-2 | N14: OF-2 | P14: OF-2 | R14: OF-2 | T14: OF-2 | V14: OF-2 | X14: OF-2
B15: OF-3 | D15: OF-3 | F15: OF-3 | H15: OF-3 | J15: OF-3 | L15: OF-3 | N15: OF-3 | P15: OF-3 | R15: OF-3 | T15: OF-3 | V15: OF-3 | X15: OF-3
B16: OF-4 | D16: OF-4 | F16: OF-4 | H16: OF-4 | J16: OF-4 | L16: OF-4 | N16: OF-4 | P16: OF-4 | R16: OF-4 | T16: OF-4 | V16: OF-4 | X16: OF-4
... B37: B9 (Optional) | D37: B9 (Optional) | F37: B9 (Optional) | H37: B9 (Optional) | J37: B9 (Optional) | L37: B9 (Optional) | N37: B9 (Optional) | P37: B9 (Optional) | R37: B9 (Optional) | T37: B9 (Optional) | V37: B9 (Optional) | X37: B9 (Optional)

Sheet OBFBL-Draft Sheet Tool -TRY IT!
B1: Player Name | C1: Position | D1: B-Starter? | E1: P Starter? | F1: R | G1: HR | H1: RBI | I1: SB | J1: AVG | K1: IP | L1: W | M1: SV | N1: K | O1: ERA | P1: WHIP | R1: OBFBL Year | S1: R | T1: HR | U1: RBI | V1: SB | W1: AVG | Y1: W | Z1: SV | AA1: K | AB1: ERA | AC1: WHIP
A2: Target Stats | F2: =S10 -> 1074.8 | G2: =T10 -> 274.7 | H2: =U10 -> 1034.25 | I2: =V10 -> 170.25 | J2: =W10 -> 0.2761 | K2: 1500 | L2: =Y10 -> 101.9 | M2: =Z10 -> 159.85 | N2: =AA10 -> 1398.4 | O2: =AB10 -> 3.3625 | P2: =AC10 -> 1.2015 | R2: 2012 | S2: 1085 | T2: 287 | U2: 1014 | V2: 167 | W2: 0.275 | Y2: 102 | Z2: 145 | AA2: 1450 | AB2: 3.32 | AC2: 1.19
A3: 1 | B3: Joe Mauer | C3: C-1 | D3: X | F3: =IFERROR(VLOOKUP($B3,'2013 Projections'!$C$5:$Q$1098,4,FALSE),"") -> 89 | G3: =IFERROR(VLOOKUP($B3,'2013 Projections'!$C$5:$Q$1098,5,FALSE),"") -> 10 | H3: =IFERROR(VLOOKUP($B3,'2013 Projections'!$C$5:$Q$1098,6,FALSE),"") -> 74 | I3: =IFERROR(VLOOKUP($B3,'2013 Projections'!$C$5:$Q$1098,7,FALSE),"") -> 5 | J3: =IFERROR(VLOOKUP($B3,'2013 Projections'!$C$5:$Q$1098,8,FALSE),"") -> 0.303 | R3: 2011 | S3: 1053 | T3: 263 | U3: 1027 | V3: 174 | W3: 0.273 | Y3: 100 | Z3: 174 | AA3: 1388 | AB3: 3.21 | AC3: 1.18
A4: 2 | C4: C-2 (Optional) | R4: 2010 | S4: 1059 | T4: 263 | U4: 1029 | V4: 164 | W4: 0.277 | Y4: 113 | Z4: 151 | AA4: 1367 | AB4: 3.33 | AC4: 1.19
B5: (C1-70%+C2-30%) | C5: C-total | F5: =F3*0.7+F4*0.3 -> 62.3 | G5: =G3*0.7+G4*0.3 -> 7 | H5: =H3*0.7+H4*0.3 -> 51.8 | I5: =I3*0.7+I4*0.3 -> 3.5 | J5: =J3*0.7+J4*0.3 -> 0.2121 | R5: 2009 | S5: 1135 | T5: 289 | U5: 1086 | V5: 172 | W5: 0.284 | Y5: 100 | Z5: 165 | AA5: 1352 | AB5: 3.83 | AC5: 1.27
A6: 3 | B6: Albert Pujols | C6: 1B | D6: X | F6: =IFERROR(VLOOKUP($B6,'2013 Projections'!$C$5:$Q$1098,4,FALSE),"") -> 97 | G6: =IFERROR(VLOOKUP($B6,'2013 Projections'!$C$5:$Q$1098,5,FALSE),"") -> 31 | H6: =IFERROR(VLOOKUP($B6,'2013 Projections'!$C$5:$Q$1098,6,FALSE),"") -> 105 | I6: =IFERROR(VLOOKUP($B6,'2013 Projections'!$C$5:$Q$1098,7,FALSE),"") -> 7 | J6: =IFERROR(VLOOKUP($B6,'2013 Projections'!$C$5:$Q$1098,8,FALSE),"") -> 0.299 | R6: 2008 | S6: 1071 | T6: 270 | U6: 1084 | V6: 173 | W6: 0.282 | Y6: 99 | Z6: 166 | AA6: 1332 | AB6: 3.61 | AC6: 1.26
A7: 4 | B7: Robinson Cano | C7: 2B | D7: X | F7: =IFERROR(VLOOKUP($B7,'2013 Projections'!$C$5:$Q$1098,4,FALSE),"") -> 104 | G7: =IFERROR(VLOOKUP($B7,'2013 Projections'!$C$5:$Q$1098,5,FALSE),"") -> 30 | H7: =IFERROR(VLOOKUP($B7,'2013 Projections'!$C$5:$Q$1098,6,FALSE),"") -> 122 | I7: =IFERROR(VLOOKUP($B7,'2013 Projections'!$C$5:$Q$1098,7,FALSE),"") -> 3 | J7: =IFERROR(VLOOKUP($B7,'2013 Projections'!$C$5:$Q$1098,8,FALSE),"") -> 0.322
A8: 5 | B8: Aramis Ramirez | C8: 3B | D8: X | F8: =IFERROR(VLOOKUP($B8,'2013 Projections'!$C$5:$Q$1098,4,FALSE),"") -> 83 | G8: =IFERROR(VLOOKUP($B8,'2013 Projections'!$C$5:$Q$1098,5,FALSE),"") -> 25 | H8: =IFERROR(VLOOKUP($B8,'2013 Projections'!$C$5:$Q$1098,6,FALSE),"") -> 99 | I8: =IFERROR(VLOOKUP($B8,'2013 Projections'!$C$5:$Q$1098,7,FALSE),"") -> 4 | J8: =IFERROR(VLOOKUP($B8,'2013 Projections'!$C$5:$Q$1098,8,FALSE),"") -> 0.29
A9: 6 | B9: Jimmy Rollins | C9: SS | D9: X | F9: =IFERROR(VLOOKUP($B9,'2013 Projections'!$C$5:$Q$1098,4,FALSE),"") -> 93 | G9: =IFERROR(VLOOKUP($B9,'2013 Projections'!$C$5:$Q$1098,5,FALSE),"") -> 19 | H9: =IFERROR(VLOOKUP($B9,'2013 Projections'!$C$5:$Q$1098,6,FALSE),"") -> 58 | I9: =IFERROR(VLOOKUP($B9,'2013 Projections'!$C$5:$Q$1098,7,FALSE),"") -> 26 | J9: =IFERROR(VLOOKUP($B9,'2013 Projections'!$C$5:$Q$1098,8,FALSE),"") -> 0.275
A10: 7 | C10: Util-1 | F10: =IFERROR(VLOOKUP($B10,'2013 Projections'!$C$5:$Q$1098,4,FALSE),"") | G10: =IFERROR(VLOOKUP($B10,'2013 Projections'!$C$5:$Q$1098,5,FALSE),"") | H10: =IFERROR(VLOOKUP($B10,'2013 Projections'!$C$5:$Q$1098,6,FALSE),"") | I10: =IFERROR(VLOOKUP($B10,'2013 Projections'!$C$5:$Q$1098,7,FALSE),"") | J10: =IFERROR(VLOOKUP($B10,'2013 Projections'!$C$5:$Q$1098,8,FALSE),"") | R10: Average Totals | S10: =((SUM(S2:S3)/2)*0.7+(SUM(S4:S6)/3)*0.3) -> 1074.8 | T10: =((SUM(T2:T3)/2)*0.7+(SUM(T4:T6)/3)*0.3) -> 274.7 | U10: =((SUM(U2:U3)/2)*0.7+(SUM(U4:U6)/3)*0.3) -> 1034.25 | V10: =((SUM(V2:V3)/2)*0.7+(SUM(V4:V6)/3)*0.3) -> 170.25 | W10: =((SUM(W2:W3)/2)*0.7+(SUM(W4:W6)/3)*0.3) -> 0.2761 | Y10: =((SUM(Y2:Y3)/2)*0.7+(SUM(Y4:Y6)/3)*0.3) -> 101.9 | Z10: =((SUM(Z2:Z3)/2)*0.7+(SUM(Z4:Z6)/3)*0.3) -> 159.85 | AA10: =((SUM(AA2:AA3)/2)*0.7+(SUM(AA4:AA6)/3)*0.3) -> 1398.4 | AB10: =((SUM(AB2:AB3)/2)*0.7+(SUM(AB4:AB6)/3)*0.3) -> 3.3625 | AC10: =((SUM(AC2:AC3)/2)*0.7+(SUM(AC4:AC6)/3)*0.3) -> 1.2015
A11: 8 | C11: Util-2 | F11: =IFERROR(VLOOKUP($B11,'2013 Projections'!$C$5:$Q$1098,4,FALSE),"") | G11: =IFERROR(VLOOKUP($B11,'2013 Projections'!$C$5:$Q$1098,5,FALSE),"") | H11: =IFERROR(VLOOKUP($B11,'2013 Projections'!$C$5:$Q$1098,6,FALSE),"") | I11: =IFERROR(VLOOKUP($B11,'2013 Projections'!$C$5:$Q$1098,7,FALSE),"") | J11: =IFERROR(VLOOKUP($B11,'2013 Projections'!$C$5:$Q$1098,8,FALSE),"")
A12: 9 | B12: Carlos Gonzalez | C12: OF-1 | D12: X | F12: =IFERROR(VLOOKUP($B12,'2013 Projections'!$C$5:$Q$1098,4,FALSE),"") -> 88 | G12: =IFERROR(VLOOKUP($B12,'2013 Projections'!$C$5:$Q$1098,5,FALSE),"") -> 26 | H12: =IFERROR(VLOOKUP($B12,'2013 Projections'!$C$5:$Q$1098,6,FALSE),"") -> 96 | I12: =IFERROR(VLOOKUP($B12,'2013 Projections'!$C$5:$Q$1098,7,FALSE),"") -> 21 | J12: =IFERROR(VLOOKUP($B12,'2013 Projections'!$C$5:$Q$1098,8,FALSE),"") -> 0.287
A13: 10 | B13: Josh Hamilton | C13: OF-2 | D13: X | F13: =IFERROR(VLOOKUP($B13,'2013 Projections'!$C$5:$Q$1098,4,FALSE),"") -> 89 | G13: =IFERROR(VLOOKUP($B13,'2013 Projections'!$C$5:$Q$1098,5,FALSE),"") -> 35 | H13: =IFERROR(VLOOKUP($B13,'2013 Projections'!$C$5:$Q$1098,6,FALSE),"") -> 100 | I13: =IFERROR(VLOOKUP($B13,'2013 Projections'!$C$5:$Q$1098,7,FALSE),"") -> 7 | J13: =IFERROR(VLOOKUP($B13,'2013 Projections'!$C$5:$Q$1098,8,FALSE),"") -> 0.293
A14: 11 | B14: B.J. Upton | C14: OF-3 | D14: X | F14: =IFERROR(VLOOKUP($B14,'2013 Projections'!$C$5:$Q$1098,4,FALSE),"") -> 77 | G14: =IFERROR(VLOOKUP($B14,'2013 Projections'!$C$5:$Q$1098,5,FALSE),"") -> 23 | H14: =IFERROR(VLOOKUP($B14,'2013 Projections'!$C$5:$Q$1098,6,FALSE),"") -> 80 | I14: =IFERROR(VLOOKUP($B14,'2013 Projections'!$C$5:$Q$1098,7,FALSE),"") -> 29 | J14: =IFERROR(VLOOKUP($B14,'2013 Projections'!$C$5:$Q$1098,8,FALSE),"") -> 0.254
A15: 12 | C15: OF-4 | F15: =IFERROR(VLOOKUP($B15,'2013 Projections'!$C$5:$Q$1098,4,FALSE),"") | G15: =IFERROR(VLOOKUP($B15,'2013 Projections'!$C$5:$Q$1098,5,FALSE),"") | H15: =IFERROR(VLOOKUP($B15,'2013 Projections'!$C$5:$Q$1098,6,FALSE),"") | I15: =IFERROR(VLOOKUP($B15,'2013 Projections'!$C$5:$Q$1098,7,FALSE),"") | J15: =IFERROR(VLOOKUP($B15,'2013 Projections'!$C$5:$Q$1098,8,FALSE),"")
A16: 13 | C16: OF-5 | F16: =IFERROR(VLOOKUP($B16,'2013 Projections'!$C$5:$Q$1098,4,FALSE),"") | G16: =IFERROR(VLOOKUP($B16,'2013 Projections'!$C$5:$Q$1098,5,FALSE),"") | H16: =IFERROR(VLOOKUP($B16,'2013 Projections'!$C$5:$Q$1098,6,FALSE),"") | I16: =IFERROR(VLOOKUP($B16,'2013 Projections'!$C$5:$Q$1098,7,FALSE),"") | J16: =IFERROR(VLOOKUP($B16,'2013 Projections'!$C$5:$Q$1098,8,FALSE),"")
A17: 14 | B17: David Price | C17: P-1 | E17: X | K17: =IFERROR(VLOOKUP($B17,'2013 Projections'!$C$5:$Q$1098,3,FALSE),"") -> 205 | L17: =IFERROR(VLOOKUP($B17,'2013 Projections'!$C$5:$Q$1098,4,FALSE),"") -> 17 | M17: =IFERROR(VLOOKUP($B17,'2013 Projections'!$C$5:$Q$1098,11,FALSE),"") -> 0 | N17: =IFERROR(VLOOKUP($B17,'2013 Projections'!$C$5:$Q$1098,8,FALSE),"") -> 197 | O17: =IFERROR(VLOOKUP($B17,'2013 Projections'!$C$5:$Q$1098,6,FALSE),"") -> 2.72 | P17: =IFERROR(VLOOKUP($B17,'2013 Projections'!$C$5:$Q$1098,7,FALSE),"") -> 1.13
A18: 15 | B18: Zack Greinke | C18: P-2 | E18: X | K18: =IFERROR(VLOOKUP($B18,'2013 Projections'!$C$5:$Q$1098,3,FALSE),"") -> 200 | L18: =IFERROR(VLOOKUP($B18,'2013 Projections'!$C$5:$Q$1098,4,FALSE),"") -> 12 | M18: =IFERROR(VLOOKUP($B18,'2013 Projections'!$C$5:$Q$1098,11,FALSE),"") -> 0 | N18: =IFERROR(VLOOKUP($B18,'2013 Projections'!$C$5:$Q$1098,8,FALSE),"") -> 197 | O18: =IFERROR(VLOOKUP($B18,'2013 Projections'!$C$5:$Q$1098,6,FALSE),"") -> 3.74 | P18: =IFERROR(VLOOKUP($B18,'2013 Projections'!$C$5:$Q$1098,7,FALSE),"") -> 1.2
A19: 16 | B19: R.A. Dickey | C19: P-3 | E19: X | K19: =IFERROR(VLOOKUP($B19,'2013 Projections'!$C$5:$Q$1098,3,FALSE),"") -> 200 | L19: =IFERROR(VLOOKUP($B19,'2013 Projections'!$C$5:$Q$1098,4,FALSE),"") -> 15 | M19: =IFERROR(VLOOKUP($B19,'2013 Projections'!$C$5:$Q$1098,11,FALSE),"") -> 0 | N19: =IFERROR(VLOOKUP($B19,'2013 Projections'!$C$5:$Q$1098,8,FALSE),"") -> 173 | O19: =IFERROR(VLOOKUP($B19,'2013 Projections'!$C$5:$Q$1098,6,FALSE),"") -> 2.75 | P19: =IFERROR(VLOOKUP($B19,'2013 Projections'!$C$5:$Q$1098,7,FALSE),"") -> 1.12
A20: 17 | B20: Jordan Zimmermann | C20: P-4 | E20: X | K20: =IFERROR(VLOOKUP($B20,'2013 Projections'!$C$5:$Q$1098,3,FALSE),"") -> 190 | L20: =IFERROR(VLOOKUP($B20,'2013 Projections'!$C$5:$Q$1098,4,FALSE),"") -> 13 | M20: =IFERROR(VLOOKUP($B20,'2013 Projections'!$C$5:$Q$1098,11,FALSE),"") -> 0 | N20: =IFERROR(VLOOKUP($B20,'2013 Projections'!$C$5:$Q$1098,8,FALSE),"") -> 150 | O20: =IFERROR(VLOOKUP($B20,'2013 Projections'!$C$5:$Q$1098,6,FALSE),"") -> 3.46 | P20: =IFERROR(VLOOKUP($B20,'2013 Projections'!$C$5:$Q$1098,7,FALSE),"") -> 1.17
A21: 18 | B21: Jonathan Papelbon | C21: P-5 | E21: X | K21: =IFERROR(VLOOKUP($B21,'2013 Projections'!$C$5:$Q$1098,3,FALSE),"") -> 60 | L21: =IFERROR(VLOOKUP($B21,'2013 Projections'!$C$5:$Q$1098,4,FALSE),"") -> 2 | M21: =IFERROR(VLOOKUP($B21,'2013 Projections'!$C$5:$Q$1098,11,FALSE),"") -> 35 | N21: =IFERROR(VLOOKUP($B21,'2013 Projections'!$C$5:$Q$1098,8,FALSE),"") -> 78 | O21: =IFERROR(VLOOKUP($B21,'2013 Projections'!$C$5:$Q$1098,6,FALSE),"") -> 2.55 | P21: =IFERROR(VLOOKUP($B21,'2013 Projections'!$C$5:$Q$1098,7,FALSE),"") -> 1.05
A22: 19 | B22: Addison Reed | C22: P-6 | E22: X | K22: =IFERROR(VLOOKUP($B22,'2013 Projections'!$C$5:$Q$1098,3,FALSE),"") -> 60 | L22: =IFERROR(VLOOKUP($B22,'2013 Projections'!$C$5:$Q$1098,4,FALSE),"") -> 2 | M22: =IFERROR(VLOOKUP($B22,'2013 Projections'!$C$5:$Q$1098,11,FALSE),"") -> 28 | N22: =IFERROR(VLOOKUP($B22,'2013 Projections'!$C$5:$Q$1098,8,FALSE),"") -> 61 | O22: =IFERROR(VLOOKUP($B22,'2013 Projections'!$C$5:$Q$1098,6,FALSE),"") -> 3.9 | P22: =IFERROR(VLOOKUP($B22,'2013 Projections'!$C$5:$Q$1098,7,FALSE),"") -> 1.37
A23: 20 | C23: P-7 | K23: =IFERROR(VLOOKUP($B23,'2013 Projections'!$C$5:$Q$1098,3,FALSE),"") | L23: =IFERROR(VLOOKUP($B23,'2013 Projections'!$C$5:$Q$1098,4,FALSE),"") | M23: =IFERROR(VLOOKUP($B23,'2013 Projections'!$C$5:$Q$1098,11,FALSE),"") | N23: =IFERROR(VLOOKUP($B23,'2013 Projections'!$C$5:$Q$1098,8,FALSE),"") | O23: =IFERROR(VLOOKUP($B23,'2013 Projections'!$C$5:$Q$1098,6,FALSE),"") | P23: =IFERROR(VLOOKUP($B23,'2013 Projections'!$C$5:$Q$1098,7,FALSE),"")
A24: 21 | C24: P-8 | K24: =IFERROR(VLOOKUP($B24,'2013 Projections'!$C$5:$Q$1098,3,FALSE),"") | L24: =IFERROR(VLOOKUP($B24,'2013 Projections'!$C$5:$Q$1098,4,FALSE),"") | M24: =IFERROR(VLOOKUP($B24,'2013 Projections'!$C$5:$Q$1098,10,FALSE),"") | N24: =IFERROR(VLOOKUP($B24,'2013 Projections'!$C$5:$Q$1098,8,FALSE),"") | O24: =IFERROR(VLOOKUP($B24,'2013 Projections'!$C$5:$Q$1098,6,FALSE),"") | P24: =IFERROR(VLOOKUP($B24,'2013 Projections'!$C$5:$Q$1098,7,FALSE),"")
A25: 22 | C25: P-9 | K25: =IFERROR(VLOOKUP($B25,'2013 Projections'!$C$5:$Q$1098,3,FALSE),"") | L25: =IFERROR(VLOOKUP($B25,'2013 Projections'!$C$5:$Q$1098,4,FALSE),"") | M25: =IFERROR(VLOOKUP($B25,'2013 Projections'!$C$5:$Q$1098,10,FALSE),"") | N25: =IFERROR(VLOOKUP($B25,'2013 Projections'!$C$5:$Q$1098,8,FALSE),"") | O25: =IFERROR(VLOOKUP($B25,'2013 Projections'!$C$5:$Q$1098,6,FALSE),"") | P25: =IFERROR(VLOOKUP($B25,'2013 Projections'!$C$5:$Q$1098,7,FALSE),"")
A26: 23 | B26: Jurickson Profar | C26: B1 | F26: =IFERROR(VLOOKUP($B26,'2013 Projections'!$C$5:$Q$1098,4,FALSE),"") | G26: =IFERROR(VLOOKUP($B26,'2013 Projections'!$C$5:$Q$1098,5,FALSE),"") | H26: =IFERROR(VLOOKUP($B26,'2013 Projections'!$C$5:$Q$1098,6,FALSE),"") | I26: =IFERROR(VLOOKUP($B26,'2013 Projections'!$C$5:$Q$1098,7,FALSE),"") | J26: =IFERROR(VLOOKUP($B26,'2013 Projections'!$C$5:$Q$1098,8,FALSE),"")
A27: 24 | C27: B2
A28: 25 | C28: B3
A29: 26 | C29: B4
A30: 27 | C30: B5
A31: 28 | C31: B6
A32: 29 | C32: B7
A33: 30 | C33: B8
A34: 31 | C34: B9
A35: Total So Far | F35: =SUMIF(D3:D34,"X",F3:F34) -> 720 | G35: =SUMIF(D3:D34,"X",G3:G34) -> 199 | H35: =SUMIF(D3:D34,"X",H3:H34) -> 734 | I35: =SUMIF(D3:D34,"X",I3:I34) -> 102 | J35: =SUMIF(D3:D34,"X",J3:J34)/COUNTIF(D3:D34,"X") -> 0.290375 | K35: =SUMIF(E3:E34,"X",K3:K34) -> 915 | L35: =SUMIF(E3:E34,"X",L3:L34) -> 61 | M35: =SUMIF(E3:E34,"X",M3:M34) -> 63 | N35: =SUMIF(E3:E34,"X",N3:N34) -> 856 | O35: =SUMIF(E3:E34,"X",O3:O34)/COUNTIF(E3:E34,"X") -> 3.1866667 | P35: =SUMIF(E3:E34,"X",P3:P34)/COUNTIF(E3:E34,"X") -> 1.1733333
A36: Remaining | F36: =F2-F35 -> 354.8 | G36: =G2-G35 -> 75.7 | H36: =H2-H35 -> 300.25 | I36: =I2-I35 -> 68.25 | J36: =J2-J35 -> -0.014275 | K36: =K35-K2 -> -585 | L36: =L2-L35 -> 40.9 | M36: =M2-M35 -> 96.85 | N36: =N2-N35 -> 542.4 | O36: =O35-O2 -> -0.17583333 | P36: =P35-P2 -> -0.028166667
C39: CRACKHEADS TEAM CURRENTLY SHOWN (AS OF DEC 7TH, 2012) TO USE THE TOOL FOR YOURSELF, REPLACE THE PLAYERS WITH YOUR OWN NOTES: ENSURE THE "X" IS MARKED OFF BESIDE THE PLAYER WHO ARE STARTERS COPY AND PASTE THE BATTER OR PITCHER STATS WHERE YOU NEED TO MARK ADDITIONAL PITCHERS ON YOUR BENCH WITH THE "X" TO ADD UP TO 1500 IP

Sheet 2013 Projections
B1: RotoChamp.com - 11-14-2012
B4: Rank | C4: CATCHER | D4: Team | E4: AB | F4: R | G4: HR | H4: RBI | I4: SB | J4: AVG | K4: OBP | L4: SLG | M4: OPS | N4: Value
B5: 1 | C5: Buster Posey | D5: SF | E5: 520 | F5: 94 | G5: 23 | H5: 96 | I5: 2 | J5: 0.321 | K5: 0.401 | L5: 0.527 | M5: 0.928 | N5: 32
B6: 2 | C6: Carlos Santana | D6: CLE | E6: 520 | F6: 93 | G6: 21 | H6: 83 | I6: 5 | J6: 0.267 | K6: 0.385 | L6: 0.454 | M6: 0.839 | N6: 20
B7: 3 | C7: Yadier Molina | D7: STL | E7: 475 | F7: 75 | G7: 17 | H7: 78 | I7: 8 | J7: 0.316 | K7: 0.375 | L7: 0.48 | M7: 0.855 | N7: 19
B8: 4 | C8: Joe Mauer | D8: MIN | E8: 515 | F8: 89 | G8: 10 | H8: 74 | I8: 5 | J8: 0.303 | K8: 0.4 | L8: 0.431 | M8: 0.831 | N8: 16
B9: 5 | C9: Matt Wieters | D9: BAL | E9: 515 | F9: 80 | G9: 22 | H9: 77 | I9: 2 | J9: 0.278 | K9: 0.353 | L9: 0.462 | M9: 0.815 | N9: 15
B10: 6 | C10: Mike Napoli | D10: FA | E10: 455 | F10: 73 | G10: 31 | H10: 73 | I10: 2 | J10: 0.266 | K10: 0.372 | L10: 0.521 | M10: 0.893 | N10: 15
B11: 7 | C11: Jesus Montero | D11: SEA | E11: 520 | F11: 74 | G11: 18 | H11: 75 | I11: 0 | J11: 0.294 | K11: 0.339 | L11: 0.44 | M11: 0.779 | N11: 13
B12: 8 | C12: Wilin Rosario | D12: COL | E12: 370 | F12: 54 | G12: 29 | H12: 68 | I12: 3 | J12: 0.289 | K12: 0.336 | L12: 0.573 | M12: 0.909 | N12: 10
B13: 9 | C13: Brian McCann | D13: ATL | E13: 425 | F13: 67 | G13: 20 | H13: 67 | I13: 3 | J13: 0.273 | K13: 0.351 | L13: 0.452 | M13: 0.803 | N13: 7
B14: 10 | C14: Carlos Ruiz | D14: PHI | E14: 415 | F14: 66 | G14: 13 | H14: 66 | I14: 2 | J14: 0.296 | K14: 0.379 | L14: 0.465 | M14: 0.844 | N14: 6
B15: 11 | C15: Miguel Montero | D15: ARI | E15: 470 | F15: 73 | G15: 15 | H15: 66 | I15: 0 | J15: 0.257 | K15: 0.356 | L15: 0.419 | M15: 0.775 | N15: 3
B16: 12 | C16: A.J. Pierzynski | D16: FA | E16: 405 | F16: 53 | G16: 16 | H16: 59 | I16: 0 | J16: 0.299 | K16: 0.343 | L16: 0.474 | M16: 0.817 | N16: 1
... B71: 67 | C71: Brett Hayes | D71: KAN | E71: 130 | F71: 11 | G71: 2 | H71: 12 | I71: 1 | J71: 0.192 | K71: 0.234 | L71: 0.3 | M71: 0.534 | N71: -37
B74: Rank | C74: 1st BASEMAN | D74: Team | E74: AB | F74: R | G74: HR | H74: RBI | I74: SB | J74: AVG | K74: OBP | L74: SLG | M74: OPS | N74: Value
B75: 1 | C75: Prince Fielder | D75: DET | E75: 550 | F75: 111 | G75: 31 | H75: 110 | I75: 1 | J75: 0.316 | K75: 0.428 | L75: 0.545 | M75: 0.973 | N75: 39
B76: 2 | C76: Joey Votto | D76: CIN | E76: 560 | F76: 115 | G76: 25 | H76: 104 | I76: 8 | J76: 0.302 | K76: 0.432 | L76: 0.53 | M76: 0.962 | N76: 35
B77: 3 | C77: Albert Pujols | D77: LAA | E77: 575 | F77: 97 | G77: 31 | H77: 105 | I77: 7 | J77: 0.299 | K77: 0.371 | L77: 0.532 | M77: 0.903 | N77: 32
B78: 4 | C78: Edwin Encarnacion | D78: TOR | E78: 515 | F78: 96 | G78: 33 | H78: 94 | I78: 9 | J78: 0.293 | K78: 0.386 | L78: 0.536 | M78: 0.922 | N78: 29
B79: 5 | C79: Billy Butler | D79: KAN | E79: 600 | F79: 98 | G79: 25 | H79: 107 | I79: 2 | J79: 0.303 | K79: 0.371 | L79: 0.493 | M79: 0.865 | N79: 29
B80: 6 | C80: Buster Posey | D80: SF | E80: 520 | F80: 94 | G80: 23 | H80: 96 | I80: 2 | J80: 0.321 | K80: 0.401 | L80: 0.527 | M80: 0.928 | N80: 32
B81: 7 | C81: Mark Teixeira | D81: NYY | E81: 520 | F81: 92 | G81: 29 | H81: 101 | I81: 3 | J81: 0.283 | K81: 0.374 | L81: 0.508 | M81: 0.882 | N81: 24
B82: 8 | C82: Freddie Freeman | D82: ATL | E82: 560 | F82: 93 | G82: 25 | H82: 101 | I82: 2 | J82: 0.288 | K82: 0.371 | L82: 0.486 | M82: 0.856 | N82: 23
B83: 9 | C83: Anthony Rizzo | D83: CHC | E83: 540 | F83: 89 | G83: 25 | H83: 88 | I83: 7 | J83: 0.298 | K83: 0.368 | L83: 0.489 | M83: 0.857 | N83: 21
B84: 10 | C84: Paul Konerko | D84: CWS | E84: 525 | F84: 89 | G84: 26 | H84: 92 | I84: 0 | J84: 0.29 | K84: 0.372 | L84: 0.482 | M84: 0.854 | N84: 19
B85: 11 | C85: Paul Goldschmidt | D85: ARI | E85: 520 | F85: 85 | G85: 21 | H85: 90 | I85: 16 | J85: 0.279 | K85: 0.362 | L85: 0.487 | M85: 0.849 | N85: 18
B86: 12 | C86: Adrian Gonzalez | D86: LAD | E86: 585 | F86: 89 | G86: 21 | H86: 96 | I86: 1 | J86: 0.282 | K86: 0.351 | L86: 0.463 | M86: 0.814 | N86: 15
... B161: 87 | C161: Eric Hinske | D161: FA | E161: 100 | F161: 11 | G161: 3 | H161: 11 | I161: 0 | J161: 0.22 | K161: 0.297 | L161: 0.36 | M161: 0.657 | N161: -43
B164: Rank | C164: 2nd BASEMAN | D164: Team | E164: AB | F164: R | G164: HR | H164: RBI | I164: SB | J164: AVG | K164: OBP | L164: SLG | M164: OPS | N164: Value
B165: 1 | C165: Robinson Cano | D165: NYY | E165: 605 | F165: 104 | G165: 30 | H165: 122 | I165: 3 | J165: 0.322 | K165: 0.384 | L165: 0.555 | M165: 0.94 | N165: 42
B166: 2 | C166: Ben Zobrist | D166: TB | E166: 545 | F166: 96 | G166: 19 | H166: 90 | I166: 16 | J166: 0.284 | K166: 0.389 | L166: 0.481 | M166: 0.869 | N166: 23
B167: 3 | C167: Ian Kinsler | D167: TEX | E167: 595 | F167: 103 | G167: 21 | H167: 64 | I167: 23 | J167: 0.281 | K167: 0.361 | L167: 0.461 | M167: 0.822 | N167: 22
B168: 4 | C168: Dustin Pedroia | D168: BOS | E168: 530 | F168: 86 | G168: 15 | H168: 90 | I168: 19 | J168: 0.306 | K168: 0.376 | L168: 0.468 | M168: 0.844 | N168: 22
B169: 5 | C169: Jose Altuve | D169: HOU | E169: 570 | F169: 90 | G169: 8 | H169: 51 | I169: 33 | J169: 0.311 | K169: 0.36 | L169: 0.425 | M169: 0.784 | N169: 16
B170: 6 | C170: Jason Kipnis | D170: CLE | E170: 540 | F170: 87 | G170: 15 | H170: 63 | I170: 25 | J170: 0.285 | K170: 0.364 | L170: 0.424 | M170: 0.788 | N170: 15
B171: 7 | C171: Brandon Phillips | D171: CIN | E171: 560 | F171: 89 | G171: 17 | H171: 59 | I171: 12 | J171: 0.298 | K171: 0.346 | L171: 0.45 | M171: 0.796 | N171: 13
B172: 8 | C172: Aaron Hill | D172: ARI | E172: 530 | F172: 82 | G172: 20 | H172: 70 | I172: 12 | J172: 0.285 | K172: 0.344 | L172: 0.477 | M172: 0.822 | N172: 13
B173: 9 | C173: Martin Prado | D173: ATL | E173: 570 | F173: 87 | G173: 11 | H173: 72 | I173: 9 | J173: 0.302 | K173: 0.358 | L173: 0.437 | M173: 0.795 | N173: 12
B174: 10 | C174: Kyle Seager | D174: SEA | E174: 550 | F174: 78 | G174: 18 | H174: 75 | I174: 11 | J174: 0.276 | K174: 0.336 | L174: 0.44 | M174: 0.776 | N174: 10
...
